BEGIN:VCALENDAR
VERSION:2.0
PRODID:-//Chautauqua County Events, Local Businesses &amp; Resources | My CHQ - ECPv6.15.20//NONSGML v1.0//EN
CALSCALE:GREGORIAN
METHOD:PUBLISH
X-ORIGINAL-URL:https://mychq.org
X-WR-CALDESC:Events for Chautauqua County Events, Local Businesses &amp; Resources | My CHQ
REFRESH-INTERVAL;VALUE=DURATION:PT1H
X-Robots-Tag:noindex
X-PUBLISHED-TTL:PT1H
BEGIN:VTIMEZONE
TZID:America/New_York
BEGIN:DAYLIGHT
TZOFFSETFROM:-0500
TZOFFSETTO:-0400
TZNAME:EDT
DTSTART:20250309T070000
END:DAYLIGHT
BEGIN:STANDARD
TZOFFSETFROM:-0400
TZOFFSETTO:-0500
TZNAME:EST
DTSTART:20251102T060000
END:STANDARD
BEGIN:DAYLIGHT
TZOFFSETFROM:-0500
TZOFFSETTO:-0400
TZNAME:EDT
DTSTART:20260308T070000
END:DAYLIGHT
BEGIN:STANDARD
TZOFFSETFROM:-0400
TZOFFSETTO:-0500
TZNAME:EST
DTSTART:20261101T060000
END:STANDARD
BEGIN:DAYLIGHT
TZOFFSETFROM:-0500
TZOFFSETTO:-0400
TZNAME:EDT
DTSTART:20270314T070000
END:DAYLIGHT
BEGIN:STANDARD
TZOFFSETFROM:-0400
TZOFFSETTO:-0500
TZNAME:EST
DTSTART:20271107T060000
END:STANDARD
END:VTIMEZONE
BEGIN:VEVENT
DTSTART;TZID=America/New_York:20260509T100000
DTEND;TZID=America/New_York:20260509T110000
DTSTAMP:20260424T060049
CREATED:20260413T224618Z
LAST-MODIFIED:20260413T224618Z
UID:10028094-1778320800-1778324400@mychq.org
SUMMARY:It's For The Birds
DESCRIPTION:Join us for a special presentation in celebration of International Migratory Bird Day! Our Event is on Saturday\, May 9\, 2026 starting at 10:00 am. \nEnvironmental Educator Craig Thompson will lead an engaging talk about the history and importance of this global event\, taking place on May 10\, 2026. Learn how migratory birds impact our everyday lives and discover simple\, practical ways to support the birds right in your own backyard. \nThis family-friendly program is open to all ages! Participants will also get hands-on by creating nesting material bags to help local birds thrive. \nPlus\, don’t miss your chance to win one of six beautiful bluebird houses\, handcrafted by Jerry Pischera! \nCome learn\, create\, and celebrate our feathered friends with us!
URL:https://mychq.org/event/its-for-the-birds/
LOCATION:Falconer Public Library\, 101 W Main St\, Falconer\, 14733\, United States
CATEGORIES:Library
ATTACH;FMTTYPE=image/jpeg:https://mychq.org/wp-content/uploads/2026/04/669199289_1230606175931370_2609965725418774609_n.jpg
ORGANIZER;CN="Falconer Public Library":MAILTO:director@falconerlibrary.org
END:VEVENT
END:VCALENDAR