BEGIN:VCALENDAR
VERSION:2.0
PRODID:-//My CHQ - ECPv6.15.20//NONSGML v1.0//EN
CALSCALE:GREGORIAN
METHOD:PUBLISH
X-WR-CALNAME:My CHQ
X-ORIGINAL-URL:https://mychq.org
X-WR-CALDESC:Events for My CHQ
REFRESH-INTERVAL;VALUE=DURATION:PT1H
X-Robots-Tag:noindex
X-PUBLISHED-TTL:PT1H
BEGIN:VTIMEZONE
TZID:America/New_York
BEGIN:DAYLIGHT
TZOFFSETFROM:-0500
TZOFFSETTO:-0400
TZNAME:EDT
DTSTART:20240310T070000
END:DAYLIGHT
BEGIN:STANDARD
TZOFFSETFROM:-0400
TZOFFSETTO:-0500
TZNAME:EST
DTSTART:20241103T060000
END:STANDARD
BEGIN:DAYLIGHT
TZOFFSETFROM:-0500
TZOFFSETTO:-0400
TZNAME:EDT
DTSTART:20250309T070000
END:DAYLIGHT
BEGIN:STANDARD
TZOFFSETFROM:-0400
TZOFFSETTO:-0500
TZNAME:EST
DTSTART:20251102T060000
END:STANDARD
BEGIN:DAYLIGHT
TZOFFSETFROM:-0500
TZOFFSETTO:-0400
TZNAME:EDT
DTSTART:20260308T070000
END:DAYLIGHT
BEGIN:STANDARD
TZOFFSETFROM:-0400
TZOFFSETTO:-0500
TZNAME:EST
DTSTART:20261101T060000
END:STANDARD
BEGIN:DAYLIGHT
TZOFFSETFROM:-0500
TZOFFSETTO:-0400
TZNAME:EDT
DTSTART:20270314T070000
END:DAYLIGHT
BEGIN:STANDARD
TZOFFSETFROM:-0400
TZOFFSETTO:-0500
TZNAME:EST
DTSTART:20271107T060000
END:STANDARD
END:VTIMEZONE
BEGIN:VEVENT
DTSTART;TZID=America/New_York:20260414T160000
DTEND;TZID=America/New_York:20260414T170000
DTSTAMP:20260422T044822
CREATED:20260413T224453Z
LAST-MODIFIED:20260413T224453Z
UID:10028092-1776182400-1776186000@mychq.org
SUMMARY:Falconer High School Art Show Reception
DESCRIPTION:Here’s a polished Facebook caption you can use: \n Join us in celebrating creativity at Falconer High School’s Art Show Reception! \nCome support our talented students from Ms. Foulk’s Drawing & Painting and Advanced Art classes as they showcase their incredible work. From vibrant paintings to imaginative designs\, there’s something for everyone to enjoy! \n Tuesday\, April 14 4:00–5:00 PM Falconer Public Library \n Can’t make the reception? No worries—the show will be on display all month long!
URL:https://mychq.org/event/falconer-high-school-art-show-reception/
LOCATION:Falconer Public Library\, 101 W Main St\, Falconer\, 14733\, United States
CATEGORIES:Library
ATTACH;FMTTYPE=image/jpeg:https://mychq.org/wp-content/uploads/2026/04/660422460_1226034813055173_9194788063326485614_n.jpg
ORGANIZER;CN="Falconer Public Library":MAILTO:director@falconerlibrary.org
END:VEVENT
BEGIN:VEVENT
DTSTART;TZID=America/New_York:20251101T100000
DTEND;TZID=America/New_York:20251101T120000
DTSTAMP:20260422T044822
CREATED:20251016T162630Z
LAST-MODIFIED:20251016T162630Z
UID:10022491-1761991200-1761998400@mychq.org
SUMMARY:National Author's Day @ Falconer Public Library
DESCRIPTION:Come meet local authors TJ Buck & Dawn Swanson!
URL:https://mychq.org/event/national-authors-day-falconer-public-library/
LOCATION:Falconer Public Library\, 101 W Main St\, Falconer\, 14733\, United States
CATEGORIES:Library
ATTACH;FMTTYPE=image/jpeg:https://mychq.org/wp-content/uploads/2025/10/559169135_1093606612964661_2102021866490306682_n.jpg
ORGANIZER;CN="Falconer Public Library":MAILTO:director@falconerlibrary.org
END:VEVENT
BEGIN:VEVENT
DTSTART;TZID=America/New_York:20250809T090000
DTEND;TZID=America/New_York:20250809T120000
DTSTAMP:20260422T044822
CREATED:20250723T023246Z
LAST-MODIFIED:20250723T023246Z
UID:10019879-1754730000-1754740800@mychq.org
SUMMARY:Falconer Library Book Sale
DESCRIPTION:Come by and take a look through our DVDs\, books\, and puzzles! This is a HUGE fundraiser for the library!
URL:https://mychq.org/event/falconer-library-book-sale/2025-08-09/
LOCATION:Falconer Public Library\, 101 W Main St\, Falconer\, 14733\, United States
CATEGORIES:Library
ATTACH;FMTTYPE=image/jpeg:https://mychq.org/wp-content/uploads/2025/07/518362300_1026388389686484_583587193950950798_n.jpg
ORGANIZER;CN="Falconer Public Library":MAILTO:director@falconerlibrary.org
END:VEVENT
END:VCALENDAR