BEGIN:VCALENDAR
VERSION:2.0
PRODID:-//My CHQ - ECPv6.15.20//NONSGML v1.0//EN
CALSCALE:GREGORIAN
METHOD:PUBLISH
X-WR-CALNAME:My CHQ
X-ORIGINAL-URL:https://mychq.org
X-WR-CALDESC:Events for My CHQ
REFRESH-INTERVAL;VALUE=DURATION:PT1H
X-Robots-Tag:noindex
X-PUBLISHED-TTL:PT1H
BEGIN:VTIMEZONE
TZID:America/New_York
BEGIN:DAYLIGHT
TZOFFSETFROM:-0500
TZOFFSETTO:-0400
TZNAME:EDT
DTSTART:20240310T070000
END:DAYLIGHT
BEGIN:STANDARD
TZOFFSETFROM:-0400
TZOFFSETTO:-0500
TZNAME:EST
DTSTART:20241103T060000
END:STANDARD
BEGIN:DAYLIGHT
TZOFFSETFROM:-0500
TZOFFSETTO:-0400
TZNAME:EDT
DTSTART:20250309T070000
END:DAYLIGHT
BEGIN:STANDARD
TZOFFSETFROM:-0400
TZOFFSETTO:-0500
TZNAME:EST
DTSTART:20251102T060000
END:STANDARD
BEGIN:DAYLIGHT
TZOFFSETFROM:-0500
TZOFFSETTO:-0400
TZNAME:EDT
DTSTART:20260308T070000
END:DAYLIGHT
BEGIN:STANDARD
TZOFFSETFROM:-0400
TZOFFSETTO:-0500
TZNAME:EST
DTSTART:20261101T060000
END:STANDARD
END:VTIMEZONE
BEGIN:VEVENT
DTSTART;TZID=America/New_York:20250912T120000
DTEND;TZID=America/New_York:20250912T170000
DTSTAMP:20260423T020318
CREATED:20250821T022736Z
LAST-MODIFIED:20250821T022736Z
UID:10020835-1757678400-1757696400@mychq.org
SUMMARY:Drake's Journey Blood Drive
DESCRIPTION:Join us at the Mayville VFW on the ConnectLife Bus! Check the poster image to pre-register.
URL:https://mychq.org/event/drakes-journey-blood-drive-2/
LOCATION:Mayville VFW Post 8647\, 10 Memorial Dr\, Mayville\, 14757\, United States
CATEGORIES:Blood Drive
ATTACH;FMTTYPE=image/jpeg:https://mychq.org/wp-content/uploads/2025/08/536273980_25053092577625804_3338905120909352082_n.jpg
ORGANIZER;CN="Drake's Journey":MAILTO:Mckane36@gmail.com
END:VEVENT
BEGIN:VEVENT
DTSTART;TZID=America/New_York:20250719T090000
DTEND;TZID=America/New_York:20250719T170000
DTSTAMP:20260423T020318
CREATED:20250502T155726Z
LAST-MODIFIED:20250616T201443Z
UID:10016770-1752915600-1752944400@mychq.org
SUMMARY:Drake's Journey 5th Annual Motorcycle Ride
DESCRIPTION:Proceeds of the event go to helping pediatric cancer families at Oishei Children’s Hospital.
URL:https://mychq.org/event/drakes-journey-5th-annual-motorcycle-ride/
LOCATION:Falconer Power Sports\, 1951 E Main St\, Falconer\, 14733\, United States
CATEGORIES:Fundraising
ATTACH;FMTTYPE=image/jpeg:https://mychq.org/wp-content/uploads/2025/05/507679552_24519361114332289_4798101224140124994_n.jpg
ORGANIZER;CN="Drake's Journey":MAILTO:Mckane36@gmail.com
END:VEVENT
END:VCALENDAR