BEGIN:VCALENDAR
VERSION:2.0
PRODID:-//Chautauqua County Events, Local Businesses &amp; Resources | My CHQ - ECPv6.15.20//NONSGML v1.0//EN
CALSCALE:GREGORIAN
METHOD:PUBLISH
X-WR-CALNAME:Chautauqua County Events, Local Businesses &amp; Resources | My CHQ
X-ORIGINAL-URL:https://mychq.org
X-WR-CALDESC:Events for Chautauqua County Events, Local Businesses &amp; Resources | My CHQ
REFRESH-INTERVAL;VALUE=DURATION:PT1H
X-Robots-Tag:noindex
X-PUBLISHED-TTL:PT1H
BEGIN:VTIMEZONE
TZID:America/New_York
BEGIN:DAYLIGHT
TZOFFSETFROM:-0500
TZOFFSETTO:-0400
TZNAME:EDT
DTSTART:20240310T070000
END:DAYLIGHT
BEGIN:STANDARD
TZOFFSETFROM:-0400
TZOFFSETTO:-0500
TZNAME:EST
DTSTART:20241103T060000
END:STANDARD
BEGIN:DAYLIGHT
TZOFFSETFROM:-0500
TZOFFSETTO:-0400
TZNAME:EDT
DTSTART:20250309T070000
END:DAYLIGHT
BEGIN:STANDARD
TZOFFSETFROM:-0400
TZOFFSETTO:-0500
TZNAME:EST
DTSTART:20251102T060000
END:STANDARD
BEGIN:DAYLIGHT
TZOFFSETFROM:-0500
TZOFFSETTO:-0400
TZNAME:EDT
DTSTART:20260308T070000
END:DAYLIGHT
BEGIN:STANDARD
TZOFFSETFROM:-0400
TZOFFSETTO:-0500
TZNAME:EST
DTSTART:20261101T060000
END:STANDARD
END:VTIMEZONE
BEGIN:VEVENT
DTSTART;TZID=America/New_York:20251208T180000
DTEND;TZID=America/New_York:20251208T200000
DTSTAMP:20260425T175226
CREATED:20251117T161423Z
LAST-MODIFIED:20251117T161423Z
UID:10023054-1765216800-1765224000@mychq.org
SUMMARY:CR2T Holiday Happy Hour
DESCRIPTION:Please join Chautauqua Rails to Trails for a Holiday Happy Hour at Big Inlet Brewing in Mayville\, NY on Monday\, December 8th from 6:00 to 8:00 PM. Come to the area’s coolest brewery in your most festive gear and bring your friends to share some holiday beer! There will be live local Holiday music with Bill Ward and a host of special guests; pizza\, delicious cookies; raffles; a 50-50 drawing; and a cash bar. \nPlease note that there is no cost to join the event! \nMusical guests include:Bill WardBob HenryMarcy BirdJohn Savage…and more! \nSupport your local trails!
URL:https://mychq.org/event/cr2t-holiday-happy-hour/
LOCATION:Big Inlet Brewing\, 6169 Elm Flat Rd.\, Mayville\, 14757\, United States
CATEGORIES:Adults Only & Parties
ATTACH;FMTTYPE=image/jpeg:https://mychq.org/wp-content/uploads/2025/11/581292763_1293039136199209_2129865418336802684_n.jpg
ORGANIZER;CN="Chautauqua Rails to Trails":MAILTO:crtt@chaurtt.org
END:VEVENT
END:VCALENDAR