BEGIN:VCALENDAR
VERSION:2.0
PRODID:-//My CHQ - ECPv6.15.20//NONSGML v1.0//EN
CALSCALE:GREGORIAN
METHOD:PUBLISH
X-ORIGINAL-URL:https://mychq.org
X-WR-CALDESC:Events for My CHQ
REFRESH-INTERVAL;VALUE=DURATION:PT1H
X-Robots-Tag:noindex
X-PUBLISHED-TTL:PT1H
BEGIN:VTIMEZONE
TZID:America/New_York
BEGIN:DAYLIGHT
TZOFFSETFROM:-0500
TZOFFSETTO:-0400
TZNAME:EDT
DTSTART:20250309T070000
END:DAYLIGHT
BEGIN:STANDARD
TZOFFSETFROM:-0400
TZOFFSETTO:-0500
TZNAME:EST
DTSTART:20251102T060000
END:STANDARD
BEGIN:DAYLIGHT
TZOFFSETFROM:-0500
TZOFFSETTO:-0400
TZNAME:EDT
DTSTART:20260308T070000
END:DAYLIGHT
BEGIN:STANDARD
TZOFFSETFROM:-0400
TZOFFSETTO:-0500
TZNAME:EST
DTSTART:20261101T060000
END:STANDARD
BEGIN:DAYLIGHT
TZOFFSETFROM:-0500
TZOFFSETTO:-0400
TZNAME:EDT
DTSTART:20270314T070000
END:DAYLIGHT
BEGIN:STANDARD
TZOFFSETFROM:-0400
TZOFFSETTO:-0500
TZNAME:EST
DTSTART:20271107T060000
END:STANDARD
END:VTIMEZONE
BEGIN:VEVENT
DTSTART;TZID=America/New_York:20260425T160000
DTEND;TZID=America/New_York:20260425T190000
DTSTAMP:20260421T133829
CREATED:20260317T164948Z
LAST-MODIFIED:20260317T164948Z
UID:10027306-1777132800-1777143600@mychq.org
SUMMARY:Derek Davis & Angel Busch LIVE @ Lakewood American Legion
DESCRIPTION:ANNOUNCING….. \nThe Biggest Party of the year!Let us Welcome “Derek Davis and Angel Busch”Both are “Chautauqua’s Got Talent Winners”Come for our Membership joining party!LIVESaturday April 25th 2026Lakewood Legion Post 1286174 Chautauqua AvenueLakewood\, NY 147504:00pm-7:00pmFREE NO COVERALL AGES!!
URL:https://mychq.org/event/derek-davis-angel-busch-live-lakewood-american-legion/
LOCATION:Lakewood Legion\, 174 Chautauqua Ave\, Lakewood\, 14750\, United States
CATEGORIES:Music & Entertainment
ATTACH;FMTTYPE=image/jpeg:https://mychq.org/wp-content/uploads/2026/03/653264377_1237961751834586_9051544305725245826_n.jpg
ORGANIZER;CN="Blue Moon Management":MAILTO:bluemoonmusic@windstream.net
END:VEVENT
BEGIN:VEVENT
DTSTART;TZID=America/New_York:20260502T210000
DTEND;TZID=America/New_York:20260502T235900
DTSTAMP:20260421T133829
CREATED:20260312T201810Z
LAST-MODIFIED:20260312T201810Z
UID:10027210-1777755600-1777766340@mychq.org
SUMMARY:Slim & Red LIVE @ Good Time Saloon
DESCRIPTION:ANNOUNCING……. \n“Slim & Red”LIVESaturday May 2nd 2026Good Time Saloon590 East Fairmount AvenueJamestown\,NY 14701Free-21+9:00pm-12:00am
URL:https://mychq.org/event/slim-red-live-good-time-saloon/
LOCATION:Good Time Saloon\, 590 Fairmount Ave\, Jamestown\, 14701\, United States
CATEGORIES:Music & Entertainment
ATTACH;FMTTYPE=image/jpeg:https://mychq.org/wp-content/uploads/2026/03/648835773_1537156891533435_5406386213875685072_n.jpg
ORGANIZER;CN="Blue Moon Management":MAILTO:bluemoonmusic@windstream.net
END:VEVENT
BEGIN:VEVENT
DTSTART;TZID=America/New_York:20260515T183000
DTEND;TZID=America/New_York:20260515T230000
DTSTAMP:20260421T133829
CREATED:20260415T155833Z
LAST-MODIFIED:20260415T155833Z
UID:10028156-1778869800-1778886000@mychq.org
SUMMARY:Face Down in High Water LIVE @ The Cooler Bar & Grille
DESCRIPTION:ANNOUNCEMENT…. “Face Down in High H20” 25th year reunion show with very Special Guest “Charity Nuse Duo” featuring Charity Nuse (Formerly of Big Leg Emma) and John Long’s 71st Birthday Bash has been moved to the Stage at the Cooler Bar & Grille 114 West Main Street\, Sherman\, NY 14781\, The Cooler will shut down for normal business at 5:00pm on Friday May 15th and open at doors at 6:30pm. Get your tickets while you can before it is Sold Out!!
URL:https://mychq.org/event/face-down-in-high-water-live-the-cooler-bar-grille/
LOCATION:The Cooler Bar & Grille\, 114 W Main St\, Sherman\, 14781\, United States
CATEGORIES:Music & Entertainment
ATTACH;FMTTYPE=image/jpeg:https://mychq.org/wp-content/uploads/2026/04/671281671_10164515236135901_5636947402180948860_n.jpg
ORGANIZER;CN="Blue Moon Management":MAILTO:bluemoonmusic@windstream.net
END:VEVENT
BEGIN:VEVENT
DTSTART;TZID=America/New_York:20260515T190000
DTEND;TZID=America/New_York:20260515T233000
DTSTAMP:20260421T133829
CREATED:20260212T213215Z
LAST-MODIFIED:20260212T213215Z
UID:10024906-1778871600-1778887800@mychq.org
SUMMARY:Face Down in High H2O wsg Charity Nuse!
DESCRIPTION:ANNOUNCING\,\,\,\,\,\, \nFriday May 15th 2026Reunion & John Long’s 71st Birthday Bash! \nStanley Hose Co.Sherman Fire Hall122 Park Street.Sherman\, NY 14781 \nDoors opn at 7:00pm \nTickets are $15 at the door only(you will be given a wrist band)(must have a wrist band)** this is a 21+ show \n8:00pm Charity Nuse & Matt Gronquist9:30pm Face Down in High Water \nSherman Hotel will be selling adult beveragesFor any questions or concers please call(716) 487-6999 or (716) 487-7791
URL:https://mychq.org/event/face-down-in-high-h2o-wsg-charity-nuse/
LOCATION:Stanley Hose Company\, 122 Park St\, Sherman\, 14781\, United States
CATEGORIES:Music & Entertainment
ATTACH;FMTTYPE=image/jpeg:https://mychq.org/wp-content/uploads/2026/02/633400090_1512778320637959_2482167950885718607_n.jpg
ORGANIZER;CN="Blue Moon Management":MAILTO:bluemoonmusic@windstream.net
END:VEVENT
BEGIN:VEVENT
DTSTART;TZID=America/New_York:20260516T130000
DTEND;TZID=America/New_York:20260516T210000
DTSTAMP:20260421T133829
CREATED:20260306T213907Z
LAST-MODIFIED:20260306T213907Z
UID:10026987-1778936400-1778965200@mychq.org
SUMMARY:Public Day with Porcelain Bus Drivers and Mojo Dogs @ The Empty Pint
DESCRIPTION:ANNOUNCING….. \nPublic Day 2026! \nFeaturing “Porcelain Busdrivers”+”MoJo Dogs”LIVESaturday May 16th 2026Stage at Southern Tier Brewing2072 Stoneman CircleLakewood\, NY 147501:00pm-4:00pm MoJo Dogs6:00pm-9:00pm Porcelain BusdriverFree All AgesFamily + Pet Friendly
URL:https://mychq.org/event/public-day-with-porcelain-bus-drivers-and-mojo-dogs-the-empty-pint/
LOCATION:Southern Tier Brewing Company – The Empty Pint\, 2072 Stoneman Cir.\, Lakewood\, NY\, 14750\, United States
CATEGORIES:Music & Entertainment
ATTACH;FMTTYPE=image/jpeg:https://mychq.org/wp-content/uploads/2026/03/646393001_1532011405381317_3505801514270451330_n.jpg
ORGANIZER;CN="Blue Moon Management":MAILTO:bluemoonmusic@windstream.net
END:VEVENT
BEGIN:VEVENT
DTSTART;TZID=America/New_York:20260522T180000
DTEND;TZID=America/New_York:20260522T210000
DTSTAMP:20260421T133829
CREATED:20260304T170556Z
LAST-MODIFIED:20260304T170556Z
UID:10026921-1779472800-1779483600@mychq.org
SUMMARY:Ultraviolet LIVE @ The Empty Pint
DESCRIPTION:ANNOUNING…. \n” ULTRAVIOLET” (Buffalo Trio playing your favorite hip hop\, popsongs from the 90’s & 00’s) \nFriday May 22nd 2026Stage at Southern Tier Brewing2072 Stoneman CircleLakewood\, NY 147506:00pm-9:00pmAll Ages-FreeFamily and Pet Friendly
URL:https://mychq.org/event/ultraviolet-live-the-empty-pint/
LOCATION:Southern Tier Brewing Company – The Empty Pint\, 2072 Stoneman Cir.\, Lakewood\, NY\, 14750\, United States
CATEGORIES:Music & Entertainment
ATTACH;FMTTYPE=image/jpeg:https://mychq.org/wp-content/uploads/2026/03/645172654_1530199092229215_7869705244178433826_n.jpg
ORGANIZER;CN="Blue Moon Management":MAILTO:bluemoonmusic@windstream.net
END:VEVENT
BEGIN:VEVENT
DTSTART;TZID=America/New_York:20260524T160000
DTEND;TZID=America/New_York:20260524T190000
DTSTAMP:20260421T133829
CREATED:20260304T170508Z
LAST-MODIFIED:20260304T170508Z
UID:10026920-1779638400-1779649200@mychq.org
SUMMARY:Kickstart Rumble LIVE @ The Empty Pint
DESCRIPTION:ANNOUNCING… \n“KICKSTART RUMBLE”LIVESunday May 24th 2026Stage at Southern Tier Brewing2072 Stoneman CircleLakewood\, NY 147504:00pm-7:00pmFree-All AgesFamily and Pet Freindly
URL:https://mychq.org/event/kickstart-rumble-live-the-empty-pint/
LOCATION:Southern Tier Brewing Company – The Empty Pint\, 2072 Stoneman Cir.\, Lakewood\, NY\, 14750\, United States
CATEGORIES:Music & Entertainment
ATTACH;FMTTYPE=image/jpeg:https://mychq.org/wp-content/uploads/2026/03/645470786_1530206788895112_609373078263927817_n.jpg
ORGANIZER;CN="Blue Moon Management":MAILTO:bluemoonmusic@windstream.net
END:VEVENT
BEGIN:VEVENT
DTSTART;TZID=America/New_York:20260607T123000
DTEND;TZID=America/New_York:20260607T193000
DTSTAMP:20260421T133829
CREATED:20260212T213011Z
LAST-MODIFIED:20260212T213011Z
UID:10024905-1780835400-1780860600@mychq.org
SUMMARY:United Way Day at The Empty Pint!
DESCRIPTION:ANNOUNCING….. \nSunday June 7th 2026United Way Day at Stage at Southern Tier Brewing2072 Stoneman CircleLakewood\, NY 14750 \n12:30pm-1:30pm Slim & Red2:00pm-3:00pm Derek Davis & Angel Marie3:30pm-4:30pm Porcelain Busdrivers5:00pm-6:00pm Charity Nuse (and her band)6:30pm-7:30pm Vinny & the Mudflaps \n50/50’s\, Raffles LIVE MUSIC ALL DAY LONG! \nAll Ages-Family-Pet Friendly
URL:https://mychq.org/event/united-way-day-at-the-empty-pint/
LOCATION:Southern Tier Brewing Company – The Empty Pint\, 2072 Stoneman Cir.\, Lakewood\, NY\, 14750\, United States
CATEGORIES:Music & Entertainment
ATTACH;FMTTYPE=image/jpeg:https://mychq.org/wp-content/uploads/2026/02/615971449_1492662252649566_5881482636662291269_n.jpg
ORGANIZER;CN="Blue Moon Management":MAILTO:bluemoonmusic@windstream.net
END:VEVENT
BEGIN:VEVENT
DTSTART;TZID=America/New_York:20260621T170000
DTEND;TZID=America/New_York:20260621T200000
DTSTAMP:20260421T133829
CREATED:20260413T193654Z
LAST-MODIFIED:20260413T193654Z
UID:10028056-1782061200-1782072000@mychq.org
SUMMARY:Father's Day Patio Party @ Group Ther-Happy
DESCRIPTION:ANNOUNCING……. \nFather’s Day Party on the Patiowith“Bugeye & the Flashbacks”(playing the BEST of the 50’s 60’s and the 70’s)LIVESunday June 21st 2026Group Ther-Happy103 Chautauqua AvenueLakewood\, NY 147505:00pm-8:00pmAll Ages-Family Friendly
URL:https://mychq.org/event/fathers-day-patio-party-group-ther-happy/
LOCATION:Group Ther-Happy\, 103 Chautauqua Ave\, Lakewood\, 14750\, United States
CATEGORIES:Music & Entertainment
ATTACH;FMTTYPE=image/jpeg:https://mychq.org/wp-content/uploads/2026/04/668419997_1562014182381039_7619786737464145037_n.jpg
ORGANIZER;CN="Blue Moon Management":MAILTO:bluemoonmusic@windstream.net
END:VEVENT
BEGIN:VEVENT
DTSTART;TZID=America/New_York:20260626T180000
DTEND;TZID=America/New_York:20260626T210000
DTSTAMP:20260421T133829
CREATED:20260310T195628Z
LAST-MODIFIED:20260310T195628Z
UID:10027184-1782496800-1782507600@mychq.org
SUMMARY:"Tequila Sunrise" (Eagles Tribute Band) LIVE @ The Empty Pint
DESCRIPTION:ANNOUNCING…. \n“Tequila Sunrise” (Eagles Tribute Band)Friday June 26th 2026Stage at Southern Tier Brewing2072 Stoneman CircleLakewood\, NY 147506:00pm-9:00pmFree-All AgesFamily and Pet Friendly
URL:https://mychq.org/event/tequila-sunrise-eagles-tribute-band-live-the-empty-pint/
LOCATION:Southern Tier Brewing Company – The Empty Pint\, 2072 Stoneman Cir.\, Lakewood\, NY\, 14750\, United States
CATEGORIES:Music & Entertainment
ATTACH;FMTTYPE=image/jpeg:https://mychq.org/wp-content/uploads/2026/03/642948013_1530247598891031_6961016417967282140_n.jpg
ORGANIZER;CN="Blue Moon Management":MAILTO:bluemoonmusic@windstream.net
END:VEVENT
BEGIN:VEVENT
DTSTART;TZID=America/New_York:20260702T180000
DTEND;TZID=America/New_York:20260702T210000
DTSTAMP:20260421T133829
CREATED:20260310T195805Z
LAST-MODIFIED:20260310T195805Z
UID:10027185-1783015200-1783026000@mychq.org
SUMMARY:In Crowd LIVE @ The Empty Pint
DESCRIPTION:ANNOUNCING….. \n“IN CROWD”LIVEThursday July 2nd 2026Stage at Southern Tier Brewing2072 Stoneman CircleLakewood\, NY 147506:00pm-9:00pmFree-All AgesFamily-Pet Friendly
URL:https://mychq.org/event/in-crowd-live-the-empty-pint/
LOCATION:Southern Tier Brewing Company – The Empty Pint\, 2072 Stoneman Cir.\, Lakewood\, NY\, 14750\, United States
CATEGORIES:Music & Entertainment
ATTACH;FMTTYPE=image/jpeg:https://mychq.org/wp-content/uploads/2026/03/641702404_1530317558884035_8749131861981211673_n.jpg
ORGANIZER;CN="Blue Moon Management":MAILTO:bluemoonmusic@windstream.net
END:VEVENT
BEGIN:VEVENT
DTSTART;TZID=America/New_York:20260704T130000
DTEND;TZID=America/New_York:20260704T210000
DTSTAMP:20260421T133829
CREATED:20260413T193735Z
LAST-MODIFIED:20260413T193735Z
UID:10028057-1783170000-1783198800@mychq.org
SUMMARY:4th of July Celebration @ Group Ther-Happy
DESCRIPTION:ANNOUNCING….. \nGroup Ther-Happy 4th of July CelebrationSaturday 4th of July 2026Group Ther-Happy103 Chautauqua AvenueLakewood\, NY 147501:00pm-4:00pm- Black Widow Duo6:00pm-9:00pm- D.J. Felix (Synergy Entertainment)Free-All Ages-Family Friendy\, Food Fun and Family!
URL:https://mychq.org/event/4th-of-july-celebration-group-ther-happy/
LOCATION:Group Ther-Happy\, 103 Chautauqua Ave\, Lakewood\, 14750\, United States
CATEGORIES:Music & Entertainment
ATTACH;FMTTYPE=image/jpeg:https://mychq.org/wp-content/uploads/2026/04/662937262_1560529765862814_4774419016003721220_n.jpg
ORGANIZER;CN="Blue Moon Management":MAILTO:bluemoonmusic@windstream.net
END:VEVENT
BEGIN:VEVENT
DTSTART;TZID=America/New_York:20260704T180000
DTEND;TZID=America/New_York:20260704T210000
DTSTAMP:20260421T133829
CREATED:20260310T195912Z
LAST-MODIFIED:20260310T195912Z
UID:10027186-1783188000-1783198800@mychq.org
SUMMARY:Johnny Bauer Duo LIVE @ The Empty Pint
DESCRIPTION:ANNOUNCING….. \n“IN CROWD”LIVEThursday July 2nd 2026Stage at Southern Tier Brewing2072 Stoneman CircleLakewood\, NY 147506:00pm-9:00pmFree-All AgesFamily-Pet Friendly
URL:https://mychq.org/event/johnny-bauer-duo-live-the-empty-pint-2/
LOCATION:Southern Tier Brewing Company – The Empty Pint\, 2072 Stoneman Cir.\, Lakewood\, NY\, 14750\, United States
CATEGORIES:Music & Entertainment
ATTACH;FMTTYPE=image/jpeg:https://mychq.org/wp-content/uploads/2026/03/645658473_1532512455331212_1574295505143911155_n.jpg
ORGANIZER;CN="Blue Moon Management":MAILTO:bluemoonmusic@windstream.net
END:VEVENT
BEGIN:VEVENT
DTSTART;TZID=America/New_York:20260710T180000
DTEND;TZID=America/New_York:20260710T210000
DTSTAMP:20260421T133829
CREATED:20260331T161657Z
LAST-MODIFIED:20260331T161657Z
UID:10027633-1783706400-1783717200@mychq.org
SUMMARY:Down Right Dirty LIVE @ The Empty Pint
DESCRIPTION:ANNOUNCING….. \nThe regions #1 Country Band with an Outlaw Attitude” \nFriday July 10th 2026Stage at Southern Tier Brewing2072 Stoneman CircleLakewood\, NY 147506:00pm-9:00pmFreeAll Ages-Family-Pet Friendly
URL:https://mychq.org/event/down-right-dirty-live-the-empty-pint/
LOCATION:Southern Tier Brewing Company – The Empty Pint\, 2072 Stoneman Cir.\, Lakewood\, NY\, 14750\, United States
CATEGORIES:Music & Entertainment
ATTACH;FMTTYPE=image/jpeg:https://mychq.org/wp-content/uploads/2026/03/654219471_1543097487606042_6081888356471185787_n.jpg
ORGANIZER;CN="Blue Moon Management":MAILTO:bluemoonmusic@windstream.net
END:VEVENT
BEGIN:VEVENT
DTSTART;TZID=America/New_York:20260711T130000
DTEND;TZID=America/New_York:20260711T210000
DTSTAMP:20260421T133829
CREATED:20260310T200052Z
LAST-MODIFIED:20260310T200052Z
UID:10027188-1783774800-1783803600@mychq.org
SUMMARY:Back & Forth (Foo Fighters Tribute) & Johnny Bauer Duo LIVE @ The Empty Pint
DESCRIPTION:ANNOUNCING…… \n“Back & Fourth” (Foo Fighters Tribute)wsg: Johnny Bauer Duo \nSaturday Junly 11th 2026Stage at Southern Tier Brewing2072 Stoneman CircleLakewood\, NY 147501:00pm-4:00pm Johnny Bauer Duo6:00pm-9:00pm Back & Fourth (Foo Fighters Tribute)Free-All AgesFamily and Pet Friendly
URL:https://mychq.org/event/back-forth-foo-fighters-tribute-johnny-bauer-duo-live-the-empty-pint/
LOCATION:Southern Tier Brewing Company – The Empty Pint\, 2072 Stoneman Cir.\, Lakewood\, NY\, 14750\, United States
CATEGORIES:Music & Entertainment
ATTACH;FMTTYPE=image/jpeg:https://mychq.org/wp-content/uploads/2026/03/646361170_1531723898743401_3364280544092592458_n.jpg
ORGANIZER;CN="Blue Moon Management":MAILTO:bluemoonmusic@windstream.net
END:VEVENT
BEGIN:VEVENT
DTSTART;TZID=America/New_York:20260724T180000
DTEND;TZID=America/New_York:20260724T210000
DTSTAMP:20260421T133829
CREATED:20260310T200141Z
LAST-MODIFIED:20260310T200141Z
UID:10027189-1784916000-1784926800@mychq.org
SUMMARY:Uncaged (Zac Brown Tribute) LIVE @ The Empty Pint
DESCRIPTION:ANNOUNCING…… \n“Uncaged” (Zac Brown Tibute)Friday July 24th 2026Stage @ Southern Tier Brewing2072 Stoneman CircleLakewood\, NY 147506:00pm-9:00pmFree-All AgesFamily and Pet Friendly
URL:https://mychq.org/event/uncaged-zac-brown-tribute-live-the-empty-pint/
LOCATION:Southern Tier Brewing Company – The Empty Pint\, 2072 Stoneman Cir.\, Lakewood\, NY\, 14750\, United States
CATEGORIES:Music & Entertainment
ATTACH;FMTTYPE=image/jpeg:https://mychq.org/wp-content/uploads/2026/03/645545537_1531731815409276_599298592544443138_n.jpg
ORGANIZER;CN="Blue Moon Management":MAILTO:bluemoonmusic@windstream.net
END:VEVENT
BEGIN:VEVENT
DTSTART;TZID=America/New_York:20260725T150000
DTEND;TZID=America/New_York:20260725T230000
DTSTAMP:20260421T133829
CREATED:20260310T200234Z
LAST-MODIFIED:20260310T200234Z
UID:10027190-1784991600-1785020400@mychq.org
SUMMARY:The Floyd Concept (Pink Floyd Tribute) wsg Slim & Red LIVE @ The Empty Pint
DESCRIPTION:ANNOUNCING…… \n“The Floyd Concept” (Pink Floyd Tribute)wsg “Slim & Red” \nSaturday July 25th 2026Stage at Southern Tier Brewing2072 Stoneman CircleLakewood\, NY 147503:00pm-6:00pm “Slim & Red”8:00pm-11:00pm “Flyod Concept” (Pink Flyod Tribute”)Free All AgesFamily and Pet Friendly
URL:https://mychq.org/event/the-floyd-concept-pink-floyd-tribute-wsg-slim-red-live-the-empty-pint/
LOCATION:Southern Tier Brewing Company – The Empty Pint\, 2072 Stoneman Cir.\, Lakewood\, NY\, 14750\, United States
CATEGORIES:Music & Entertainment
ATTACH;FMTTYPE=image/jpeg:https://mychq.org/wp-content/uploads/2026/03/648145686_1531936372055487_1058575880313305880_n.jpg
ORGANIZER;CN="Blue Moon Management":MAILTO:bluemoonmusic@windstream.net
END:VEVENT
BEGIN:VEVENT
DTSTART;TZID=America/New_York:20260801T130000
DTEND;TZID=America/New_York:20260801T210000
DTSTAMP:20260421T133829
CREATED:20260310T200318Z
LAST-MODIFIED:20260310T200318Z
UID:10027191-1785589200-1785618000@mychq.org
SUMMARY:ReignMaker & Flight LIVE @ The Empty Pint
DESCRIPTION:ANNOUNCING….. \n“ReignMaker” & “Flight” \nSaturday August 1st 2026Stage at Southern Tier Brewing2072 Stoneman CircleLakewood\, NY 147501:00pm-4:00pm “Flight”6:00pm-9:00pm “ReignMaker”Free-All AgesFamily-Pet Friendly
URL:https://mychq.org/event/reignmaker-flight-live-the-empty-pint/
LOCATION:Southern Tier Brewing Company – The Empty Pint\, 2072 Stoneman Cir.\, Lakewood\, NY\, 14750\, United States
CATEGORIES:Music & Entertainment
ATTACH;FMTTYPE=image/jpeg:https://mychq.org/wp-content/uploads/2026/03/647461178_1532453062003818_7228618909101819087_n.jpg
ORGANIZER;CN="Blue Moon Management":MAILTO:bluemoonmusic@windstream.net
END:VEVENT
BEGIN:VEVENT
DTSTART;TZID=America/New_York:20260802T130000
DTEND;TZID=America/New_York:20260802T160000
DTSTAMP:20260421T133829
CREATED:20260413T193903Z
LAST-MODIFIED:20260413T193903Z
UID:10028058-1785675600-1785686400@mychq.org
SUMMARY:Slim & Red LIVE @ The Cooler Bar & Grille
DESCRIPTION:ANNOUNCING….. \n“Slim and Red”LIVE \nSunday August 2nd 2026Stage at The Cooler114 West Main StreetSherman\,NY 147811:00pm-4:00pmFree
URL:https://mychq.org/event/slim-red-live-the-cooler-bar-grille/
LOCATION:The Cooler Bar & Grille\, 114 W Main St\, Sherman\, 14781\, United States
CATEGORIES:Music & Entertainment
ATTACH;FMTTYPE=image/jpeg:https://mychq.org/wp-content/uploads/2026/04/654239766_1545525184029939_1077566756356982582_n.jpg
ORGANIZER;CN="Blue Moon Management":MAILTO:bluemoonmusic@windstream.net
END:VEVENT
BEGIN:VEVENT
DTSTART;TZID=America/New_York:20260808T140000
DTEND;TZID=America/New_York:20260808T220000
DTSTAMP:20260421T133829
CREATED:20260310T200417Z
LAST-MODIFIED:20260310T200417Z
UID:10027192-1786197600-1786226400@mychq.org
SUMMARY:Hello City (Barenaked Ladies Tribute) & Derek Davis + Angel Busch LIVE @ The Empty Pint
DESCRIPTION:ANNOUNCING….. \n“Hello City” (Barenaked Ladies Tribute)wsg “Derek Davis & Angel Busch” \nSaturday August 8th 2026Stage at Southern Tier Brewing2072 Stoneman CircleLakewood\, New York 147502:00pm-5:00pm “Derek Davis & Angel Busch6:00pm-9:00pm “Hello City” ( Barenaked Ladies Tribute )Free-All AgesPet-Family Friendly
URL:https://mychq.org/event/hello-city-barenaked-ladies-tribute-derek-davis-angel-busch-live-the-empty-pint/
LOCATION:Southern Tier Brewing Company – The Empty Pint\, 2072 Stoneman Cir.\, Lakewood\, NY\, 14750\, United States
CATEGORIES:Music & Entertainment
ATTACH;FMTTYPE=image/jpeg:https://mychq.org/wp-content/uploads/2026/03/648983047_1532485108667280_6809198133594769675_n.jpg
ORGANIZER;CN="Blue Moon Management":MAILTO:bluemoonmusic@windstream.net
END:VEVENT
BEGIN:VEVENT
DTSTART;TZID=America/New_York:20260815T130000
DTEND;TZID=America/New_York:20260815T210000
DTSTAMP:20260421T133829
CREATED:20260310T200502Z
LAST-MODIFIED:20260310T200502Z
UID:10027193-1786798800-1786827600@mychq.org
SUMMARY:New Wave Nation & Black Widow Duo LIVE @ The Empty Pint
DESCRIPTION:ANNOUNCING….. \n“New Wave Nation” & Black Widow Duo” \nLIVESaturday August 15th 2026Stage at Southern Tier Brewing2072 Stoneman CircleLakewood\, NY 147501:00pm-4:00pm “Black Widow Duo”6:00pm-9:00pm “New Wave Nation”Free-All AgesFamily – Pet Friendly
URL:https://mychq.org/event/new-wave-nation-black-widow-duo-live-the-empty-pint/
LOCATION:Southern Tier Brewing Company – The Empty Pint\, 2072 Stoneman Cir.\, Lakewood\, NY\, 14750\, United States
CATEGORIES:Music & Entertainment
ATTACH;FMTTYPE=image/jpeg:https://mychq.org/wp-content/uploads/2026/03/648336185_1532501118665679_716268728445465193_n.jpg
ORGANIZER;CN="Blue Moon Management":MAILTO:bluemoonmusic@windstream.net
END:VEVENT
BEGIN:VEVENT
DTSTART;TZID=America/New_York:20260829T180000
DTEND;TZID=America/New_York:20260829T210000
DTSTAMP:20260421T133829
CREATED:20260310T200549Z
LAST-MODIFIED:20260310T200549Z
UID:10027194-1788026400-1788037200@mychq.org
SUMMARY:MTV Unplugged Tribute Band wsg Osborn Nash LIVE @ The Empty Pint
DESCRIPTION:Blue Moon Mgmt & Southern Tier Brewing Co – Lakewood present: The Empty Pint Taproom Summer Concert Series 2026 \n : Sat Aug 29\, 2026 : The Stage at Southern Tier Brewing Co2072 Stoneman CircleLakewood\, NY 14750 : 1-4pm – Osborn Nash : 6-9 pm – MTV Unplugged Tribute Band : Free-All Ages : Family Friendly-Pet Friendly \n Grab your flannel and come as you are! MTV Unplugged Tribute Band is taking us back to the heyday of the MTV Unplugged era! Featuring the music of Nirvana\, AIC\, Pearl Jam\, STP\, Alanis Morissette and more – All in one night\, all Unplugged!  \nWith Special Guests\, Osborne Nash at 1 pm
URL:https://mychq.org/event/mtv-unplugged-tribute-band-wsg-osborn-nash-live-the-empty-pint/
LOCATION:Southern Tier Brewing Company – The Empty Pint\, 2072 Stoneman Cir.\, Lakewood\, NY\, 14750\, United States
CATEGORIES:Music & Entertainment
ATTACH;FMTTYPE=image/jpeg:https://mychq.org/wp-content/uploads/2026/03/616015791_885896494039166_1734775139698451893_n-1.jpg
ORGANIZER;CN="Blue Moon Management":MAILTO:bluemoonmusic@windstream.net
END:VEVENT
END:VCALENDAR