BEGIN:VCALENDAR
VERSION:2.0
PRODID:-//Chautauqua County Events, Local Businesses &amp; Resources | My CHQ - ECPv6.15.20//NONSGML v1.0//EN
CALSCALE:GREGORIAN
METHOD:PUBLISH
X-WR-CALNAME:Chautauqua County Events, Local Businesses &amp; Resources | My CHQ
X-ORIGINAL-URL:https://mychq.org
X-WR-CALDESC:Events for Chautauqua County Events, Local Businesses &amp; Resources | My CHQ
REFRESH-INTERVAL;VALUE=DURATION:PT1H
X-Robots-Tag:noindex
X-PUBLISHED-TTL:PT1H
BEGIN:VTIMEZONE
TZID:America/New_York
BEGIN:DAYLIGHT
TZOFFSETFROM:-0500
TZOFFSETTO:-0400
TZNAME:EDT
DTSTART:20240310T070000
END:DAYLIGHT
BEGIN:STANDARD
TZOFFSETFROM:-0400
TZOFFSETTO:-0500
TZNAME:EST
DTSTART:20241103T060000
END:STANDARD
BEGIN:DAYLIGHT
TZOFFSETFROM:-0500
TZOFFSETTO:-0400
TZNAME:EDT
DTSTART:20250309T070000
END:DAYLIGHT
BEGIN:STANDARD
TZOFFSETFROM:-0400
TZOFFSETTO:-0500
TZNAME:EST
DTSTART:20251102T060000
END:STANDARD
BEGIN:DAYLIGHT
TZOFFSETFROM:-0500
TZOFFSETTO:-0400
TZNAME:EDT
DTSTART:20260308T070000
END:DAYLIGHT
BEGIN:STANDARD
TZOFFSETFROM:-0400
TZOFFSETTO:-0500
TZNAME:EST
DTSTART:20261101T060000
END:STANDARD
BEGIN:DAYLIGHT
TZOFFSETFROM:-0500
TZOFFSETTO:-0400
TZNAME:EDT
DTSTART:20270314T070000
END:DAYLIGHT
BEGIN:STANDARD
TZOFFSETFROM:-0400
TZOFFSETTO:-0500
TZNAME:EST
DTSTART:20271107T060000
END:STANDARD
END:VTIMEZONE
BEGIN:VEVENT
DTSTART;TZID=America/New_York:20260403T180000
DTEND;TZID=America/New_York:20260403T200000
DTSTAMP:20260424T020100
CREATED:20260324T210812Z
LAST-MODIFIED:20260324T210812Z
UID:10027477-1775239200-1775246400@mychq.org
SUMMARY:Remembering John Prine
DESCRIPTION:JP left us 6 years ago this week\, and Bill Ward is going to celebrate his music WITH YOU at The Jamestown Wine Cellar this Friday\, April 3rd at 6:00 p.m.All are welcome to bring your instrument and/or voice to help pay tribute to the master.
URL:https://mychq.org/event/remembering-john-prine/
LOCATION:Jamestown Wine Cellar\, 309 N Main St\, Jamestown\, 14701\, United States
CATEGORIES:Music & Entertainment
ATTACH;FMTTYPE=image/jpeg:https://mychq.org/wp-content/uploads/2026/03/653941188_1456295849841042_4491847669843450571_n.jpg
ORGANIZER;CN="Bill Ward Music":MAILTO:wardwill@gmail.com
END:VEVENT
BEGIN:VEVENT
DTSTART;TZID=America/New_York:20260116T173000
DTEND;TZID=America/New_York:20260116T203000
DTSTAMP:20260424T020100
CREATED:20260114T173509Z
LAST-MODIFIED:20260114T173509Z
UID:10024251-1768584600-1768595400@mychq.org
SUMMARY:John and Bill's Island Tour Preview
DESCRIPTION:John Cross and Bill Ward present a special show at First Covenant Church in Jamestown this Friday.Along with new songs and old favorites\, they will present a glimpse into the sets they will be presenting in the Virgin Islands this February.
URL:https://mychq.org/event/john-and-bills-island-tour-preview/
LOCATION:First Covenant Church\, 520 Spring St. #5393\, Jamestown\, 14701\, United States
CATEGORIES:Music & Entertainment
ATTACH;FMTTYPE=image/jpeg:https://mychq.org/wp-content/uploads/2026/01/615189637_1397977842339510_1384380074351083306_n.jpg
ORGANIZER;CN="Bill Ward Music":MAILTO:wardwill@gmail.com
END:VEVENT
BEGIN:VEVENT
DTSTART;TZID=America/New_York:20251107T180000
DTEND;TZID=America/New_York:20251107T210000
DTSTAMP:20260424T020100
CREATED:20251024T234539Z
LAST-MODIFIED:20251024T234539Z
UID:10022718-1762538400-1762549200@mychq.org
SUMMARY:Gram Parsons Birthday Tribute
DESCRIPTION:Bill Ward will host an evening celebrating the music of Gram Parsons. he will be performing some of Gram’s song\, and imvites members of the musical community to help pay tribute. Come and celebrate with your favorite flying Burrito Brothers\, Byrds\, or international submarine band tune.
URL:https://mychq.org/event/gram-parsons-birthday-tribute/
LOCATION:Jamestown Wine Cellar\, 309 N Main St\, Jamestown\, 14701\, United States
CATEGORIES:Music & Entertainment
ATTACH;FMTTYPE=image/jpeg:https://mychq.org/wp-content/uploads/2025/10/571132057_1330364635767498_4018556740212947112_n.jpg
ORGANIZER;CN="Bill Ward Music":MAILTO:wardwill@gmail.com
END:VEVENT
BEGIN:VEVENT
DTSTART;TZID=America/New_York:20251003T180000
DTEND;TZID=America/New_York:20251003T210000
DTSTAMP:20260424T020100
CREATED:20251001T151908Z
LAST-MODIFIED:20251001T151908Z
UID:10022258-1759514400-1759525200@mychq.org
SUMMARY:An Evening with Bill Ward
DESCRIPTION:Start your Friday evening on Main Street with songs and stories from Bill Ward.New tunes\, and old faves. Come visiting.
URL:https://mychq.org/event/an-evening-with-bill-ward/
LOCATION:Jamestown Wine Cellar\, 309 N Main St\, Jamestown\, 14701\, United States
CATEGORIES:Music & Entertainment
ATTACH;FMTTYPE=image/jpeg:https://mychq.org/wp-content/uploads/2025/10/556235117_1308449771292318_3878981550455705676_n.jpg
ORGANIZER;CN="Bill Ward Music":MAILTO:wardwill@gmail.com
END:VEVENT
BEGIN:VEVENT
DTSTART;TZID=America/New_York:20250805T173000
DTEND;TZID=America/New_York:20250805T203000
DTSTAMP:20260424T020100
CREATED:20250804T181918Z
LAST-MODIFIED:20250804T181918Z
UID:10020511-1754415000-1754425800@mychq.org
SUMMARY:2025 Patio Music Series - Bill Ward
DESCRIPTION:Summer is here! that means Bill Ward is on the patio at Andriaccios.Throughout the summer\, Bill carries on the tradition of summertime funtime dinner time music on the beautiful patio. Come visiting.
URL:https://mychq.org/event/2025-patio-music-series-bill-ward/
LOCATION:Andriaccio’s Restaurant\, 4837 W Lake Rd\, Mayville\, 14757\, United States
CATEGORIES:Music & Entertainment
ATTACH;FMTTYPE=image/jpeg:https://mychq.org/wp-content/uploads/2025/08/528265535_1257016439768985_7993328488895266265_n.jpg
ORGANIZER;CN="Bill Ward Music":MAILTO:wardwill@gmail.com
END:VEVENT
END:VCALENDAR