BEGIN:VCALENDAR
VERSION:2.0
PRODID:-//Chautauqua County Events, Local Businesses &amp; Resources | My CHQ - ECPv6.15.20//NONSGML v1.0//EN
CALSCALE:GREGORIAN
METHOD:PUBLISH
X-ORIGINAL-URL:https://mychq.org
X-WR-CALDESC:Events for Chautauqua County Events, Local Businesses &amp; Resources | My CHQ
REFRESH-INTERVAL;VALUE=DURATION:PT1H
X-Robots-Tag:noindex
X-PUBLISHED-TTL:PT1H
BEGIN:VTIMEZONE
TZID:America/New_York
BEGIN:DAYLIGHT
TZOFFSETFROM:-0500
TZOFFSETTO:-0400
TZNAME:EDT
DTSTART:20240310T070000
END:DAYLIGHT
BEGIN:STANDARD
TZOFFSETFROM:-0400
TZOFFSETTO:-0500
TZNAME:EST
DTSTART:20241103T060000
END:STANDARD
BEGIN:DAYLIGHT
TZOFFSETFROM:-0500
TZOFFSETTO:-0400
TZNAME:EDT
DTSTART:20250309T070000
END:DAYLIGHT
BEGIN:STANDARD
TZOFFSETFROM:-0400
TZOFFSETTO:-0500
TZNAME:EST
DTSTART:20251102T060000
END:STANDARD
BEGIN:DAYLIGHT
TZOFFSETFROM:-0500
TZOFFSETTO:-0400
TZNAME:EDT
DTSTART:20260308T070000
END:DAYLIGHT
BEGIN:STANDARD
TZOFFSETFROM:-0400
TZOFFSETTO:-0500
TZNAME:EST
DTSTART:20261101T060000
END:STANDARD
BEGIN:DAYLIGHT
TZOFFSETFROM:-0500
TZOFFSETTO:-0400
TZNAME:EDT
DTSTART:20270314T070000
END:DAYLIGHT
BEGIN:STANDARD
TZOFFSETFROM:-0400
TZOFFSETTO:-0500
TZNAME:EST
DTSTART:20271107T060000
END:STANDARD
END:VTIMEZONE
BEGIN:VEVENT
DTSTART;TZID=America/New_York:20260422T100000
DTEND;TZID=America/New_York:20260422T104500
DTSTAMP:20260425T132209
CREATED:20250910T140852Z
LAST-MODIFIED:20250910T140852Z
UID:10021216-1776852000-1776854700@mychq.org
SUMMARY:Toddler Story Time
DESCRIPTION:Join us for another fun year of Toddler StoryTime\, starting this Wednesday\, September 10th! No need to sign up – just show up!
URL:https://mychq.org/event/toddler-story-time-2/2026-04-22/
LOCATION:Bemus Point Library\, 13 Main St\, Bemus Point\, 14712\, United States
CATEGORIES:Library
ATTACH;FMTTYPE=image/jpeg:https://mychq.org/wp-content/uploads/2025/09/545823098_1220162760151079_7930549272678232507_n.jpg
ORGANIZER;CN="Bemus Point Library":MAILTO:director@bemuspointlibrary.org
END:VEVENT
BEGIN:VEVENT
DTSTART;TZID=America/New_York:20260319T180000
DTEND;TZID=America/New_York:20260319T190000
DTSTAMP:20260425T132209
CREATED:20260223T214830Z
LAST-MODIFIED:20260223T214830Z
UID:10026606-1773943200-1773946800@mychq.org
SUMMARY:Yard Smarts @ Bemus Point Library
DESCRIPTION:Learn how to create water-wise\, native plant landscapes!
URL:https://mychq.org/event/yard-smarts-bemus-point-library/
LOCATION:Bemus Point Library\, 13 Main St\, Bemus Point\, 14712\, United States
CATEGORIES:Library
ATTACH;FMTTYPE=image/jpeg:https://mychq.org/wp-content/uploads/2026/02/641268587_1363373299163357_5003084622882187110_n.jpg
ORGANIZER;CN="Bemus Point Library":MAILTO:director@bemuspointlibrary.org
END:VEVENT
BEGIN:VEVENT
DTSTART;TZID=America/New_York:20251211T150000
DTEND;TZID=America/New_York:20251211T170000
DTSTAMP:20260425T132209
CREATED:20251208T162702Z
LAST-MODIFIED:20251208T162702Z
UID:10023459-1765465200-1765472400@mychq.org
SUMMARY:Origami Workshop @ Bemus Point Library
DESCRIPTION:This has been rescheduled due to the cancellation on 12/4/2025. You have yet another chance to join in on this exciting workshop just in time for holiday decorating and gift giving!
URL:https://mychq.org/event/origami-workshop-bemus-point-library/
LOCATION:Bemus Point Library\, 13 Main St\, Bemus Point\, 14712\, United States
CATEGORIES:Library
ATTACH;FMTTYPE=image/jpeg:https://mychq.org/wp-content/uploads/2025/12/596918635_1297936309040390_4772708328299484616_n.jpg
ORGANIZER;CN="Bemus Point Library":MAILTO:director@bemuspointlibrary.org
END:VEVENT
BEGIN:VEVENT
DTSTART;TZID=America/New_York:20251204T180000
DTEND;TZID=America/New_York:20251204T190000
DTSTAMP:20260425T132209
CREATED:20251201T152227Z
LAST-MODIFIED:20251201T152227Z
UID:10023339-1764871200-1764874800@mychq.org
SUMMARY:Christmas Origami Workshop
DESCRIPTION:SAVE THE DATE!!Thursday\, December 4th\, 2025 at 6:00 PM \nJoin us for a festive Christmas Origami Class at the Bemus Point Library! Learn how to make beautiful paper snowflake ornaments and charming origami gift boxes\, perfect for holiday gifting or decorating. This beginner workshop is great for ages 12 and up. \nPlease call the library to reserve your spot! (716-386-2274)
URL:https://mychq.org/event/christmas-origami-workshop/
LOCATION:Bemus Point Library\, 13 Main St\, Bemus Point\, 14712\, United States
CATEGORIES:Library
ATTACH;FMTTYPE=image/jpeg:https://mychq.org/wp-content/uploads/2025/12/593128748_1293305389503482_3154572953085627632_n.jpg
ORGANIZER;CN="Bemus Point Library":MAILTO:director@bemuspointlibrary.org
END:VEVENT
BEGIN:VEVENT
DTSTART;TZID=America/New_York:20251023T180000
DTEND;TZID=America/New_York:20251023T200000
DTSTAMP:20260425T132209
CREATED:20251009T190614Z
LAST-MODIFIED:20251009T190614Z
UID:10022466-1761242400-1761249600@mychq.org
SUMMARY:Bats and Plants: A Global and Local Perspective
DESCRIPTION:Spooky season special!  Discover the secrets of bats! Explore the fascinating lives of bats\, nature’s nighttime helpers. Join us at the Bemus Point Library for this amazing presentation by Jonathan Townsend\, PhD\, owner of Royal Fern Nursery.
URL:https://mychq.org/event/bats-and-plants-a-global-and-local-perspective/
LOCATION:Bemus Point Library\, 13 Main St\, Bemus Point\, 14712\, United States
CATEGORIES:Outdoors & Nature
ATTACH;FMTTYPE=image/jpeg:https://mychq.org/wp-content/uploads/2025/10/558804099_1245567704277251_1401029286645046505_n.jpg
ORGANIZER;CN="Bemus Point Library":MAILTO:director@bemuspointlibrary.org
END:VEVENT
BEGIN:VEVENT
DTSTART;TZID=America/New_York:20250806T100000
DTEND;TZID=America/New_York:20250806T114500
DTSTAMP:20260425T132209
CREATED:20250708T154047Z
LAST-MODIFIED:20250708T154047Z
UID:10019474-1754474400-1754480700@mychq.org
SUMMARY:Toddler Summer Story Time
DESCRIPTION:Tomorrow is the first session of Bemus Point Library Toddler Story Time! Check out dates and times below!
URL:https://mychq.org/event/toddler-summer-story-time/2025-08-06/
LOCATION:Bemus Point Library\, 13 Main St\, Bemus Point\, 14712\, United States
CATEGORIES:Library
ATTACH;FMTTYPE=image/jpeg:https://mychq.org/wp-content/uploads/2025/07/515435753_1168518565315499_3250648384772428997_n.jpg
ORGANIZER;CN="Bemus Point Library":MAILTO:director@bemuspointlibrary.org
END:VEVENT
END:VCALENDAR