BEGIN:VCALENDAR
VERSION:2.0
PRODID:-//Chautauqua County Events, Local Businesses &amp; Resources | My CHQ - ECPv6.15.20//NONSGML v1.0//EN
CALSCALE:GREGORIAN
METHOD:PUBLISH
X-WR-CALNAME:Chautauqua County Events, Local Businesses &amp; Resources | My CHQ
X-ORIGINAL-URL:https://mychq.org
X-WR-CALDESC:Events for Chautauqua County Events, Local Businesses &amp; Resources | My CHQ
REFRESH-INTERVAL;VALUE=DURATION:PT1H
X-Robots-Tag:noindex
X-PUBLISHED-TTL:PT1H
BEGIN:VTIMEZONE
TZID:America/New_York
BEGIN:DAYLIGHT
TZOFFSETFROM:-0500
TZOFFSETTO:-0400
TZNAME:EDT
DTSTART:20250309T070000
END:DAYLIGHT
BEGIN:STANDARD
TZOFFSETFROM:-0400
TZOFFSETTO:-0500
TZNAME:EST
DTSTART:20251102T060000
END:STANDARD
BEGIN:DAYLIGHT
TZOFFSETFROM:-0500
TZOFFSETTO:-0400
TZNAME:EDT
DTSTART:20260308T070000
END:DAYLIGHT
BEGIN:STANDARD
TZOFFSETFROM:-0400
TZOFFSETTO:-0500
TZNAME:EST
DTSTART:20261101T060000
END:STANDARD
BEGIN:DAYLIGHT
TZOFFSETFROM:-0500
TZOFFSETTO:-0400
TZNAME:EDT
DTSTART:20270314T070000
END:DAYLIGHT
BEGIN:STANDARD
TZOFFSETFROM:-0400
TZOFFSETTO:-0500
TZNAME:EST
DTSTART:20271107T060000
END:STANDARD
END:VTIMEZONE
BEGIN:VEVENT
DTSTART;TZID=America/New_York:20260426T090000
DTEND;TZID=America/New_York:20260426T120000
DTSTAMP:20260424T103137
CREATED:20260421T205120Z
LAST-MODIFIED:20260421T205120Z
UID:10028325-1777194000-1777204800@mychq.org
SUMMARY:The 2026 Striders Runner of the Year Series
DESCRIPTION:The 2026 Striders Runner of the Year Series is officially underway!  \nWe kicked off the series this past weekend with our annual St. Pat’s Dash — and what a great start to the season!  But don’t worry… you can STILL compete in the 2026 Runner of the Year (ROTY) Series! \n\n All you need to start earning points is an active Striders Athletic Club membership. That’s it! Click the link to get your membership today!\nhttps://runsignup.com/…/ChautauquaStridersAthleticClubTEST\n Next race in the series: 1891 Run for the Fredonia Opera House The 1891 Fredonia Opera House Performing Arts Center\nThank you to our series sponsor\, UPMC Chautauqua\, for supporting local running and helping make this season possible.\n\nHere’s this year’s race calendar!
URL:https://mychq.org/event/the-2026-striders-runner-of-the-year-series/2026-04-26/
LOCATION:Multiple Venues (See Event Description)
CATEGORIES:Sports
ATTACH;FMTTYPE=image/jpeg:https://mychq.org/wp-content/uploads/2026/04/653713633_1506961094551924_2666288063990891842_n.jpg
END:VEVENT
BEGIN:VEVENT
DTSTART;TZID=America/New_York:20260530T090000
DTEND;TZID=America/New_York:20260530T120000
DTSTAMP:20260424T103137
CREATED:20260421T205120Z
LAST-MODIFIED:20260421T205120Z
UID:10028326-1780131600-1780142400@mychq.org
SUMMARY:The 2026 Striders Runner of the Year Series
DESCRIPTION:The 2026 Striders Runner of the Year Series is officially underway!  \nWe kicked off the series this past weekend with our annual St. Pat’s Dash — and what a great start to the season!  But don’t worry… you can STILL compete in the 2026 Runner of the Year (ROTY) Series! \n\n All you need to start earning points is an active Striders Athletic Club membership. That’s it! Click the link to get your membership today!\nhttps://runsignup.com/…/ChautauquaStridersAthleticClubTEST\n Next race in the series: 1891 Run for the Fredonia Opera House The 1891 Fredonia Opera House Performing Arts Center\nThank you to our series sponsor\, UPMC Chautauqua\, for supporting local running and helping make this season possible.\n\nHere’s this year’s race calendar!
URL:https://mychq.org/event/the-2026-striders-runner-of-the-year-series/2026-05-30/
LOCATION:Multiple Venues (See Event Description)
CATEGORIES:Sports
ATTACH;FMTTYPE=image/jpeg:https://mychq.org/wp-content/uploads/2026/04/653713633_1506961094551924_2666288063990891842_n.jpg
END:VEVENT
BEGIN:VEVENT
DTSTART;TZID=America/New_York:20260704T090000
DTEND;TZID=America/New_York:20260704T120000
DTSTAMP:20260424T103137
CREATED:20260421T205120Z
LAST-MODIFIED:20260421T205120Z
UID:10028327-1783155600-1783166400@mychq.org
SUMMARY:The 2026 Striders Runner of the Year Series
DESCRIPTION:The 2026 Striders Runner of the Year Series is officially underway!  \nWe kicked off the series this past weekend with our annual St. Pat’s Dash — and what a great start to the season!  But don’t worry… you can STILL compete in the 2026 Runner of the Year (ROTY) Series! \n\n All you need to start earning points is an active Striders Athletic Club membership. That’s it! Click the link to get your membership today!\nhttps://runsignup.com/…/ChautauquaStridersAthleticClubTEST\n Next race in the series: 1891 Run for the Fredonia Opera House The 1891 Fredonia Opera House Performing Arts Center\nThank you to our series sponsor\, UPMC Chautauqua\, for supporting local running and helping make this season possible.\n\nHere’s this year’s race calendar!
URL:https://mychq.org/event/the-2026-striders-runner-of-the-year-series/2026-07-04/
LOCATION:Multiple Venues (See Event Description)
CATEGORIES:Sports
ATTACH;FMTTYPE=image/jpeg:https://mychq.org/wp-content/uploads/2026/04/653713633_1506961094551924_2666288063990891842_n.jpg
END:VEVENT
BEGIN:VEVENT
DTSTART;TZID=America/New_York:20260802T090000
DTEND;TZID=America/New_York:20260802T120000
DTSTAMP:20260424T103137
CREATED:20260421T205120Z
LAST-MODIFIED:20260421T205120Z
UID:10028328-1785661200-1785672000@mychq.org
SUMMARY:The 2026 Striders Runner of the Year Series
DESCRIPTION:The 2026 Striders Runner of the Year Series is officially underway!  \nWe kicked off the series this past weekend with our annual St. Pat’s Dash — and what a great start to the season!  But don’t worry… you can STILL compete in the 2026 Runner of the Year (ROTY) Series! \n\n All you need to start earning points is an active Striders Athletic Club membership. That’s it! Click the link to get your membership today!\nhttps://runsignup.com/…/ChautauquaStridersAthleticClubTEST\n Next race in the series: 1891 Run for the Fredonia Opera House The 1891 Fredonia Opera House Performing Arts Center\nThank you to our series sponsor\, UPMC Chautauqua\, for supporting local running and helping make this season possible.\n\nHere’s this year’s race calendar!
URL:https://mychq.org/event/the-2026-striders-runner-of-the-year-series/2026-08-02/
LOCATION:Multiple Venues (See Event Description)
CATEGORIES:Sports
ATTACH;FMTTYPE=image/jpeg:https://mychq.org/wp-content/uploads/2026/04/653713633_1506961094551924_2666288063990891842_n.jpg
END:VEVENT
BEGIN:VEVENT
DTSTART;TZID=America/New_York:20260815T093000
DTEND;TZID=America/New_York:20260815T123000
DTSTAMP:20260424T103137
CREATED:20260421T205120Z
LAST-MODIFIED:20260421T205120Z
UID:10028329-1786786200-1786797000@mychq.org
SUMMARY:The 2026 Striders Runner of the Year Series
DESCRIPTION:The 2026 Striders Runner of the Year Series is officially underway!  \nWe kicked off the series this past weekend with our annual St. Pat’s Dash — and what a great start to the season!  But don’t worry… you can STILL compete in the 2026 Runner of the Year (ROTY) Series! \n\n All you need to start earning points is an active Striders Athletic Club membership. That’s it! Click the link to get your membership today!\nhttps://runsignup.com/…/ChautauquaStridersAthleticClubTEST\n Next race in the series: 1891 Run for the Fredonia Opera House The 1891 Fredonia Opera House Performing Arts Center\nThank you to our series sponsor\, UPMC Chautauqua\, for supporting local running and helping make this season possible.\n\nHere’s this year’s race calendar!
URL:https://mychq.org/event/the-2026-striders-runner-of-the-year-series/2026-08-15/
LOCATION:Multiple Venues (See Event Description)
CATEGORIES:Sports
ATTACH;FMTTYPE=image/jpeg:https://mychq.org/wp-content/uploads/2026/04/653713633_1506961094551924_2666288063990891842_n.jpg
END:VEVENT
BEGIN:VEVENT
DTSTART;TZID=America/New_York:20260829T093000
DTEND;TZID=America/New_York:20260829T123000
DTSTAMP:20260424T103137
CREATED:20260421T205120Z
LAST-MODIFIED:20260421T205120Z
UID:10028330-1787995800-1788006600@mychq.org
SUMMARY:The 2026 Striders Runner of the Year Series
DESCRIPTION:The 2026 Striders Runner of the Year Series is officially underway!  \nWe kicked off the series this past weekend with our annual St. Pat’s Dash — and what a great start to the season!  But don’t worry… you can STILL compete in the 2026 Runner of the Year (ROTY) Series! \n\n All you need to start earning points is an active Striders Athletic Club membership. That’s it! Click the link to get your membership today!\nhttps://runsignup.com/…/ChautauquaStridersAthleticClubTEST\n Next race in the series: 1891 Run for the Fredonia Opera House The 1891 Fredonia Opera House Performing Arts Center\nThank you to our series sponsor\, UPMC Chautauqua\, for supporting local running and helping make this season possible.\n\nHere’s this year’s race calendar!
URL:https://mychq.org/event/the-2026-striders-runner-of-the-year-series/2026-08-29/
LOCATION:Multiple Venues (See Event Description)
CATEGORIES:Sports
ATTACH;FMTTYPE=image/jpeg:https://mychq.org/wp-content/uploads/2026/04/653713633_1506961094551924_2666288063990891842_n.jpg
END:VEVENT
BEGIN:VEVENT
DTSTART;TZID=America/New_York:20260905T093000
DTEND;TZID=America/New_York:20260905T123000
DTSTAMP:20260424T103137
CREATED:20260421T205120Z
LAST-MODIFIED:20260421T205120Z
UID:10028331-1788600600-1788611400@mychq.org
SUMMARY:The 2026 Striders Runner of the Year Series
DESCRIPTION:The 2026 Striders Runner of the Year Series is officially underway!  \nWe kicked off the series this past weekend with our annual St. Pat’s Dash — and what a great start to the season!  But don’t worry… you can STILL compete in the 2026 Runner of the Year (ROTY) Series! \n\n All you need to start earning points is an active Striders Athletic Club membership. That’s it! Click the link to get your membership today!\nhttps://runsignup.com/…/ChautauquaStridersAthleticClubTEST\n Next race in the series: 1891 Run for the Fredonia Opera House The 1891 Fredonia Opera House Performing Arts Center\nThank you to our series sponsor\, UPMC Chautauqua\, for supporting local running and helping make this season possible.\n\nHere’s this year’s race calendar!
URL:https://mychq.org/event/the-2026-striders-runner-of-the-year-series/2026-09-05/
LOCATION:Multiple Venues (See Event Description)
CATEGORIES:Sports
ATTACH;FMTTYPE=image/jpeg:https://mychq.org/wp-content/uploads/2026/04/653713633_1506961094551924_2666288063990891842_n.jpg
END:VEVENT
BEGIN:VEVENT
DTSTART;TZID=America/New_York:20260925T170000
DTEND;TZID=America/New_York:20260925T200000
DTSTAMP:20260424T103137
CREATED:20260421T205120Z
LAST-MODIFIED:20260421T205120Z
UID:10028332-1790355600-1790366400@mychq.org
SUMMARY:The 2026 Striders Runner of the Year Series
DESCRIPTION:The 2026 Striders Runner of the Year Series is officially underway!  \nWe kicked off the series this past weekend with our annual St. Pat’s Dash — and what a great start to the season!  But don’t worry… you can STILL compete in the 2026 Runner of the Year (ROTY) Series! \n\n All you need to start earning points is an active Striders Athletic Club membership. That’s it! Click the link to get your membership today!\nhttps://runsignup.com/…/ChautauquaStridersAthleticClubTEST\n Next race in the series: 1891 Run for the Fredonia Opera House The 1891 Fredonia Opera House Performing Arts Center\nThank you to our series sponsor\, UPMC Chautauqua\, for supporting local running and helping make this season possible.\n\nHere’s this year’s race calendar!
URL:https://mychq.org/event/the-2026-striders-runner-of-the-year-series/2026-09-25/
LOCATION:Multiple Venues (See Event Description)
CATEGORIES:Sports
ATTACH;FMTTYPE=image/jpeg:https://mychq.org/wp-content/uploads/2026/04/653713633_1506961094551924_2666288063990891842_n.jpg
END:VEVENT
BEGIN:VEVENT
DTSTART;TZID=America/New_York:20261003T090000
DTEND;TZID=America/New_York:20261003T120000
DTSTAMP:20260424T103137
CREATED:20260421T205120Z
LAST-MODIFIED:20260421T205120Z
UID:10028333-1791018000-1791028800@mychq.org
SUMMARY:The 2026 Striders Runner of the Year Series
DESCRIPTION:The 2026 Striders Runner of the Year Series is officially underway!  \nWe kicked off the series this past weekend with our annual St. Pat’s Dash — and what a great start to the season!  But don’t worry… you can STILL compete in the 2026 Runner of the Year (ROTY) Series! \n\n All you need to start earning points is an active Striders Athletic Club membership. That’s it! Click the link to get your membership today!\nhttps://runsignup.com/…/ChautauquaStridersAthleticClubTEST\n Next race in the series: 1891 Run for the Fredonia Opera House The 1891 Fredonia Opera House Performing Arts Center\nThank you to our series sponsor\, UPMC Chautauqua\, for supporting local running and helping make this season possible.\n\nHere’s this year’s race calendar!
URL:https://mychq.org/event/the-2026-striders-runner-of-the-year-series/2026-10-03/
LOCATION:Multiple Venues (See Event Description)
CATEGORIES:Sports
ATTACH;FMTTYPE=image/jpeg:https://mychq.org/wp-content/uploads/2026/04/653713633_1506961094551924_2666288063990891842_n.jpg
END:VEVENT
BEGIN:VEVENT
DTSTART;TZID=America/New_York:20261017T100000
DTEND;TZID=America/New_York:20261017T130000
DTSTAMP:20260424T103137
CREATED:20260421T205120Z
LAST-MODIFIED:20260421T205120Z
UID:10028334-1792231200-1792242000@mychq.org
SUMMARY:The 2026 Striders Runner of the Year Series
DESCRIPTION:The 2026 Striders Runner of the Year Series is officially underway!  \nWe kicked off the series this past weekend with our annual St. Pat’s Dash — and what a great start to the season!  But don’t worry… you can STILL compete in the 2026 Runner of the Year (ROTY) Series! \n\n All you need to start earning points is an active Striders Athletic Club membership. That’s it! Click the link to get your membership today!\nhttps://runsignup.com/…/ChautauquaStridersAthleticClubTEST\n Next race in the series: 1891 Run for the Fredonia Opera House The 1891 Fredonia Opera House Performing Arts Center\nThank you to our series sponsor\, UPMC Chautauqua\, for supporting local running and helping make this season possible.\n\nHere’s this year’s race calendar!
URL:https://mychq.org/event/the-2026-striders-runner-of-the-year-series/2026-10-17/
LOCATION:Multiple Venues (See Event Description)
CATEGORIES:Sports
ATTACH;FMTTYPE=image/jpeg:https://mychq.org/wp-content/uploads/2026/04/653713633_1506961094551924_2666288063990891842_n.jpg
END:VEVENT
BEGIN:VEVENT
DTSTART;TZID=America/New_York:20261106T090000
DTEND;TZID=America/New_York:20261106T120000
DTSTAMP:20260424T103137
CREATED:20260421T205120Z
LAST-MODIFIED:20260421T205120Z
UID:10028335-1793955600-1793966400@mychq.org
SUMMARY:The 2026 Striders Runner of the Year Series
DESCRIPTION:The 2026 Striders Runner of the Year Series is officially underway!  \nWe kicked off the series this past weekend with our annual St. Pat’s Dash — and what a great start to the season!  But don’t worry… you can STILL compete in the 2026 Runner of the Year (ROTY) Series! \n\n All you need to start earning points is an active Striders Athletic Club membership. That’s it! Click the link to get your membership today!\nhttps://runsignup.com/…/ChautauquaStridersAthleticClubTEST\n Next race in the series: 1891 Run for the Fredonia Opera House The 1891 Fredonia Opera House Performing Arts Center\nThank you to our series sponsor\, UPMC Chautauqua\, for supporting local running and helping make this season possible.\n\nHere’s this year’s race calendar!
URL:https://mychq.org/event/the-2026-striders-runner-of-the-year-series/2026-11-06/
LOCATION:Multiple Venues (See Event Description)
CATEGORIES:Sports
ATTACH;FMTTYPE=image/jpeg:https://mychq.org/wp-content/uploads/2026/04/653713633_1506961094551924_2666288063990891842_n.jpg
END:VEVENT
END:VCALENDAR