BEGIN:VCALENDAR
VERSION:2.0
PRODID:-//My CHQ - ECPv6.15.20//NONSGML v1.0//EN
CALSCALE:GREGORIAN
METHOD:PUBLISH
X-WR-CALNAME:My CHQ
X-ORIGINAL-URL:https://mychq.org
X-WR-CALDESC:Events for My CHQ
REFRESH-INTERVAL;VALUE=DURATION:PT1H
X-Robots-Tag:noindex
X-PUBLISHED-TTL:PT1H
BEGIN:VTIMEZONE
TZID:America/New_York
BEGIN:DAYLIGHT
TZOFFSETFROM:-0500
TZOFFSETTO:-0400
TZNAME:EDT
DTSTART:20250309T070000
END:DAYLIGHT
BEGIN:STANDARD
TZOFFSETFROM:-0400
TZOFFSETTO:-0500
TZNAME:EST
DTSTART:20251102T060000
END:STANDARD
BEGIN:DAYLIGHT
TZOFFSETFROM:-0500
TZOFFSETTO:-0400
TZNAME:EDT
DTSTART:20260308T070000
END:DAYLIGHT
BEGIN:STANDARD
TZOFFSETFROM:-0400
TZOFFSETTO:-0500
TZNAME:EST
DTSTART:20261101T060000
END:STANDARD
BEGIN:DAYLIGHT
TZOFFSETFROM:-0500
TZOFFSETTO:-0400
TZNAME:EDT
DTSTART:20270314T070000
END:DAYLIGHT
BEGIN:STANDARD
TZOFFSETFROM:-0400
TZOFFSETTO:-0500
TZNAME:EST
DTSTART:20271107T060000
END:STANDARD
END:VTIMEZONE
BEGIN:VEVENT
DTSTART;TZID=America/New_York:20260529T183000
DTEND;TZID=America/New_York:20260529T203000
DTSTAMP:20260422T184400
CREATED:20260421T203959Z
LAST-MODIFIED:20260421T203959Z
UID:10028304-1780079400-1780086600@mychq.org
SUMMARY:Jamestown Tarp Skunks May/June Schedule
DESCRIPTION:The wait is over… our 2026 Promotional Schedule is OUT!  \n\nKick things off with Opening Night on Friday\, May 29th at our Tailgate Festival presented by Jamestown Awning and Party Tents  Live music from the Porcelain Bus Drivers starts at 5PM\, plus postgame fireworks \nThis season is loaded with fun:\n22 home games \nKids in jerseys = FREE admission all season \n$2 Nights (beer\, hot dogs & tickets) \nFree admission on Community Nights like First Responders Night \nKids Carnival Day \nFREE admission buyout nights \nFireworks + Christmas in July \nKids Club & more\nCheck out the full schedule and start planning your summer at the ballpark! Here’s the link https://www.jamestowntarpskunks.com/Schedule\n\nEDIT – We noticed an error on the bottom half of the schedule where Opening Night says Thursday instead of Friday. We will get that fixed and Opening Night will be Friday\, May 29th. We apologize for the confusion!
URL:https://mychq.org/event/jamestown-tarp-skunks-may-june-schedule/2026-05-29/
LOCATION:Russell Diethrick Park\, 485 Falconer St.\, Jamestown\, NY\, 14701\, United States
CATEGORIES:Sports
ATTACH;FMTTYPE=image/jpeg:https://mychq.org/wp-content/uploads/2026/04/674652470_1731608781545064_8035116640307104285_n.jpg
ORGANIZER;CN="Jamestown Tarp Skunks":MAILTO:christian@tarpskunks.net
END:VEVENT
BEGIN:VEVENT
DTSTART;TZID=America/New_York:20260602T183000
DTEND;TZID=America/New_York:20260602T203000
DTSTAMP:20260422T184400
CREATED:20260421T203959Z
LAST-MODIFIED:20260421T203959Z
UID:10028305-1780425000-1780432200@mychq.org
SUMMARY:Jamestown Tarp Skunks May/June Schedule
DESCRIPTION:The wait is over… our 2026 Promotional Schedule is OUT!  \n\nKick things off with Opening Night on Friday\, May 29th at our Tailgate Festival presented by Jamestown Awning and Party Tents  Live music from the Porcelain Bus Drivers starts at 5PM\, plus postgame fireworks \nThis season is loaded with fun:\n22 home games \nKids in jerseys = FREE admission all season \n$2 Nights (beer\, hot dogs & tickets) \nFree admission on Community Nights like First Responders Night \nKids Carnival Day \nFREE admission buyout nights \nFireworks + Christmas in July \nKids Club & more\nCheck out the full schedule and start planning your summer at the ballpark! Here’s the link https://www.jamestowntarpskunks.com/Schedule\n\nEDIT – We noticed an error on the bottom half of the schedule where Opening Night says Thursday instead of Friday. We will get that fixed and Opening Night will be Friday\, May 29th. We apologize for the confusion!
URL:https://mychq.org/event/jamestown-tarp-skunks-may-june-schedule/2026-06-02/
LOCATION:Russell Diethrick Park\, 485 Falconer St.\, Jamestown\, NY\, 14701\, United States
CATEGORIES:Sports
ATTACH;FMTTYPE=image/jpeg:https://mychq.org/wp-content/uploads/2026/04/674652470_1731608781545064_8035116640307104285_n.jpg
ORGANIZER;CN="Jamestown Tarp Skunks":MAILTO:christian@tarpskunks.net
END:VEVENT
BEGIN:VEVENT
DTSTART;TZID=America/New_York:20260609T110000
DTEND;TZID=America/New_York:20260609T130000
DTSTAMP:20260422T184400
CREATED:20260421T203959Z
LAST-MODIFIED:20260421T203959Z
UID:10028306-1781002800-1781010000@mychq.org
SUMMARY:Jamestown Tarp Skunks May/June Schedule
DESCRIPTION:The wait is over… our 2026 Promotional Schedule is OUT!  \n\nKick things off with Opening Night on Friday\, May 29th at our Tailgate Festival presented by Jamestown Awning and Party Tents  Live music from the Porcelain Bus Drivers starts at 5PM\, plus postgame fireworks \nThis season is loaded with fun:\n22 home games \nKids in jerseys = FREE admission all season \n$2 Nights (beer\, hot dogs & tickets) \nFree admission on Community Nights like First Responders Night \nKids Carnival Day \nFREE admission buyout nights \nFireworks + Christmas in July \nKids Club & more\nCheck out the full schedule and start planning your summer at the ballpark! Here’s the link https://www.jamestowntarpskunks.com/Schedule\n\nEDIT – We noticed an error on the bottom half of the schedule where Opening Night says Thursday instead of Friday. We will get that fixed and Opening Night will be Friday\, May 29th. We apologize for the confusion!
URL:https://mychq.org/event/jamestown-tarp-skunks-may-june-schedule/2026-06-09/
LOCATION:Russell Diethrick Park\, 485 Falconer St.\, Jamestown\, NY\, 14701\, United States
CATEGORIES:Sports
ATTACH;FMTTYPE=image/jpeg:https://mychq.org/wp-content/uploads/2026/04/674652470_1731608781545064_8035116640307104285_n.jpg
ORGANIZER;CN="Jamestown Tarp Skunks":MAILTO:christian@tarpskunks.net
END:VEVENT
BEGIN:VEVENT
DTSTART;TZID=America/New_York:20260610T183000
DTEND;TZID=America/New_York:20260610T203000
DTSTAMP:20260422T184400
CREATED:20260421T203959Z
LAST-MODIFIED:20260421T203959Z
UID:10028307-1781116200-1781123400@mychq.org
SUMMARY:Jamestown Tarp Skunks May/June Schedule
DESCRIPTION:The wait is over… our 2026 Promotional Schedule is OUT!  \n\nKick things off with Opening Night on Friday\, May 29th at our Tailgate Festival presented by Jamestown Awning and Party Tents  Live music from the Porcelain Bus Drivers starts at 5PM\, plus postgame fireworks \nThis season is loaded with fun:\n22 home games \nKids in jerseys = FREE admission all season \n$2 Nights (beer\, hot dogs & tickets) \nFree admission on Community Nights like First Responders Night \nKids Carnival Day \nFREE admission buyout nights \nFireworks + Christmas in July \nKids Club & more\nCheck out the full schedule and start planning your summer at the ballpark! Here’s the link https://www.jamestowntarpskunks.com/Schedule\n\nEDIT – We noticed an error on the bottom half of the schedule where Opening Night says Thursday instead of Friday. We will get that fixed and Opening Night will be Friday\, May 29th. We apologize for the confusion!
URL:https://mychq.org/event/jamestown-tarp-skunks-may-june-schedule/2026-06-10/
LOCATION:Russell Diethrick Park\, 485 Falconer St.\, Jamestown\, NY\, 14701\, United States
CATEGORIES:Sports
ATTACH;FMTTYPE=image/jpeg:https://mychq.org/wp-content/uploads/2026/04/674652470_1731608781545064_8035116640307104285_n.jpg
ORGANIZER;CN="Jamestown Tarp Skunks":MAILTO:christian@tarpskunks.net
END:VEVENT
BEGIN:VEVENT
DTSTART;TZID=America/New_York:20260613T183000
DTEND;TZID=America/New_York:20260613T203000
DTSTAMP:20260422T184400
CREATED:20260421T203959Z
LAST-MODIFIED:20260421T203959Z
UID:10028308-1781375400-1781382600@mychq.org
SUMMARY:Jamestown Tarp Skunks May/June Schedule
DESCRIPTION:The wait is over… our 2026 Promotional Schedule is OUT!  \n\nKick things off with Opening Night on Friday\, May 29th at our Tailgate Festival presented by Jamestown Awning and Party Tents  Live music from the Porcelain Bus Drivers starts at 5PM\, plus postgame fireworks \nThis season is loaded with fun:\n22 home games \nKids in jerseys = FREE admission all season \n$2 Nights (beer\, hot dogs & tickets) \nFree admission on Community Nights like First Responders Night \nKids Carnival Day \nFREE admission buyout nights \nFireworks + Christmas in July \nKids Club & more\nCheck out the full schedule and start planning your summer at the ballpark! Here’s the link https://www.jamestowntarpskunks.com/Schedule\n\nEDIT – We noticed an error on the bottom half of the schedule where Opening Night says Thursday instead of Friday. We will get that fixed and Opening Night will be Friday\, May 29th. We apologize for the confusion!
URL:https://mychq.org/event/jamestown-tarp-skunks-may-june-schedule/2026-06-13/
LOCATION:Russell Diethrick Park\, 485 Falconer St.\, Jamestown\, NY\, 14701\, United States
CATEGORIES:Sports
ATTACH;FMTTYPE=image/jpeg:https://mychq.org/wp-content/uploads/2026/04/674652470_1731608781545064_8035116640307104285_n.jpg
ORGANIZER;CN="Jamestown Tarp Skunks":MAILTO:christian@tarpskunks.net
END:VEVENT
BEGIN:VEVENT
DTSTART;TZID=America/New_York:20260614T160000
DTEND;TZID=America/New_York:20260614T203000
DTSTAMP:20260422T184400
CREATED:20260421T203959Z
LAST-MODIFIED:20260421T203959Z
UID:10028309-1781452800-1781469000@mychq.org
SUMMARY:Jamestown Tarp Skunks May/June Schedule
DESCRIPTION:The wait is over… our 2026 Promotional Schedule is OUT!  \n\nKick things off with Opening Night on Friday\, May 29th at our Tailgate Festival presented by Jamestown Awning and Party Tents  Live music from the Porcelain Bus Drivers starts at 5PM\, plus postgame fireworks \nThis season is loaded with fun:\n22 home games \nKids in jerseys = FREE admission all season \n$2 Nights (beer\, hot dogs & tickets) \nFree admission on Community Nights like First Responders Night \nKids Carnival Day \nFREE admission buyout nights \nFireworks + Christmas in July \nKids Club & more\nCheck out the full schedule and start planning your summer at the ballpark! Here’s the link https://www.jamestowntarpskunks.com/Schedule\n\nEDIT – We noticed an error on the bottom half of the schedule where Opening Night says Thursday instead of Friday. We will get that fixed and Opening Night will be Friday\, May 29th. We apologize for the confusion!
URL:https://mychq.org/event/jamestown-tarp-skunks-may-june-schedule/2026-06-14/
LOCATION:Russell Diethrick Park\, 485 Falconer St.\, Jamestown\, NY\, 14701\, United States
CATEGORIES:Sports
ATTACH;FMTTYPE=image/jpeg:https://mychq.org/wp-content/uploads/2026/04/674652470_1731608781545064_8035116640307104285_n.jpg
ORGANIZER;CN="Jamestown Tarp Skunks":MAILTO:christian@tarpskunks.net
END:VEVENT
BEGIN:VEVENT
DTSTART;TZID=America/New_York:20260617T183000
DTEND;TZID=America/New_York:20260617T203000
DTSTAMP:20260422T184400
CREATED:20260421T203959Z
LAST-MODIFIED:20260421T203959Z
UID:10028310-1781721000-1781728200@mychq.org
SUMMARY:Jamestown Tarp Skunks May/June Schedule
DESCRIPTION:The wait is over… our 2026 Promotional Schedule is OUT!  \n\nKick things off with Opening Night on Friday\, May 29th at our Tailgate Festival presented by Jamestown Awning and Party Tents  Live music from the Porcelain Bus Drivers starts at 5PM\, plus postgame fireworks \nThis season is loaded with fun:\n22 home games \nKids in jerseys = FREE admission all season \n$2 Nights (beer\, hot dogs & tickets) \nFree admission on Community Nights like First Responders Night \nKids Carnival Day \nFREE admission buyout nights \nFireworks + Christmas in July \nKids Club & more\nCheck out the full schedule and start planning your summer at the ballpark! Here’s the link https://www.jamestowntarpskunks.com/Schedule\n\nEDIT – We noticed an error on the bottom half of the schedule where Opening Night says Thursday instead of Friday. We will get that fixed and Opening Night will be Friday\, May 29th. We apologize for the confusion!
URL:https://mychq.org/event/jamestown-tarp-skunks-may-june-schedule/2026-06-17/
LOCATION:Russell Diethrick Park\, 485 Falconer St.\, Jamestown\, NY\, 14701\, United States
CATEGORIES:Sports
ATTACH;FMTTYPE=image/jpeg:https://mychq.org/wp-content/uploads/2026/04/674652470_1731608781545064_8035116640307104285_n.jpg
ORGANIZER;CN="Jamestown Tarp Skunks":MAILTO:christian@tarpskunks.net
END:VEVENT
BEGIN:VEVENT
DTSTART;TZID=America/New_York:20260618T183000
DTEND;TZID=America/New_York:20260618T203000
DTSTAMP:20260422T184400
CREATED:20260421T203959Z
LAST-MODIFIED:20260421T203959Z
UID:10028311-1781807400-1781814600@mychq.org
SUMMARY:Jamestown Tarp Skunks May/June Schedule
DESCRIPTION:The wait is over… our 2026 Promotional Schedule is OUT!  \n\nKick things off with Opening Night on Friday\, May 29th at our Tailgate Festival presented by Jamestown Awning and Party Tents  Live music from the Porcelain Bus Drivers starts at 5PM\, plus postgame fireworks \nThis season is loaded with fun:\n22 home games \nKids in jerseys = FREE admission all season \n$2 Nights (beer\, hot dogs & tickets) \nFree admission on Community Nights like First Responders Night \nKids Carnival Day \nFREE admission buyout nights \nFireworks + Christmas in July \nKids Club & more\nCheck out the full schedule and start planning your summer at the ballpark! Here’s the link https://www.jamestowntarpskunks.com/Schedule\n\nEDIT – We noticed an error on the bottom half of the schedule where Opening Night says Thursday instead of Friday. We will get that fixed and Opening Night will be Friday\, May 29th. We apologize for the confusion!
URL:https://mychq.org/event/jamestown-tarp-skunks-may-june-schedule/2026-06-18/
LOCATION:Russell Diethrick Park\, 485 Falconer St.\, Jamestown\, NY\, 14701\, United States
CATEGORIES:Sports
ATTACH;FMTTYPE=image/jpeg:https://mychq.org/wp-content/uploads/2026/04/674652470_1731608781545064_8035116640307104285_n.jpg
ORGANIZER;CN="Jamestown Tarp Skunks":MAILTO:christian@tarpskunks.net
END:VEVENT
BEGIN:VEVENT
DTSTART;TZID=America/New_York:20260619T183000
DTEND;TZID=America/New_York:20260619T203000
DTSTAMP:20260422T184400
CREATED:20260421T203959Z
LAST-MODIFIED:20260421T203959Z
UID:10028312-1781893800-1781901000@mychq.org
SUMMARY:Jamestown Tarp Skunks May/June Schedule
DESCRIPTION:The wait is over… our 2026 Promotional Schedule is OUT!  \n\nKick things off with Opening Night on Friday\, May 29th at our Tailgate Festival presented by Jamestown Awning and Party Tents  Live music from the Porcelain Bus Drivers starts at 5PM\, plus postgame fireworks \nThis season is loaded with fun:\n22 home games \nKids in jerseys = FREE admission all season \n$2 Nights (beer\, hot dogs & tickets) \nFree admission on Community Nights like First Responders Night \nKids Carnival Day \nFREE admission buyout nights \nFireworks + Christmas in July \nKids Club & more\nCheck out the full schedule and start planning your summer at the ballpark! Here’s the link https://www.jamestowntarpskunks.com/Schedule\n\nEDIT – We noticed an error on the bottom half of the schedule where Opening Night says Thursday instead of Friday. We will get that fixed and Opening Night will be Friday\, May 29th. We apologize for the confusion!
URL:https://mychq.org/event/jamestown-tarp-skunks-may-june-schedule/2026-06-19/
LOCATION:Russell Diethrick Park\, 485 Falconer St.\, Jamestown\, NY\, 14701\, United States
CATEGORIES:Sports
ATTACH;FMTTYPE=image/jpeg:https://mychq.org/wp-content/uploads/2026/04/674652470_1731608781545064_8035116640307104285_n.jpg
ORGANIZER;CN="Jamestown Tarp Skunks":MAILTO:christian@tarpskunks.net
END:VEVENT
BEGIN:VEVENT
DTSTART;TZID=America/New_York:20260625T183000
DTEND;TZID=America/New_York:20260625T203000
DTSTAMP:20260422T184400
CREATED:20260421T203959Z
LAST-MODIFIED:20260421T203959Z
UID:10028313-1782412200-1782419400@mychq.org
SUMMARY:Jamestown Tarp Skunks May/June Schedule
DESCRIPTION:The wait is over… our 2026 Promotional Schedule is OUT!  \n\nKick things off with Opening Night on Friday\, May 29th at our Tailgate Festival presented by Jamestown Awning and Party Tents  Live music from the Porcelain Bus Drivers starts at 5PM\, plus postgame fireworks \nThis season is loaded with fun:\n22 home games \nKids in jerseys = FREE admission all season \n$2 Nights (beer\, hot dogs & tickets) \nFree admission on Community Nights like First Responders Night \nKids Carnival Day \nFREE admission buyout nights \nFireworks + Christmas in July \nKids Club & more\nCheck out the full schedule and start planning your summer at the ballpark! Here’s the link https://www.jamestowntarpskunks.com/Schedule\n\nEDIT – We noticed an error on the bottom half of the schedule where Opening Night says Thursday instead of Friday. We will get that fixed and Opening Night will be Friday\, May 29th. We apologize for the confusion!
URL:https://mychq.org/event/jamestown-tarp-skunks-may-june-schedule/2026-06-25/
LOCATION:Russell Diethrick Park\, 485 Falconer St.\, Jamestown\, NY\, 14701\, United States
CATEGORIES:Sports
ATTACH;FMTTYPE=image/jpeg:https://mychq.org/wp-content/uploads/2026/04/674652470_1731608781545064_8035116640307104285_n.jpg
ORGANIZER;CN="Jamestown Tarp Skunks":MAILTO:christian@tarpskunks.net
END:VEVENT
BEGIN:VEVENT
DTSTART;TZID=America/New_York:20260627T183000
DTEND;TZID=America/New_York:20260627T203000
DTSTAMP:20260422T184400
CREATED:20260421T203959Z
LAST-MODIFIED:20260421T203959Z
UID:10028314-1782585000-1782592200@mychq.org
SUMMARY:Jamestown Tarp Skunks May/June Schedule
DESCRIPTION:The wait is over… our 2026 Promotional Schedule is OUT!  \n\nKick things off with Opening Night on Friday\, May 29th at our Tailgate Festival presented by Jamestown Awning and Party Tents  Live music from the Porcelain Bus Drivers starts at 5PM\, plus postgame fireworks \nThis season is loaded with fun:\n22 home games \nKids in jerseys = FREE admission all season \n$2 Nights (beer\, hot dogs & tickets) \nFree admission on Community Nights like First Responders Night \nKids Carnival Day \nFREE admission buyout nights \nFireworks + Christmas in July \nKids Club & more\nCheck out the full schedule and start planning your summer at the ballpark! Here’s the link https://www.jamestowntarpskunks.com/Schedule\n\nEDIT – We noticed an error on the bottom half of the schedule where Opening Night says Thursday instead of Friday. We will get that fixed and Opening Night will be Friday\, May 29th. We apologize for the confusion!
URL:https://mychq.org/event/jamestown-tarp-skunks-may-june-schedule/2026-06-27/
LOCATION:Russell Diethrick Park\, 485 Falconer St.\, Jamestown\, NY\, 14701\, United States
CATEGORIES:Sports
ATTACH;FMTTYPE=image/jpeg:https://mychq.org/wp-content/uploads/2026/04/674652470_1731608781545064_8035116640307104285_n.jpg
ORGANIZER;CN="Jamestown Tarp Skunks":MAILTO:christian@tarpskunks.net
END:VEVENT
END:VCALENDAR