BEGIN:VCALENDAR
VERSION:2.0
PRODID:-//My CHQ - ECPv6.15.20//NONSGML v1.0//EN
CALSCALE:GREGORIAN
METHOD:PUBLISH
X-WR-CALNAME:My CHQ
X-ORIGINAL-URL:https://mychq.org
X-WR-CALDESC:Events for My CHQ
REFRESH-INTERVAL;VALUE=DURATION:PT1H
X-Robots-Tag:noindex
X-PUBLISHED-TTL:PT1H
BEGIN:VTIMEZONE
TZID:America/New_York
BEGIN:DAYLIGHT
TZOFFSETFROM:-0500
TZOFFSETTO:-0400
TZNAME:EDT
DTSTART:20250309T070000
END:DAYLIGHT
BEGIN:STANDARD
TZOFFSETFROM:-0400
TZOFFSETTO:-0500
TZNAME:EST
DTSTART:20251102T060000
END:STANDARD
BEGIN:DAYLIGHT
TZOFFSETFROM:-0500
TZOFFSETTO:-0400
TZNAME:EDT
DTSTART:20260308T070000
END:DAYLIGHT
BEGIN:STANDARD
TZOFFSETFROM:-0400
TZOFFSETTO:-0500
TZNAME:EST
DTSTART:20261101T060000
END:STANDARD
BEGIN:DAYLIGHT
TZOFFSETFROM:-0500
TZOFFSETTO:-0400
TZNAME:EDT
DTSTART:20270314T070000
END:DAYLIGHT
BEGIN:STANDARD
TZOFFSETFROM:-0400
TZOFFSETTO:-0500
TZNAME:EST
DTSTART:20271107T060000
END:STANDARD
END:VTIMEZONE
BEGIN:VEVENT
DTSTART;TZID=America/New_York:20260502T120000
DTEND;TZID=America/New_York:20260502T200000
DTSTAMP:20260421T060356
CREATED:20260415T180943Z
LAST-MODIFIED:20260415T180943Z
UID:10028167-1777723200-1777752000@mychq.org
SUMMARY:Cinco De Mayo & Margarita Madness @ Bemus Point Golf Club & Tap House
DESCRIPTION: Get ready to fiesta like there’s no mañana!  Join us for a Cinco De Mayo Weekend Celebration at the Bemus Point Golf Club & Tap House during Bemus Is Blooming Weekend in Bemus Point\, Chautauqua County!  \n Date: May 2nd – May 5th Time: Starting at 12:00 PM\, Saturday Location: Bemus Point Golf Club & Tap House \nIndulge in the ultimate fiesta experience with mouthwatering tacos  and refreshing margaritas served all weekend long! Soak up the sun on our outdoor patio and let the magic of a handcrafted margarita brighten your day!
URL:https://mychq.org/event/cinco-de-mayo-margarita-madness-bemus-point-golf-club-tap-house/2026-05-02/
LOCATION:Bemus Point Golf Club & Tap House\, 72 Main St.\, Bemus Point\, NY\, 14712\, United States
CATEGORIES:Food & Drink
ATTACH;FMTTYPE=image/jpeg:https://mychq.org/wp-content/uploads/2026/04/670192416_1803171637795542_560043426969886644_n.jpg
ORGANIZER;CN="Bemus Point Golf Club & Tap House":MAILTO:bpgctaphouse@gmail.com
END:VEVENT
BEGIN:VEVENT
DTSTART;TZID=America/New_York:20260503T120000
DTEND;TZID=America/New_York:20260503T200000
DTSTAMP:20260421T060356
CREATED:20260415T180943Z
LAST-MODIFIED:20260415T180943Z
UID:10028168-1777809600-1777838400@mychq.org
SUMMARY:Cinco De Mayo & Margarita Madness @ Bemus Point Golf Club & Tap House
DESCRIPTION: Get ready to fiesta like there’s no mañana!  Join us for a Cinco De Mayo Weekend Celebration at the Bemus Point Golf Club & Tap House during Bemus Is Blooming Weekend in Bemus Point\, Chautauqua County!  \n Date: May 2nd – May 5th Time: Starting at 12:00 PM\, Saturday Location: Bemus Point Golf Club & Tap House \nIndulge in the ultimate fiesta experience with mouthwatering tacos  and refreshing margaritas served all weekend long! Soak up the sun on our outdoor patio and let the magic of a handcrafted margarita brighten your day!
URL:https://mychq.org/event/cinco-de-mayo-margarita-madness-bemus-point-golf-club-tap-house/2026-05-03/
LOCATION:Bemus Point Golf Club & Tap House\, 72 Main St.\, Bemus Point\, NY\, 14712\, United States
CATEGORIES:Food & Drink
ATTACH;FMTTYPE=image/jpeg:https://mychq.org/wp-content/uploads/2026/04/670192416_1803171637795542_560043426969886644_n.jpg
ORGANIZER;CN="Bemus Point Golf Club & Tap House":MAILTO:bpgctaphouse@gmail.com
END:VEVENT
BEGIN:VEVENT
DTSTART;TZID=America/New_York:20260504T120000
DTEND;TZID=America/New_York:20260504T200000
DTSTAMP:20260421T060356
CREATED:20260415T180943Z
LAST-MODIFIED:20260415T180943Z
UID:10028169-1777896000-1777924800@mychq.org
SUMMARY:Cinco De Mayo & Margarita Madness @ Bemus Point Golf Club & Tap House
DESCRIPTION: Get ready to fiesta like there’s no mañana!  Join us for a Cinco De Mayo Weekend Celebration at the Bemus Point Golf Club & Tap House during Bemus Is Blooming Weekend in Bemus Point\, Chautauqua County!  \n Date: May 2nd – May 5th Time: Starting at 12:00 PM\, Saturday Location: Bemus Point Golf Club & Tap House \nIndulge in the ultimate fiesta experience with mouthwatering tacos  and refreshing margaritas served all weekend long! Soak up the sun on our outdoor patio and let the magic of a handcrafted margarita brighten your day!
URL:https://mychq.org/event/cinco-de-mayo-margarita-madness-bemus-point-golf-club-tap-house/2026-05-04/
LOCATION:Bemus Point Golf Club & Tap House\, 72 Main St.\, Bemus Point\, NY\, 14712\, United States
CATEGORIES:Food & Drink
ATTACH;FMTTYPE=image/jpeg:https://mychq.org/wp-content/uploads/2026/04/670192416_1803171637795542_560043426969886644_n.jpg
ORGANIZER;CN="Bemus Point Golf Club & Tap House":MAILTO:bpgctaphouse@gmail.com
END:VEVENT
BEGIN:VEVENT
DTSTART;TZID=America/New_York:20260505T120000
DTEND;TZID=America/New_York:20260505T200000
DTSTAMP:20260421T060356
CREATED:20260415T180943Z
LAST-MODIFIED:20260415T180943Z
UID:10028170-1777982400-1778011200@mychq.org
SUMMARY:Cinco De Mayo & Margarita Madness @ Bemus Point Golf Club & Tap House
DESCRIPTION: Get ready to fiesta like there’s no mañana!  Join us for a Cinco De Mayo Weekend Celebration at the Bemus Point Golf Club & Tap House during Bemus Is Blooming Weekend in Bemus Point\, Chautauqua County!  \n Date: May 2nd – May 5th Time: Starting at 12:00 PM\, Saturday Location: Bemus Point Golf Club & Tap House \nIndulge in the ultimate fiesta experience with mouthwatering tacos  and refreshing margaritas served all weekend long! Soak up the sun on our outdoor patio and let the magic of a handcrafted margarita brighten your day!
URL:https://mychq.org/event/cinco-de-mayo-margarita-madness-bemus-point-golf-club-tap-house/2026-05-05/
LOCATION:Bemus Point Golf Club & Tap House\, 72 Main St.\, Bemus Point\, NY\, 14712\, United States
CATEGORIES:Food & Drink
ATTACH;FMTTYPE=image/jpeg:https://mychq.org/wp-content/uploads/2026/04/670192416_1803171637795542_560043426969886644_n.jpg
ORGANIZER;CN="Bemus Point Golf Club & Tap House":MAILTO:bpgctaphouse@gmail.com
END:VEVENT
END:VCALENDAR