BEGIN:VCALENDAR
VERSION:2.0
PRODID:-//My CHQ - ECPv6.15.20//NONSGML v1.0//EN
CALSCALE:GREGORIAN
METHOD:PUBLISH
X-WR-CALNAME:My CHQ
X-ORIGINAL-URL:https://mychq.org
X-WR-CALDESC:Events for My CHQ
REFRESH-INTERVAL;VALUE=DURATION:PT1H
X-Robots-Tag:noindex
X-PUBLISHED-TTL:PT1H
BEGIN:VTIMEZONE
TZID:America/New_York
BEGIN:DAYLIGHT
TZOFFSETFROM:-0500
TZOFFSETTO:-0400
TZNAME:EDT
DTSTART:20250309T070000
END:DAYLIGHT
BEGIN:STANDARD
TZOFFSETFROM:-0400
TZOFFSETTO:-0500
TZNAME:EST
DTSTART:20251102T060000
END:STANDARD
BEGIN:DAYLIGHT
TZOFFSETFROM:-0500
TZOFFSETTO:-0400
TZNAME:EDT
DTSTART:20260308T070000
END:DAYLIGHT
BEGIN:STANDARD
TZOFFSETFROM:-0400
TZOFFSETTO:-0500
TZNAME:EST
DTSTART:20261101T060000
END:STANDARD
BEGIN:DAYLIGHT
TZOFFSETFROM:-0500
TZOFFSETTO:-0400
TZNAME:EDT
DTSTART:20270314T070000
END:DAYLIGHT
BEGIN:STANDARD
TZOFFSETFROM:-0400
TZOFFSETTO:-0500
TZNAME:EST
DTSTART:20271107T060000
END:STANDARD
END:VTIMEZONE
BEGIN:VEVENT
DTSTART;TZID=America/New_York:20260425T183000
DTEND;TZID=America/New_York:20260425T210000
DTSTAMP:20260423T124813
CREATED:20260415T160550Z
LAST-MODIFIED:20260415T160651Z
UID:10028161-1777141800-1777150800@mychq.org
SUMMARY:Skeletons & Strings | Live Music @ Wicked Warren's Jamestown
DESCRIPTION:Check it out! Introducing …Skeletons & Strings Where the music is live and the crowd is VERY much alive.We’re bringing in killer solo artists to take over the bar with acoustic sets – right in front of our skeleton crew. Warren and Eveline are super excited to be back up bones. Ever since their stint with the Rolling Bones\, they’ve been DYING to get back in it!Expect an intimate and cozy energy\, cold drinks flowing\, hot pizza from the wood fire and raw talent at its finest. Zero cover. Zero excuses.Grab your friends. Pull up a seat. Stay longer than you planned.Where: Jamestown – Bar AreaTime: 6:30-9:00 pm
URL:https://mychq.org/event/skeletons-strings-live-music-wicked-warrens-jamestown/2026-04-25/
LOCATION:Wicked Warrens Jamestown\, Washington St.\, Jamestown\, 14701\, United States
CATEGORIES:Music & Entertainment
ATTACH;FMTTYPE=image/jpeg:https://mychq.org/wp-content/uploads/2026/04/670407929_122187826898424994_7536508649962004742_n.jpg
ORGANIZER;CN="Wicked Warrens Jamestown":MAILTO:info@wickedwarrens.com
END:VEVENT
BEGIN:VEVENT
DTSTART;TZID=America/New_York:20260501T183000
DTEND;TZID=America/New_York:20260501T210000
DTSTAMP:20260423T124813
CREATED:20260415T160550Z
LAST-MODIFIED:20260415T160651Z
UID:10028162-1777660200-1777669200@mychq.org
SUMMARY:Skeletons & Strings | Live Music @ Wicked Warren's Jamestown
DESCRIPTION:Check it out! Introducing …Skeletons & Strings Where the music is live and the crowd is VERY much alive.We’re bringing in killer solo artists to take over the bar with acoustic sets – right in front of our skeleton crew. Warren and Eveline are super excited to be back up bones. Ever since their stint with the Rolling Bones\, they’ve been DYING to get back in it!Expect an intimate and cozy energy\, cold drinks flowing\, hot pizza from the wood fire and raw talent at its finest. Zero cover. Zero excuses.Grab your friends. Pull up a seat. Stay longer than you planned.Where: Jamestown – Bar AreaTime: 6:30-9:00 pm
URL:https://mychq.org/event/skeletons-strings-live-music-wicked-warrens-jamestown/2026-05-01/
LOCATION:Wicked Warrens Jamestown\, Washington St.\, Jamestown\, 14701\, United States
CATEGORIES:Music & Entertainment
ATTACH;FMTTYPE=image/jpeg:https://mychq.org/wp-content/uploads/2026/04/670407929_122187826898424994_7536508649962004742_n.jpg
ORGANIZER;CN="Wicked Warrens Jamestown":MAILTO:info@wickedwarrens.com
END:VEVENT
BEGIN:VEVENT
DTSTART;TZID=America/New_York:20260508T183000
DTEND;TZID=America/New_York:20260508T210000
DTSTAMP:20260423T124813
CREATED:20260415T160550Z
LAST-MODIFIED:20260415T160651Z
UID:10028163-1778265000-1778274000@mychq.org
SUMMARY:Skeletons & Strings | Live Music @ Wicked Warren's Jamestown
DESCRIPTION:Check it out! Introducing …Skeletons & Strings Where the music is live and the crowd is VERY much alive.We’re bringing in killer solo artists to take over the bar with acoustic sets – right in front of our skeleton crew. Warren and Eveline are super excited to be back up bones. Ever since their stint with the Rolling Bones\, they’ve been DYING to get back in it!Expect an intimate and cozy energy\, cold drinks flowing\, hot pizza from the wood fire and raw talent at its finest. Zero cover. Zero excuses.Grab your friends. Pull up a seat. Stay longer than you planned.Where: Jamestown – Bar AreaTime: 6:30-9:00 pm
URL:https://mychq.org/event/skeletons-strings-live-music-wicked-warrens-jamestown/2026-05-08/
LOCATION:Wicked Warrens Jamestown\, Washington St.\, Jamestown\, 14701\, United States
CATEGORIES:Music & Entertainment
ATTACH;FMTTYPE=image/jpeg:https://mychq.org/wp-content/uploads/2026/04/670407929_122187826898424994_7536508649962004742_n.jpg
ORGANIZER;CN="Wicked Warrens Jamestown":MAILTO:info@wickedwarrens.com
END:VEVENT
BEGIN:VEVENT
DTSTART;TZID=America/New_York:20260516T183000
DTEND;TZID=America/New_York:20260516T210000
DTSTAMP:20260423T124813
CREATED:20260415T160550Z
LAST-MODIFIED:20260415T160651Z
UID:10028164-1778956200-1778965200@mychq.org
SUMMARY:Skeletons & Strings | Live Music @ Wicked Warren's Jamestown
DESCRIPTION:Check it out! Introducing …Skeletons & Strings Where the music is live and the crowd is VERY much alive.We’re bringing in killer solo artists to take over the bar with acoustic sets – right in front of our skeleton crew. Warren and Eveline are super excited to be back up bones. Ever since their stint with the Rolling Bones\, they’ve been DYING to get back in it!Expect an intimate and cozy energy\, cold drinks flowing\, hot pizza from the wood fire and raw talent at its finest. Zero cover. Zero excuses.Grab your friends. Pull up a seat. Stay longer than you planned.Where: Jamestown – Bar AreaTime: 6:30-9:00 pm
URL:https://mychq.org/event/skeletons-strings-live-music-wicked-warrens-jamestown/2026-05-16/
LOCATION:Wicked Warrens Jamestown\, Washington St.\, Jamestown\, 14701\, United States
CATEGORIES:Music & Entertainment
ATTACH;FMTTYPE=image/jpeg:https://mychq.org/wp-content/uploads/2026/04/670407929_122187826898424994_7536508649962004742_n.jpg
ORGANIZER;CN="Wicked Warrens Jamestown":MAILTO:info@wickedwarrens.com
END:VEVENT
BEGIN:VEVENT
DTSTART;TZID=America/New_York:20260523T183000
DTEND;TZID=America/New_York:20260523T210000
DTSTAMP:20260423T124813
CREATED:20260415T160550Z
LAST-MODIFIED:20260415T160651Z
UID:10028165-1779561000-1779570000@mychq.org
SUMMARY:Skeletons & Strings | Live Music @ Wicked Warren's Jamestown
DESCRIPTION:Check it out! Introducing …Skeletons & Strings Where the music is live and the crowd is VERY much alive.We’re bringing in killer solo artists to take over the bar with acoustic sets – right in front of our skeleton crew. Warren and Eveline are super excited to be back up bones. Ever since their stint with the Rolling Bones\, they’ve been DYING to get back in it!Expect an intimate and cozy energy\, cold drinks flowing\, hot pizza from the wood fire and raw talent at its finest. Zero cover. Zero excuses.Grab your friends. Pull up a seat. Stay longer than you planned.Where: Jamestown – Bar AreaTime: 6:30-9:00 pm
URL:https://mychq.org/event/skeletons-strings-live-music-wicked-warrens-jamestown/2026-05-23/
LOCATION:Wicked Warrens Jamestown\, Washington St.\, Jamestown\, 14701\, United States
CATEGORIES:Music & Entertainment
ATTACH;FMTTYPE=image/jpeg:https://mychq.org/wp-content/uploads/2026/04/670407929_122187826898424994_7536508649962004742_n.jpg
ORGANIZER;CN="Wicked Warrens Jamestown":MAILTO:info@wickedwarrens.com
END:VEVENT
END:VCALENDAR