BEGIN:VCALENDAR
VERSION:2.0
PRODID:-//My CHQ - ECPv6.15.20//NONSGML v1.0//EN
CALSCALE:GREGORIAN
METHOD:PUBLISH
X-WR-CALNAME:My CHQ
X-ORIGINAL-URL:https://mychq.org
X-WR-CALDESC:Events for My CHQ
REFRESH-INTERVAL;VALUE=DURATION:PT1H
X-Robots-Tag:noindex
X-PUBLISHED-TTL:PT1H
BEGIN:VTIMEZONE
TZID:America/New_York
BEGIN:DAYLIGHT
TZOFFSETFROM:-0500
TZOFFSETTO:-0400
TZNAME:EDT
DTSTART:20250309T070000
END:DAYLIGHT
BEGIN:STANDARD
TZOFFSETFROM:-0400
TZOFFSETTO:-0500
TZNAME:EST
DTSTART:20251102T060000
END:STANDARD
BEGIN:DAYLIGHT
TZOFFSETFROM:-0500
TZOFFSETTO:-0400
TZNAME:EDT
DTSTART:20260308T070000
END:DAYLIGHT
BEGIN:STANDARD
TZOFFSETFROM:-0400
TZOFFSETTO:-0500
TZNAME:EST
DTSTART:20261101T060000
END:STANDARD
BEGIN:DAYLIGHT
TZOFFSETFROM:-0500
TZOFFSETTO:-0400
TZNAME:EDT
DTSTART:20270314T070000
END:DAYLIGHT
BEGIN:STANDARD
TZOFFSETFROM:-0400
TZOFFSETTO:-0500
TZNAME:EST
DTSTART:20271107T060000
END:STANDARD
END:VTIMEZONE
BEGIN:VEVENT
DTSTART;TZID=America/New_York:20260424T160000
DTEND;TZID=America/New_York:20260424T210000
DTSTAMP:20260421T085410
CREATED:20260413T203004Z
LAST-MODIFIED:20260413T203004Z
UID:10028068-1777046400-1777064400@mychq.org
SUMMARY:Ellicottville Brewing on Chautauqua Opening Weekend!
DESCRIPTION:Get excited – Opening Day 2026 is Friday\, April 24th!! \n\nStop in to celebrate the start of the season on Chautauqua Lake!\nOpening Weekend Hours:\nFriday 4/24: 4:00 PM – 9:00 PM\nSaturday 4/25: 12:00 PM – 9:00 PM\nSunday 4/26: 12:00 PM – 4:00 PM\nPLUS:\n– Live music with Jade Giambrone from 6-9PM on Friday\n– Bar-exclusive Happy Hour from 4-6PM ($5 Draft Beer & Wine)\n– EBC Seltzer Samples on Saturday between 2-4PM & 6-8PM!\n\nWe can’t wait to see you!
URL:https://mychq.org/event/ellicottville-brewing-on-chautauqua-opening-weekend/2026-04-24/
LOCATION:Ellicottville Brewing on Chautauqua\, 1 Main St\, Bemus Point\, 14712\, United States
CATEGORIES:Open House & Grand Opening
ATTACH;FMTTYPE=image/jpeg:https://mychq.org/wp-content/uploads/2026/04/671029484_1831987684785281_7876319193478443557_n.jpg
ORGANIZER;CN="Ellicottville Brewing on Chautauqua":MAILTO:info@ellicottvillebrewing.com
END:VEVENT
BEGIN:VEVENT
DTSTART;TZID=America/New_York:20260425T120000
DTEND;TZID=America/New_York:20260425T210000
DTSTAMP:20260421T085410
CREATED:20260413T203004Z
LAST-MODIFIED:20260413T203004Z
UID:10028069-1777118400-1777150800@mychq.org
SUMMARY:Ellicottville Brewing on Chautauqua Opening Weekend!
DESCRIPTION:Get excited – Opening Day 2026 is Friday\, April 24th!! \n\nStop in to celebrate the start of the season on Chautauqua Lake!\nOpening Weekend Hours:\nFriday 4/24: 4:00 PM – 9:00 PM\nSaturday 4/25: 12:00 PM – 9:00 PM\nSunday 4/26: 12:00 PM – 4:00 PM\nPLUS:\n– Live music with Jade Giambrone from 6-9PM on Friday\n– Bar-exclusive Happy Hour from 4-6PM ($5 Draft Beer & Wine)\n– EBC Seltzer Samples on Saturday between 2-4PM & 6-8PM!\n\nWe can’t wait to see you!
URL:https://mychq.org/event/ellicottville-brewing-on-chautauqua-opening-weekend/2026-04-25/
LOCATION:Ellicottville Brewing on Chautauqua\, 1 Main St\, Bemus Point\, 14712\, United States
CATEGORIES:Open House & Grand Opening
ATTACH;FMTTYPE=image/jpeg:https://mychq.org/wp-content/uploads/2026/04/671029484_1831987684785281_7876319193478443557_n.jpg
ORGANIZER;CN="Ellicottville Brewing on Chautauqua":MAILTO:info@ellicottvillebrewing.com
END:VEVENT
BEGIN:VEVENT
DTSTART;TZID=America/New_York:20260426T120000
DTEND;TZID=America/New_York:20260426T160000
DTSTAMP:20260421T085410
CREATED:20260413T203004Z
LAST-MODIFIED:20260413T203004Z
UID:10028070-1777204800-1777219200@mychq.org
SUMMARY:Ellicottville Brewing on Chautauqua Opening Weekend!
DESCRIPTION:Get excited – Opening Day 2026 is Friday\, April 24th!! \n\nStop in to celebrate the start of the season on Chautauqua Lake!\nOpening Weekend Hours:\nFriday 4/24: 4:00 PM – 9:00 PM\nSaturday 4/25: 12:00 PM – 9:00 PM\nSunday 4/26: 12:00 PM – 4:00 PM\nPLUS:\n– Live music with Jade Giambrone from 6-9PM on Friday\n– Bar-exclusive Happy Hour from 4-6PM ($5 Draft Beer & Wine)\n– EBC Seltzer Samples on Saturday between 2-4PM & 6-8PM!\n\nWe can’t wait to see you!
URL:https://mychq.org/event/ellicottville-brewing-on-chautauqua-opening-weekend/2026-04-26/
LOCATION:Ellicottville Brewing on Chautauqua\, 1 Main St\, Bemus Point\, 14712\, United States
CATEGORIES:Open House & Grand Opening
ATTACH;FMTTYPE=image/jpeg:https://mychq.org/wp-content/uploads/2026/04/671029484_1831987684785281_7876319193478443557_n.jpg
ORGANIZER;CN="Ellicottville Brewing on Chautauqua":MAILTO:info@ellicottvillebrewing.com
END:VEVENT
END:VCALENDAR