BEGIN:VCALENDAR
VERSION:2.0
PRODID:-//My CHQ - ECPv6.15.20//NONSGML v1.0//EN
CALSCALE:GREGORIAN
METHOD:PUBLISH
X-WR-CALNAME:My CHQ
X-ORIGINAL-URL:https://mychq.org
X-WR-CALDESC:Events for My CHQ
REFRESH-INTERVAL;VALUE=DURATION:PT1H
X-Robots-Tag:noindex
X-PUBLISHED-TTL:PT1H
BEGIN:VTIMEZONE
TZID:America/New_York
BEGIN:DAYLIGHT
TZOFFSETFROM:-0500
TZOFFSETTO:-0400
TZNAME:EDT
DTSTART:20250309T070000
END:DAYLIGHT
BEGIN:STANDARD
TZOFFSETFROM:-0400
TZOFFSETTO:-0500
TZNAME:EST
DTSTART:20251102T060000
END:STANDARD
BEGIN:DAYLIGHT
TZOFFSETFROM:-0500
TZOFFSETTO:-0400
TZNAME:EDT
DTSTART:20260308T070000
END:DAYLIGHT
BEGIN:STANDARD
TZOFFSETFROM:-0400
TZOFFSETTO:-0500
TZNAME:EST
DTSTART:20261101T060000
END:STANDARD
BEGIN:DAYLIGHT
TZOFFSETFROM:-0500
TZOFFSETTO:-0400
TZNAME:EDT
DTSTART:20270314T070000
END:DAYLIGHT
BEGIN:STANDARD
TZOFFSETFROM:-0400
TZOFFSETTO:-0500
TZNAME:EST
DTSTART:20271107T060000
END:STANDARD
END:VTIMEZONE
BEGIN:VEVENT
DTSTART;TZID=America/New_York:20260425T140000
DTEND;TZID=America/New_York:20260425T170000
DTSTAMP:20260422T194915
CREATED:20260223T163009Z
LAST-MODIFIED:20260223T163009Z
UID:10024997-1777125600-1777136400@mychq.org
SUMMARY:Family Movie Night @ East Randolph Methodist Church
DESCRIPTION:Monthly Family Movie time Free & open to the public – we supply the popcorn!!
URL:https://mychq.org/event/family-movie-night-east-randolph-methodist-church/2026-04-25/
LOCATION:East Randolph Methodist Church\, 122 Church St ER\, Randolph\, 14772\, United States
CATEGORIES:Movie
ATTACH;FMTTYPE=image/jpeg:https://mychq.org/wp-content/uploads/2026/02/638298732_1314192090743211_1947692496602928371_n.jpg
ORGANIZER;CN="East Randolph Methodist Church":MAILTO:secretary@erm.church
END:VEVENT
END:VCALENDAR