BEGIN:VCALENDAR
VERSION:2.0
PRODID:-//Chautauqua County Events, Local Businesses &amp; Resources | My CHQ - ECPv6.15.20//NONSGML v1.0//EN
CALSCALE:GREGORIAN
METHOD:PUBLISH
X-WR-CALNAME:Chautauqua County Events, Local Businesses &amp; Resources | My CHQ
X-ORIGINAL-URL:https://mychq.org
X-WR-CALDESC:Events for Chautauqua County Events, Local Businesses &amp; Resources | My CHQ
REFRESH-INTERVAL;VALUE=DURATION:PT1H
X-Robots-Tag:noindex
X-PUBLISHED-TTL:PT1H
BEGIN:VTIMEZONE
TZID:America/New_York
BEGIN:DAYLIGHT
TZOFFSETFROM:-0500
TZOFFSETTO:-0400
TZNAME:EDT
DTSTART:20250309T070000
END:DAYLIGHT
BEGIN:STANDARD
TZOFFSETFROM:-0400
TZOFFSETTO:-0500
TZNAME:EST
DTSTART:20251102T060000
END:STANDARD
BEGIN:DAYLIGHT
TZOFFSETFROM:-0500
TZOFFSETTO:-0400
TZNAME:EDT
DTSTART:20260308T070000
END:DAYLIGHT
BEGIN:STANDARD
TZOFFSETFROM:-0400
TZOFFSETTO:-0500
TZNAME:EST
DTSTART:20261101T060000
END:STANDARD
BEGIN:DAYLIGHT
TZOFFSETFROM:-0500
TZOFFSETTO:-0400
TZNAME:EDT
DTSTART:20270314T070000
END:DAYLIGHT
BEGIN:STANDARD
TZOFFSETFROM:-0400
TZOFFSETTO:-0500
TZNAME:EST
DTSTART:20271107T060000
END:STANDARD
END:VTIMEZONE
BEGIN:VEVENT
DTSTART;TZID=America/New_York:20260702T180000
DTEND;TZID=America/New_York:20260702T210000
DTSTAMP:20260424T160927
CREATED:20260209T165937Z
LAST-MODIFIED:20260209T165937Z
UID:10024842-1783015200-1783026000@mychq.org
SUMMARY:July 4th Weekend at Bemus Point Golf Club & Tap House
DESCRIPTION:July 4th Weekend at Bemus Point Golf Club & Tap HouseBemus Point\, NY \nCelebrate Independence Day weekend in Bemus Point with a full lineup of live music\, golf\, food\, drinks\, and outdoor fun near Chautauqua Lake. This is one of the most exciting holiday weekends of the summer in Chautauqua County\, bringing together locals\, visitors\, lakegoers\, and families for a high energy\, community centered experience.  \nFestivities take place around our outdoor music stage and gathering areas\, creating the perfect open air setting to relax\, connect\, and enjoy the holiday weekend. Bring your family\, meet up with friends\, and bring your pups. We are family friendly and pet friendly.  \nGuests can enjoy craft beer on tap\, a full food menu\, golf activities\, wellness style events\, and a variety of Independence Day weekend entertainment right in the heart of Bemus Point. Just steps from Bemus Bay and close to the Bemus Point fireworks\, this is a go to destination for July 4th events in Chautauqua County and things to do near Chautauqua Lake.  \nWhether you are searching for live music in Bemus Point\, family friendly Fourth of July events in Western New York\, or the perfect place to gather with friends over the holiday\, this weekend delivers summer vibes\, community connection\, and classic lake town energy.
URL:https://mychq.org/event/july-4th-weekend-at-bemus-point-golf-club-tap-house/2026-07-02/
LOCATION:Bemus Point Golf Club & Tap House\, 72 Main St.\, Bemus Point\, NY\, 14712\, United States
CATEGORIES:Festivals & Fairs
ATTACH;FMTTYPE=image/jpeg:https://mychq.org/wp-content/uploads/2026/02/627189683_1743542597091780_3380003802772566493_n.jpg
ORGANIZER;CN="Bemus Point Golf Club & Tap House":MAILTO:bpgctaphouse@gmail.com
END:VEVENT
BEGIN:VEVENT
DTSTART;TZID=America/New_York:20260703T160000
DTEND;TZID=America/New_York:20260703T210000
DTSTAMP:20260424T160927
CREATED:20260209T165937Z
LAST-MODIFIED:20260209T165937Z
UID:10024843-1783094400-1783112400@mychq.org
SUMMARY:July 4th Weekend at Bemus Point Golf Club & Tap House
DESCRIPTION:July 4th Weekend at Bemus Point Golf Club & Tap HouseBemus Point\, NY \nCelebrate Independence Day weekend in Bemus Point with a full lineup of live music\, golf\, food\, drinks\, and outdoor fun near Chautauqua Lake. This is one of the most exciting holiday weekends of the summer in Chautauqua County\, bringing together locals\, visitors\, lakegoers\, and families for a high energy\, community centered experience.  \nFestivities take place around our outdoor music stage and gathering areas\, creating the perfect open air setting to relax\, connect\, and enjoy the holiday weekend. Bring your family\, meet up with friends\, and bring your pups. We are family friendly and pet friendly.  \nGuests can enjoy craft beer on tap\, a full food menu\, golf activities\, wellness style events\, and a variety of Independence Day weekend entertainment right in the heart of Bemus Point. Just steps from Bemus Bay and close to the Bemus Point fireworks\, this is a go to destination for July 4th events in Chautauqua County and things to do near Chautauqua Lake.  \nWhether you are searching for live music in Bemus Point\, family friendly Fourth of July events in Western New York\, or the perfect place to gather with friends over the holiday\, this weekend delivers summer vibes\, community connection\, and classic lake town energy.
URL:https://mychq.org/event/july-4th-weekend-at-bemus-point-golf-club-tap-house/2026-07-03/
LOCATION:Bemus Point Golf Club & Tap House\, 72 Main St.\, Bemus Point\, NY\, 14712\, United States
CATEGORIES:Festivals & Fairs
ATTACH;FMTTYPE=image/jpeg:https://mychq.org/wp-content/uploads/2026/02/627189683_1743542597091780_3380003802772566493_n.jpg
ORGANIZER;CN="Bemus Point Golf Club & Tap House":MAILTO:bpgctaphouse@gmail.com
END:VEVENT
BEGIN:VEVENT
DTSTART;TZID=America/New_York:20260704T090000
DTEND;TZID=America/New_York:20260704T223000
DTSTAMP:20260424T160927
CREATED:20260209T165937Z
LAST-MODIFIED:20260209T165937Z
UID:10024844-1783155600-1783204200@mychq.org
SUMMARY:July 4th Weekend at Bemus Point Golf Club & Tap House
DESCRIPTION:July 4th Weekend at Bemus Point Golf Club & Tap HouseBemus Point\, NY \nCelebrate Independence Day weekend in Bemus Point with a full lineup of live music\, golf\, food\, drinks\, and outdoor fun near Chautauqua Lake. This is one of the most exciting holiday weekends of the summer in Chautauqua County\, bringing together locals\, visitors\, lakegoers\, and families for a high energy\, community centered experience.  \nFestivities take place around our outdoor music stage and gathering areas\, creating the perfect open air setting to relax\, connect\, and enjoy the holiday weekend. Bring your family\, meet up with friends\, and bring your pups. We are family friendly and pet friendly.  \nGuests can enjoy craft beer on tap\, a full food menu\, golf activities\, wellness style events\, and a variety of Independence Day weekend entertainment right in the heart of Bemus Point. Just steps from Bemus Bay and close to the Bemus Point fireworks\, this is a go to destination for July 4th events in Chautauqua County and things to do near Chautauqua Lake.  \nWhether you are searching for live music in Bemus Point\, family friendly Fourth of July events in Western New York\, or the perfect place to gather with friends over the holiday\, this weekend delivers summer vibes\, community connection\, and classic lake town energy.
URL:https://mychq.org/event/july-4th-weekend-at-bemus-point-golf-club-tap-house/2026-07-04/
LOCATION:Bemus Point Golf Club & Tap House\, 72 Main St.\, Bemus Point\, NY\, 14712\, United States
CATEGORIES:Festivals & Fairs
ATTACH;FMTTYPE=image/jpeg:https://mychq.org/wp-content/uploads/2026/02/627189683_1743542597091780_3380003802772566493_n.jpg
ORGANIZER;CN="Bemus Point Golf Club & Tap House":MAILTO:bpgctaphouse@gmail.com
END:VEVENT
BEGIN:VEVENT
DTSTART;TZID=America/New_York:20260705T100000
DTEND;TZID=America/New_York:20260705T170000
DTSTAMP:20260424T160927
CREATED:20260209T165937Z
LAST-MODIFIED:20260209T165937Z
UID:10024845-1783245600-1783270800@mychq.org
SUMMARY:July 4th Weekend at Bemus Point Golf Club & Tap House
DESCRIPTION:July 4th Weekend at Bemus Point Golf Club & Tap HouseBemus Point\, NY \nCelebrate Independence Day weekend in Bemus Point with a full lineup of live music\, golf\, food\, drinks\, and outdoor fun near Chautauqua Lake. This is one of the most exciting holiday weekends of the summer in Chautauqua County\, bringing together locals\, visitors\, lakegoers\, and families for a high energy\, community centered experience.  \nFestivities take place around our outdoor music stage and gathering areas\, creating the perfect open air setting to relax\, connect\, and enjoy the holiday weekend. Bring your family\, meet up with friends\, and bring your pups. We are family friendly and pet friendly.  \nGuests can enjoy craft beer on tap\, a full food menu\, golf activities\, wellness style events\, and a variety of Independence Day weekend entertainment right in the heart of Bemus Point. Just steps from Bemus Bay and close to the Bemus Point fireworks\, this is a go to destination for July 4th events in Chautauqua County and things to do near Chautauqua Lake.  \nWhether you are searching for live music in Bemus Point\, family friendly Fourth of July events in Western New York\, or the perfect place to gather with friends over the holiday\, this weekend delivers summer vibes\, community connection\, and classic lake town energy.
URL:https://mychq.org/event/july-4th-weekend-at-bemus-point-golf-club-tap-house/2026-07-05/
LOCATION:Bemus Point Golf Club & Tap House\, 72 Main St.\, Bemus Point\, NY\, 14712\, United States
CATEGORIES:Festivals & Fairs
ATTACH;FMTTYPE=image/jpeg:https://mychq.org/wp-content/uploads/2026/02/627189683_1743542597091780_3380003802772566493_n.jpg
ORGANIZER;CN="Bemus Point Golf Club & Tap House":MAILTO:bpgctaphouse@gmail.com
END:VEVENT
END:VCALENDAR