BEGIN:VCALENDAR
VERSION:2.0
PRODID:-//My CHQ - ECPv6.15.20//NONSGML v1.0//EN
CALSCALE:GREGORIAN
METHOD:PUBLISH
X-WR-CALNAME:My CHQ
X-ORIGINAL-URL:https://mychq.org
X-WR-CALDESC:Events for My CHQ
REFRESH-INTERVAL;VALUE=DURATION:PT1H
X-Robots-Tag:noindex
X-PUBLISHED-TTL:PT1H
BEGIN:VTIMEZONE
TZID:America/New_York
BEGIN:DAYLIGHT
TZOFFSETFROM:-0500
TZOFFSETTO:-0400
TZNAME:EDT
DTSTART:20250309T070000
END:DAYLIGHT
BEGIN:STANDARD
TZOFFSETFROM:-0400
TZOFFSETTO:-0500
TZNAME:EST
DTSTART:20251102T060000
END:STANDARD
BEGIN:DAYLIGHT
TZOFFSETFROM:-0500
TZOFFSETTO:-0400
TZNAME:EDT
DTSTART:20260308T070000
END:DAYLIGHT
BEGIN:STANDARD
TZOFFSETFROM:-0400
TZOFFSETTO:-0500
TZNAME:EST
DTSTART:20261101T060000
END:STANDARD
BEGIN:DAYLIGHT
TZOFFSETFROM:-0500
TZOFFSETTO:-0400
TZNAME:EDT
DTSTART:20270314T070000
END:DAYLIGHT
BEGIN:STANDARD
TZOFFSETFROM:-0400
TZOFFSETTO:-0500
TZNAME:EST
DTSTART:20271107T060000
END:STANDARD
END:VTIMEZONE
BEGIN:VEVENT
DTSTART;TZID=America/New_York:20260421T130000
DTEND;TZID=America/New_York:20260421T140000
DTSTAMP:20260420T222625
CREATED:20260206T193400Z
LAST-MODIFIED:20260206T193400Z
UID:10024770-1776776400-1776780000@mychq.org
SUMMARY:Cozy Crafters Club
DESCRIPTION:Meet\, greet\, and connect with fellow crafters in knitting\, crochet\, and embroidery. A patron led a weekly crafting club.
URL:https://mychq.org/event/cozy-crafters-club/2026-04-21/
LOCATION:Patterson Library\, 40 S Portage St\, Westfield\, 14787\, United States
CATEGORIES:Library
ATTACH;FMTTYPE=image/jpeg:https://mychq.org/wp-content/uploads/2026/02/622862954_1341724984660440_2106518228564197383_n.jpg
ORGANIZER;CN="Patterson Library":MAILTO:director@pattersonlib.org
END:VEVENT
BEGIN:VEVENT
DTSTART;TZID=America/New_York:20260428T130000
DTEND;TZID=America/New_York:20260428T140000
DTSTAMP:20260420T222625
CREATED:20260206T193400Z
LAST-MODIFIED:20260206T193400Z
UID:10024771-1777381200-1777384800@mychq.org
SUMMARY:Cozy Crafters Club
DESCRIPTION:Meet\, greet\, and connect with fellow crafters in knitting\, crochet\, and embroidery. A patron led a weekly crafting club.
URL:https://mychq.org/event/cozy-crafters-club/2026-04-28/
LOCATION:Patterson Library\, 40 S Portage St\, Westfield\, 14787\, United States
CATEGORIES:Library
ATTACH;FMTTYPE=image/jpeg:https://mychq.org/wp-content/uploads/2026/02/622862954_1341724984660440_2106518228564197383_n.jpg
ORGANIZER;CN="Patterson Library":MAILTO:director@pattersonlib.org
END:VEVENT
BEGIN:VEVENT
DTSTART;TZID=America/New_York:20260505T130000
DTEND;TZID=America/New_York:20260505T140000
DTSTAMP:20260420T222625
CREATED:20260206T193400Z
LAST-MODIFIED:20260206T193400Z
UID:10024772-1777986000-1777989600@mychq.org
SUMMARY:Cozy Crafters Club
DESCRIPTION:Meet\, greet\, and connect with fellow crafters in knitting\, crochet\, and embroidery. A patron led a weekly crafting club.
URL:https://mychq.org/event/cozy-crafters-club/2026-05-05/
LOCATION:Patterson Library\, 40 S Portage St\, Westfield\, 14787\, United States
CATEGORIES:Library
ATTACH;FMTTYPE=image/jpeg:https://mychq.org/wp-content/uploads/2026/02/622862954_1341724984660440_2106518228564197383_n.jpg
ORGANIZER;CN="Patterson Library":MAILTO:director@pattersonlib.org
END:VEVENT
BEGIN:VEVENT
DTSTART;TZID=America/New_York:20260512T130000
DTEND;TZID=America/New_York:20260512T140000
DTSTAMP:20260420T222625
CREATED:20260206T193400Z
LAST-MODIFIED:20260206T193400Z
UID:10024773-1778590800-1778594400@mychq.org
SUMMARY:Cozy Crafters Club
DESCRIPTION:Meet\, greet\, and connect with fellow crafters in knitting\, crochet\, and embroidery. A patron led a weekly crafting club.
URL:https://mychq.org/event/cozy-crafters-club/2026-05-12/
LOCATION:Patterson Library\, 40 S Portage St\, Westfield\, 14787\, United States
CATEGORIES:Library
ATTACH;FMTTYPE=image/jpeg:https://mychq.org/wp-content/uploads/2026/02/622862954_1341724984660440_2106518228564197383_n.jpg
ORGANIZER;CN="Patterson Library":MAILTO:director@pattersonlib.org
END:VEVENT
BEGIN:VEVENT
DTSTART;TZID=America/New_York:20260519T130000
DTEND;TZID=America/New_York:20260519T140000
DTSTAMP:20260420T222625
CREATED:20260206T193400Z
LAST-MODIFIED:20260206T193400Z
UID:10024774-1779195600-1779199200@mychq.org
SUMMARY:Cozy Crafters Club
DESCRIPTION:Meet\, greet\, and connect with fellow crafters in knitting\, crochet\, and embroidery. A patron led a weekly crafting club.
URL:https://mychq.org/event/cozy-crafters-club/2026-05-19/
LOCATION:Patterson Library\, 40 S Portage St\, Westfield\, 14787\, United States
CATEGORIES:Library
ATTACH;FMTTYPE=image/jpeg:https://mychq.org/wp-content/uploads/2026/02/622862954_1341724984660440_2106518228564197383_n.jpg
ORGANIZER;CN="Patterson Library":MAILTO:director@pattersonlib.org
END:VEVENT
BEGIN:VEVENT
DTSTART;TZID=America/New_York:20260526T130000
DTEND;TZID=America/New_York:20260526T140000
DTSTAMP:20260420T222625
CREATED:20260206T193400Z
LAST-MODIFIED:20260206T193400Z
UID:10024775-1779800400-1779804000@mychq.org
SUMMARY:Cozy Crafters Club
DESCRIPTION:Meet\, greet\, and connect with fellow crafters in knitting\, crochet\, and embroidery. A patron led a weekly crafting club.
URL:https://mychq.org/event/cozy-crafters-club/2026-05-26/
LOCATION:Patterson Library\, 40 S Portage St\, Westfield\, 14787\, United States
CATEGORIES:Library
ATTACH;FMTTYPE=image/jpeg:https://mychq.org/wp-content/uploads/2026/02/622862954_1341724984660440_2106518228564197383_n.jpg
ORGANIZER;CN="Patterson Library":MAILTO:director@pattersonlib.org
END:VEVENT
BEGIN:VEVENT
DTSTART;TZID=America/New_York:20260602T130000
DTEND;TZID=America/New_York:20260602T140000
DTSTAMP:20260420T222625
CREATED:20260206T193400Z
LAST-MODIFIED:20260206T193400Z
UID:10024776-1780405200-1780408800@mychq.org
SUMMARY:Cozy Crafters Club
DESCRIPTION:Meet\, greet\, and connect with fellow crafters in knitting\, crochet\, and embroidery. A patron led a weekly crafting club.
URL:https://mychq.org/event/cozy-crafters-club/2026-06-02/
LOCATION:Patterson Library\, 40 S Portage St\, Westfield\, 14787\, United States
CATEGORIES:Library
ATTACH;FMTTYPE=image/jpeg:https://mychq.org/wp-content/uploads/2026/02/622862954_1341724984660440_2106518228564197383_n.jpg
ORGANIZER;CN="Patterson Library":MAILTO:director@pattersonlib.org
END:VEVENT
BEGIN:VEVENT
DTSTART;TZID=America/New_York:20260609T130000
DTEND;TZID=America/New_York:20260609T140000
DTSTAMP:20260420T222625
CREATED:20260206T193400Z
LAST-MODIFIED:20260206T193400Z
UID:10024777-1781010000-1781013600@mychq.org
SUMMARY:Cozy Crafters Club
DESCRIPTION:Meet\, greet\, and connect with fellow crafters in knitting\, crochet\, and embroidery. A patron led a weekly crafting club.
URL:https://mychq.org/event/cozy-crafters-club/2026-06-09/
LOCATION:Patterson Library\, 40 S Portage St\, Westfield\, 14787\, United States
CATEGORIES:Library
ATTACH;FMTTYPE=image/jpeg:https://mychq.org/wp-content/uploads/2026/02/622862954_1341724984660440_2106518228564197383_n.jpg
ORGANIZER;CN="Patterson Library":MAILTO:director@pattersonlib.org
END:VEVENT
BEGIN:VEVENT
DTSTART;TZID=America/New_York:20260616T130000
DTEND;TZID=America/New_York:20260616T140000
DTSTAMP:20260420T222625
CREATED:20260206T193400Z
LAST-MODIFIED:20260206T193400Z
UID:10024778-1781614800-1781618400@mychq.org
SUMMARY:Cozy Crafters Club
DESCRIPTION:Meet\, greet\, and connect with fellow crafters in knitting\, crochet\, and embroidery. A patron led a weekly crafting club.
URL:https://mychq.org/event/cozy-crafters-club/2026-06-16/
LOCATION:Patterson Library\, 40 S Portage St\, Westfield\, 14787\, United States
CATEGORIES:Library
ATTACH;FMTTYPE=image/jpeg:https://mychq.org/wp-content/uploads/2026/02/622862954_1341724984660440_2106518228564197383_n.jpg
ORGANIZER;CN="Patterson Library":MAILTO:director@pattersonlib.org
END:VEVENT
BEGIN:VEVENT
DTSTART;TZID=America/New_York:20260623T130000
DTEND;TZID=America/New_York:20260623T140000
DTSTAMP:20260420T222625
CREATED:20260206T193400Z
LAST-MODIFIED:20260206T193400Z
UID:10024779-1782219600-1782223200@mychq.org
SUMMARY:Cozy Crafters Club
DESCRIPTION:Meet\, greet\, and connect with fellow crafters in knitting\, crochet\, and embroidery. A patron led a weekly crafting club.
URL:https://mychq.org/event/cozy-crafters-club/2026-06-23/
LOCATION:Patterson Library\, 40 S Portage St\, Westfield\, 14787\, United States
CATEGORIES:Library
ATTACH;FMTTYPE=image/jpeg:https://mychq.org/wp-content/uploads/2026/02/622862954_1341724984660440_2106518228564197383_n.jpg
ORGANIZER;CN="Patterson Library":MAILTO:director@pattersonlib.org
END:VEVENT
BEGIN:VEVENT
DTSTART;TZID=America/New_York:20260630T130000
DTEND;TZID=America/New_York:20260630T140000
DTSTAMP:20260420T222625
CREATED:20260206T193400Z
LAST-MODIFIED:20260206T193400Z
UID:10024780-1782824400-1782828000@mychq.org
SUMMARY:Cozy Crafters Club
DESCRIPTION:Meet\, greet\, and connect with fellow crafters in knitting\, crochet\, and embroidery. A patron led a weekly crafting club.
URL:https://mychq.org/event/cozy-crafters-club/2026-06-30/
LOCATION:Patterson Library\, 40 S Portage St\, Westfield\, 14787\, United States
CATEGORIES:Library
ATTACH;FMTTYPE=image/jpeg:https://mychq.org/wp-content/uploads/2026/02/622862954_1341724984660440_2106518228564197383_n.jpg
ORGANIZER;CN="Patterson Library":MAILTO:director@pattersonlib.org
END:VEVENT
END:VCALENDAR