BEGIN:VCALENDAR
VERSION:2.0
PRODID:-//Chautauqua County Events, Local Businesses &amp; Resources | My CHQ - ECPv6.15.20//NONSGML v1.0//EN
CALSCALE:GREGORIAN
METHOD:PUBLISH
X-WR-CALNAME:Chautauqua County Events, Local Businesses &amp; Resources | My CHQ
X-ORIGINAL-URL:https://mychq.org
X-WR-CALDESC:Events for Chautauqua County Events, Local Businesses &amp; Resources | My CHQ
REFRESH-INTERVAL;VALUE=DURATION:PT1H
X-Robots-Tag:noindex
X-PUBLISHED-TTL:PT1H
BEGIN:VTIMEZONE
TZID:America/New_York
BEGIN:DAYLIGHT
TZOFFSETFROM:-0500
TZOFFSETTO:-0400
TZNAME:EDT
DTSTART:20250309T070000
END:DAYLIGHT
BEGIN:STANDARD
TZOFFSETFROM:-0400
TZOFFSETTO:-0500
TZNAME:EST
DTSTART:20251102T060000
END:STANDARD
BEGIN:DAYLIGHT
TZOFFSETFROM:-0500
TZOFFSETTO:-0400
TZNAME:EDT
DTSTART:20260308T070000
END:DAYLIGHT
BEGIN:STANDARD
TZOFFSETFROM:-0400
TZOFFSETTO:-0500
TZNAME:EST
DTSTART:20261101T060000
END:STANDARD
BEGIN:DAYLIGHT
TZOFFSETFROM:-0500
TZOFFSETTO:-0400
TZNAME:EDT
DTSTART:20270314T070000
END:DAYLIGHT
BEGIN:STANDARD
TZOFFSETFROM:-0400
TZOFFSETTO:-0500
TZNAME:EST
DTSTART:20271107T060000
END:STANDARD
END:VTIMEZONE
BEGIN:VEVENT
DTSTART;TZID=America/New_York:20260516T110000
DTEND;TZID=America/New_York:20260516T130000
DTSTAMP:20260425T232058
CREATED:20260126T204907Z
LAST-MODIFIED:20260126T204907Z
UID:10024514-1778929200-1778936400@mychq.org
SUMMARY:Harvest Chapel "Laundromat Love"
DESCRIPTION:Stop by the Dunkirk Laundromat every third Saturday of the month from 11 AM – 1 PM to care for your laundry free of charge! See the flyer for details!
URL:https://mychq.org/event/harvest-chapel-laundromat-love/2026-05-16/
LOCATION:Dunkirk Laundromat\, 123 Lakeshore Dr E\, Dunkirk\, 14048\, United States
CATEGORIES:Chairities
ATTACH;FMTTYPE=image/jpeg:https://mychq.org/wp-content/uploads/2026/01/615795532_25889322380680009_5169410925168378079_n.jpg
ORGANIZER;CN="Harvest Chapel":MAILTO:ruthann@harvestchapelfmc.com
END:VEVENT
BEGIN:VEVENT
DTSTART;TZID=America/New_York:20260620T110000
DTEND;TZID=America/New_York:20260620T130000
DTSTAMP:20260425T232058
CREATED:20260126T204907Z
LAST-MODIFIED:20260126T204907Z
UID:10024515-1781953200-1781960400@mychq.org
SUMMARY:Harvest Chapel "Laundromat Love"
DESCRIPTION:Stop by the Dunkirk Laundromat every third Saturday of the month from 11 AM – 1 PM to care for your laundry free of charge! See the flyer for details!
URL:https://mychq.org/event/harvest-chapel-laundromat-love/2026-06-20/
LOCATION:Dunkirk Laundromat\, 123 Lakeshore Dr E\, Dunkirk\, 14048\, United States
CATEGORIES:Chairities
ATTACH;FMTTYPE=image/jpeg:https://mychq.org/wp-content/uploads/2026/01/615795532_25889322380680009_5169410925168378079_n.jpg
ORGANIZER;CN="Harvest Chapel":MAILTO:ruthann@harvestchapelfmc.com
END:VEVENT
BEGIN:VEVENT
DTSTART;TZID=America/New_York:20260718T110000
DTEND;TZID=America/New_York:20260718T130000
DTSTAMP:20260425T232058
CREATED:20260126T204907Z
LAST-MODIFIED:20260126T204907Z
UID:10024516-1784372400-1784379600@mychq.org
SUMMARY:Harvest Chapel "Laundromat Love"
DESCRIPTION:Stop by the Dunkirk Laundromat every third Saturday of the month from 11 AM – 1 PM to care for your laundry free of charge! See the flyer for details!
URL:https://mychq.org/event/harvest-chapel-laundromat-love/2026-07-18/
LOCATION:Dunkirk Laundromat\, 123 Lakeshore Dr E\, Dunkirk\, 14048\, United States
CATEGORIES:Chairities
ATTACH;FMTTYPE=image/jpeg:https://mychq.org/wp-content/uploads/2026/01/615795532_25889322380680009_5169410925168378079_n.jpg
ORGANIZER;CN="Harvest Chapel":MAILTO:ruthann@harvestchapelfmc.com
END:VEVENT
BEGIN:VEVENT
DTSTART;TZID=America/New_York:20260815T110000
DTEND;TZID=America/New_York:20260815T130000
DTSTAMP:20260425T232058
CREATED:20260126T204907Z
LAST-MODIFIED:20260126T204907Z
UID:10024517-1786791600-1786798800@mychq.org
SUMMARY:Harvest Chapel "Laundromat Love"
DESCRIPTION:Stop by the Dunkirk Laundromat every third Saturday of the month from 11 AM – 1 PM to care for your laundry free of charge! See the flyer for details!
URL:https://mychq.org/event/harvest-chapel-laundromat-love/2026-08-15/
LOCATION:Dunkirk Laundromat\, 123 Lakeshore Dr E\, Dunkirk\, 14048\, United States
CATEGORIES:Chairities
ATTACH;FMTTYPE=image/jpeg:https://mychq.org/wp-content/uploads/2026/01/615795532_25889322380680009_5169410925168378079_n.jpg
ORGANIZER;CN="Harvest Chapel":MAILTO:ruthann@harvestchapelfmc.com
END:VEVENT
BEGIN:VEVENT
DTSTART;TZID=America/New_York:20260919T110000
DTEND;TZID=America/New_York:20260919T130000
DTSTAMP:20260425T232058
CREATED:20260126T204907Z
LAST-MODIFIED:20260126T204907Z
UID:10024518-1789815600-1789822800@mychq.org
SUMMARY:Harvest Chapel "Laundromat Love"
DESCRIPTION:Stop by the Dunkirk Laundromat every third Saturday of the month from 11 AM – 1 PM to care for your laundry free of charge! See the flyer for details!
URL:https://mychq.org/event/harvest-chapel-laundromat-love/2026-09-19/
LOCATION:Dunkirk Laundromat\, 123 Lakeshore Dr E\, Dunkirk\, 14048\, United States
CATEGORIES:Chairities
ATTACH;FMTTYPE=image/jpeg:https://mychq.org/wp-content/uploads/2026/01/615795532_25889322380680009_5169410925168378079_n.jpg
ORGANIZER;CN="Harvest Chapel":MAILTO:ruthann@harvestchapelfmc.com
END:VEVENT
BEGIN:VEVENT
DTSTART;TZID=America/New_York:20261017T110000
DTEND;TZID=America/New_York:20261017T130000
DTSTAMP:20260425T232058
CREATED:20260126T204907Z
LAST-MODIFIED:20260126T204907Z
UID:10024519-1792234800-1792242000@mychq.org
SUMMARY:Harvest Chapel "Laundromat Love"
DESCRIPTION:Stop by the Dunkirk Laundromat every third Saturday of the month from 11 AM – 1 PM to care for your laundry free of charge! See the flyer for details!
URL:https://mychq.org/event/harvest-chapel-laundromat-love/2026-10-17/
LOCATION:Dunkirk Laundromat\, 123 Lakeshore Dr E\, Dunkirk\, 14048\, United States
CATEGORIES:Chairities
ATTACH;FMTTYPE=image/jpeg:https://mychq.org/wp-content/uploads/2026/01/615795532_25889322380680009_5169410925168378079_n.jpg
ORGANIZER;CN="Harvest Chapel":MAILTO:ruthann@harvestchapelfmc.com
END:VEVENT
BEGIN:VEVENT
DTSTART;TZID=America/New_York:20261121T110000
DTEND;TZID=America/New_York:20261121T130000
DTSTAMP:20260425T232058
CREATED:20260126T204907Z
LAST-MODIFIED:20260126T204907Z
UID:10024520-1795258800-1795266000@mychq.org
SUMMARY:Harvest Chapel "Laundromat Love"
DESCRIPTION:Stop by the Dunkirk Laundromat every third Saturday of the month from 11 AM – 1 PM to care for your laundry free of charge! See the flyer for details!
URL:https://mychq.org/event/harvest-chapel-laundromat-love/2026-11-21/
LOCATION:Dunkirk Laundromat\, 123 Lakeshore Dr E\, Dunkirk\, 14048\, United States
CATEGORIES:Chairities
ATTACH;FMTTYPE=image/jpeg:https://mychq.org/wp-content/uploads/2026/01/615795532_25889322380680009_5169410925168378079_n.jpg
ORGANIZER;CN="Harvest Chapel":MAILTO:ruthann@harvestchapelfmc.com
END:VEVENT
BEGIN:VEVENT
DTSTART;TZID=America/New_York:20261219T110000
DTEND;TZID=America/New_York:20261219T130000
DTSTAMP:20260425T232058
CREATED:20260126T204907Z
LAST-MODIFIED:20260126T204907Z
UID:10024521-1797678000-1797685200@mychq.org
SUMMARY:Harvest Chapel "Laundromat Love"
DESCRIPTION:Stop by the Dunkirk Laundromat every third Saturday of the month from 11 AM – 1 PM to care for your laundry free of charge! See the flyer for details!
URL:https://mychq.org/event/harvest-chapel-laundromat-love/2026-12-19/
LOCATION:Dunkirk Laundromat\, 123 Lakeshore Dr E\, Dunkirk\, 14048\, United States
CATEGORIES:Chairities
ATTACH;FMTTYPE=image/jpeg:https://mychq.org/wp-content/uploads/2026/01/615795532_25889322380680009_5169410925168378079_n.jpg
ORGANIZER;CN="Harvest Chapel":MAILTO:ruthann@harvestchapelfmc.com
END:VEVENT
END:VCALENDAR