BEGIN:VCALENDAR
VERSION:2.0
PRODID:-//Chautauqua County Events, Local Businesses &amp; Resources | My CHQ - ECPv6.15.20//NONSGML v1.0//EN
CALSCALE:GREGORIAN
METHOD:PUBLISH
X-WR-CALNAME:Chautauqua County Events, Local Businesses &amp; Resources | My CHQ
X-ORIGINAL-URL:https://mychq.org
X-WR-CALDESC:Events for Chautauqua County Events, Local Businesses &amp; Resources | My CHQ
REFRESH-INTERVAL;VALUE=DURATION:PT1H
X-Robots-Tag:noindex
X-PUBLISHED-TTL:PT1H
BEGIN:VTIMEZONE
TZID:America/New_York
BEGIN:DAYLIGHT
TZOFFSETFROM:-0500
TZOFFSETTO:-0400
TZNAME:EDT
DTSTART:20250309T070000
END:DAYLIGHT
BEGIN:STANDARD
TZOFFSETFROM:-0400
TZOFFSETTO:-0500
TZNAME:EST
DTSTART:20251102T060000
END:STANDARD
BEGIN:DAYLIGHT
TZOFFSETFROM:-0500
TZOFFSETTO:-0400
TZNAME:EDT
DTSTART:20260308T070000
END:DAYLIGHT
BEGIN:STANDARD
TZOFFSETFROM:-0400
TZOFFSETTO:-0500
TZNAME:EST
DTSTART:20261101T060000
END:STANDARD
BEGIN:DAYLIGHT
TZOFFSETFROM:-0500
TZOFFSETTO:-0400
TZNAME:EDT
DTSTART:20270314T070000
END:DAYLIGHT
BEGIN:STANDARD
TZOFFSETFROM:-0400
TZOFFSETTO:-0500
TZNAME:EST
DTSTART:20271107T060000
END:STANDARD
END:VTIMEZONE
BEGIN:VEVENT
DTSTART;TZID=America/New_York:20260428T160000
DTEND;TZID=America/New_York:20260428T170000
DTSTAMP:20260423T160223
CREATED:20251229T162703Z
LAST-MODIFIED:20251229T162703Z
UID:10023862-1777392000-1777395600@mychq.org
SUMMARY:Tinker Tuesday @ Lakewood Memorial Library
DESCRIPTION:Tinker Tuesday is a hands-on educational program that allows children to explore\, create\, design\, and problem solve focusing on STEAM activities. We’ll tinker with LEGOs\, circuits\, our 3D printer\, and much more! Ages 6-12
URL:https://mychq.org/event/tinker-tuesday-lakewood-memorial-library-2/2026-04-28/
LOCATION:Lakewood Memorial Library\, 12 West Summit St\, Lakewood\, 14750\, United States
CATEGORIES:Library
ATTACH;FMTTYPE=image/jpeg:https://mychq.org/wp-content/uploads/2025/12/607432952_1296701195827239_1200229293071138477_n.jpg
ORGANIZER;CN="Lakewood Memorial Library":MAILTO:info@lakewoodlibrary.org
END:VEVENT
BEGIN:VEVENT
DTSTART;TZID=America/New_York:20260512T160000
DTEND;TZID=America/New_York:20260512T170000
DTSTAMP:20260423T160223
CREATED:20251229T162703Z
LAST-MODIFIED:20251229T162703Z
UID:10023863-1778601600-1778605200@mychq.org
SUMMARY:Tinker Tuesday @ Lakewood Memorial Library
DESCRIPTION:Tinker Tuesday is a hands-on educational program that allows children to explore\, create\, design\, and problem solve focusing on STEAM activities. We’ll tinker with LEGOs\, circuits\, our 3D printer\, and much more! Ages 6-12
URL:https://mychq.org/event/tinker-tuesday-lakewood-memorial-library-2/2026-05-12/
LOCATION:Lakewood Memorial Library\, 12 West Summit St\, Lakewood\, 14750\, United States
CATEGORIES:Library
ATTACH;FMTTYPE=image/jpeg:https://mychq.org/wp-content/uploads/2025/12/607432952_1296701195827239_1200229293071138477_n.jpg
ORGANIZER;CN="Lakewood Memorial Library":MAILTO:info@lakewoodlibrary.org
END:VEVENT
BEGIN:VEVENT
DTSTART;TZID=America/New_York:20260526T160000
DTEND;TZID=America/New_York:20260526T170000
DTSTAMP:20260423T160223
CREATED:20251229T162703Z
LAST-MODIFIED:20251229T162703Z
UID:10023864-1779811200-1779814800@mychq.org
SUMMARY:Tinker Tuesday @ Lakewood Memorial Library
DESCRIPTION:Tinker Tuesday is a hands-on educational program that allows children to explore\, create\, design\, and problem solve focusing on STEAM activities. We’ll tinker with LEGOs\, circuits\, our 3D printer\, and much more! Ages 6-12
URL:https://mychq.org/event/tinker-tuesday-lakewood-memorial-library-2/2026-05-26/
LOCATION:Lakewood Memorial Library\, 12 West Summit St\, Lakewood\, 14750\, United States
CATEGORIES:Library
ATTACH;FMTTYPE=image/jpeg:https://mychq.org/wp-content/uploads/2025/12/607432952_1296701195827239_1200229293071138477_n.jpg
ORGANIZER;CN="Lakewood Memorial Library":MAILTO:info@lakewoodlibrary.org
END:VEVENT
BEGIN:VEVENT
DTSTART;TZID=America/New_York:20260609T160000
DTEND;TZID=America/New_York:20260609T170000
DTSTAMP:20260423T160223
CREATED:20251229T162703Z
LAST-MODIFIED:20251229T162703Z
UID:10023865-1781020800-1781024400@mychq.org
SUMMARY:Tinker Tuesday @ Lakewood Memorial Library
DESCRIPTION:Tinker Tuesday is a hands-on educational program that allows children to explore\, create\, design\, and problem solve focusing on STEAM activities. We’ll tinker with LEGOs\, circuits\, our 3D printer\, and much more! Ages 6-12
URL:https://mychq.org/event/tinker-tuesday-lakewood-memorial-library-2/2026-06-09/
LOCATION:Lakewood Memorial Library\, 12 West Summit St\, Lakewood\, 14750\, United States
CATEGORIES:Library
ATTACH;FMTTYPE=image/jpeg:https://mychq.org/wp-content/uploads/2025/12/607432952_1296701195827239_1200229293071138477_n.jpg
ORGANIZER;CN="Lakewood Memorial Library":MAILTO:info@lakewoodlibrary.org
END:VEVENT
BEGIN:VEVENT
DTSTART;TZID=America/New_York:20260623T160000
DTEND;TZID=America/New_York:20260623T170000
DTSTAMP:20260423T160223
CREATED:20251229T162703Z
LAST-MODIFIED:20251229T162703Z
UID:10023866-1782230400-1782234000@mychq.org
SUMMARY:Tinker Tuesday @ Lakewood Memorial Library
DESCRIPTION:Tinker Tuesday is a hands-on educational program that allows children to explore\, create\, design\, and problem solve focusing on STEAM activities. We’ll tinker with LEGOs\, circuits\, our 3D printer\, and much more! Ages 6-12
URL:https://mychq.org/event/tinker-tuesday-lakewood-memorial-library-2/2026-06-23/
LOCATION:Lakewood Memorial Library\, 12 West Summit St\, Lakewood\, 14750\, United States
CATEGORIES:Library
ATTACH;FMTTYPE=image/jpeg:https://mychq.org/wp-content/uploads/2025/12/607432952_1296701195827239_1200229293071138477_n.jpg
ORGANIZER;CN="Lakewood Memorial Library":MAILTO:info@lakewoodlibrary.org
END:VEVENT
BEGIN:VEVENT
DTSTART;TZID=America/New_York:20260714T160000
DTEND;TZID=America/New_York:20260714T170000
DTSTAMP:20260423T160223
CREATED:20251229T162703Z
LAST-MODIFIED:20251229T162703Z
UID:10023867-1784044800-1784048400@mychq.org
SUMMARY:Tinker Tuesday @ Lakewood Memorial Library
DESCRIPTION:Tinker Tuesday is a hands-on educational program that allows children to explore\, create\, design\, and problem solve focusing on STEAM activities. We’ll tinker with LEGOs\, circuits\, our 3D printer\, and much more! Ages 6-12
URL:https://mychq.org/event/tinker-tuesday-lakewood-memorial-library-2/2026-07-14/
LOCATION:Lakewood Memorial Library\, 12 West Summit St\, Lakewood\, 14750\, United States
CATEGORIES:Library
ATTACH;FMTTYPE=image/jpeg:https://mychq.org/wp-content/uploads/2025/12/607432952_1296701195827239_1200229293071138477_n.jpg
ORGANIZER;CN="Lakewood Memorial Library":MAILTO:info@lakewoodlibrary.org
END:VEVENT
BEGIN:VEVENT
DTSTART;TZID=America/New_York:20260728T160000
DTEND;TZID=America/New_York:20260728T170000
DTSTAMP:20260423T160223
CREATED:20251229T162703Z
LAST-MODIFIED:20251229T162703Z
UID:10023868-1785254400-1785258000@mychq.org
SUMMARY:Tinker Tuesday @ Lakewood Memorial Library
DESCRIPTION:Tinker Tuesday is a hands-on educational program that allows children to explore\, create\, design\, and problem solve focusing on STEAM activities. We’ll tinker with LEGOs\, circuits\, our 3D printer\, and much more! Ages 6-12
URL:https://mychq.org/event/tinker-tuesday-lakewood-memorial-library-2/2026-07-28/
LOCATION:Lakewood Memorial Library\, 12 West Summit St\, Lakewood\, 14750\, United States
CATEGORIES:Library
ATTACH;FMTTYPE=image/jpeg:https://mychq.org/wp-content/uploads/2025/12/607432952_1296701195827239_1200229293071138477_n.jpg
ORGANIZER;CN="Lakewood Memorial Library":MAILTO:info@lakewoodlibrary.org
END:VEVENT
END:VCALENDAR