BEGIN:VCALENDAR
VERSION:2.0
PRODID:-//Chautauqua County Events, Local Businesses &amp; Resources | My CHQ - ECPv6.15.20//NONSGML v1.0//EN
CALSCALE:GREGORIAN
METHOD:PUBLISH
X-WR-CALNAME:Chautauqua County Events, Local Businesses &amp; Resources | My CHQ
X-ORIGINAL-URL:https://mychq.org
X-WR-CALDESC:Events for Chautauqua County Events, Local Businesses &amp; Resources | My CHQ
REFRESH-INTERVAL;VALUE=DURATION:PT1H
X-Robots-Tag:noindex
X-PUBLISHED-TTL:PT1H
BEGIN:VTIMEZONE
TZID:America/New_York
BEGIN:DAYLIGHT
TZOFFSETFROM:-0500
TZOFFSETTO:-0400
TZNAME:EDT
DTSTART:20250309T070000
END:DAYLIGHT
BEGIN:STANDARD
TZOFFSETFROM:-0400
TZOFFSETTO:-0500
TZNAME:EST
DTSTART:20251102T060000
END:STANDARD
BEGIN:DAYLIGHT
TZOFFSETFROM:-0500
TZOFFSETTO:-0400
TZNAME:EDT
DTSTART:20260308T070000
END:DAYLIGHT
BEGIN:STANDARD
TZOFFSETFROM:-0400
TZOFFSETTO:-0500
TZNAME:EST
DTSTART:20261101T060000
END:STANDARD
BEGIN:DAYLIGHT
TZOFFSETFROM:-0500
TZOFFSETTO:-0400
TZNAME:EDT
DTSTART:20270314T070000
END:DAYLIGHT
BEGIN:STANDARD
TZOFFSETFROM:-0400
TZOFFSETTO:-0500
TZNAME:EST
DTSTART:20271107T060000
END:STANDARD
END:VTIMEZONE
BEGIN:VEVENT
DTSTART;TZID=America/New_York:20260519T080000
DTEND;TZID=America/New_York:20260519T170000
DTSTAMP:20260425T145236
CREATED:20251212T173407Z
LAST-MODIFIED:20251212T184917Z
UID:10023576-1779177600-1779210000@mychq.org
SUMMARY:Brix 4 Kix Fundraiser & Challenge
DESCRIPTION:Brix 4 Kix Fundraiser & ChallengeFrom Jamestown\, NY to Orlando\, FL \nI’m not just riding a bike\, this is igniting a movement. \nIn May\, 2026\, Brad is taking on an extraordinary personal and physical challenge: riding his bicycle from Jamestown\, NY to Orlando\, FL in just 5 to 6 days. That’s over 1\,200 miles of road\, grit\, and purpose. But this ride is about more than distance\, it’s about impact. \n Why “Brix 4 Kix”?Because 65% of American children lack proper footwear\, and we believe that every kid deserves a solid pair of shoes for school\, for play\, for dignity. \nBrad is riding to raise awareness and funds to change that. Your support can help provide shoes to children in need across the country. \n How YOU Can Get Involved: Sponsor a Mile – Every mile Brad rides brings us closer to our goal. Donate Today – Every dollar counts. No amount is too small. Exclusive Swag – Get limited edition “Brix 4 Kix” merch. Donate Shoes – Give new or gently used kids’ shoes and put a smile on a child’s face. Spread the Word – Share\, repost\, and rally your community. \n Follow the RideTrack Brad’s progress\, get updates\, and cheer him on as he rides from New York to Florida on our website and social media pages. \n Join the MovementVisit bradinspires.com#Brix4Kix26 \nLet’s turn miles into shoes.Let’s ride for change.Let’s give every kid a reason to run.
URL:https://mychq.org/event/brix-4-kix-fundraiser-challenge/2026-05-19/
LOCATION:Multiple Venues (See Event Description)
CATEGORIES:Fundraising
ATTACH;FMTTYPE=image/jpeg:https://mychq.org/wp-content/uploads/2025/12/522601506_760615706888066_900896088999924751_n.jpg
ORGANIZER;CN="BMF Events":MAILTO:BradBarmoreFit@gmail.com
END:VEVENT
BEGIN:VEVENT
DTSTART;TZID=America/New_York:20260520T080000
DTEND;TZID=America/New_York:20260520T170000
DTSTAMP:20260425T145236
CREATED:20251212T173407Z
LAST-MODIFIED:20251212T184917Z
UID:10023577-1779264000-1779296400@mychq.org
SUMMARY:Brix 4 Kix Fundraiser & Challenge
DESCRIPTION:Brix 4 Kix Fundraiser & ChallengeFrom Jamestown\, NY to Orlando\, FL \nI’m not just riding a bike\, this is igniting a movement. \nIn May\, 2026\, Brad is taking on an extraordinary personal and physical challenge: riding his bicycle from Jamestown\, NY to Orlando\, FL in just 5 to 6 days. That’s over 1\,200 miles of road\, grit\, and purpose. But this ride is about more than distance\, it’s about impact. \n Why “Brix 4 Kix”?Because 65% of American children lack proper footwear\, and we believe that every kid deserves a solid pair of shoes for school\, for play\, for dignity. \nBrad is riding to raise awareness and funds to change that. Your support can help provide shoes to children in need across the country. \n How YOU Can Get Involved: Sponsor a Mile – Every mile Brad rides brings us closer to our goal. Donate Today – Every dollar counts. No amount is too small. Exclusive Swag – Get limited edition “Brix 4 Kix” merch. Donate Shoes – Give new or gently used kids’ shoes and put a smile on a child’s face. Spread the Word – Share\, repost\, and rally your community. \n Follow the RideTrack Brad’s progress\, get updates\, and cheer him on as he rides from New York to Florida on our website and social media pages. \n Join the MovementVisit bradinspires.com#Brix4Kix26 \nLet’s turn miles into shoes.Let’s ride for change.Let’s give every kid a reason to run.
URL:https://mychq.org/event/brix-4-kix-fundraiser-challenge/2026-05-20/
LOCATION:Multiple Venues (See Event Description)
CATEGORIES:Fundraising
ATTACH;FMTTYPE=image/jpeg:https://mychq.org/wp-content/uploads/2025/12/522601506_760615706888066_900896088999924751_n.jpg
ORGANIZER;CN="BMF Events":MAILTO:BradBarmoreFit@gmail.com
END:VEVENT
BEGIN:VEVENT
DTSTART;TZID=America/New_York:20260521T080000
DTEND;TZID=America/New_York:20260521T170000
DTSTAMP:20260425T145236
CREATED:20251212T173407Z
LAST-MODIFIED:20251212T184917Z
UID:10023578-1779350400-1779382800@mychq.org
SUMMARY:Brix 4 Kix Fundraiser & Challenge
DESCRIPTION:Brix 4 Kix Fundraiser & ChallengeFrom Jamestown\, NY to Orlando\, FL \nI’m not just riding a bike\, this is igniting a movement. \nIn May\, 2026\, Brad is taking on an extraordinary personal and physical challenge: riding his bicycle from Jamestown\, NY to Orlando\, FL in just 5 to 6 days. That’s over 1\,200 miles of road\, grit\, and purpose. But this ride is about more than distance\, it’s about impact. \n Why “Brix 4 Kix”?Because 65% of American children lack proper footwear\, and we believe that every kid deserves a solid pair of shoes for school\, for play\, for dignity. \nBrad is riding to raise awareness and funds to change that. Your support can help provide shoes to children in need across the country. \n How YOU Can Get Involved: Sponsor a Mile – Every mile Brad rides brings us closer to our goal. Donate Today – Every dollar counts. No amount is too small. Exclusive Swag – Get limited edition “Brix 4 Kix” merch. Donate Shoes – Give new or gently used kids’ shoes and put a smile on a child’s face. Spread the Word – Share\, repost\, and rally your community. \n Follow the RideTrack Brad’s progress\, get updates\, and cheer him on as he rides from New York to Florida on our website and social media pages. \n Join the MovementVisit bradinspires.com#Brix4Kix26 \nLet’s turn miles into shoes.Let’s ride for change.Let’s give every kid a reason to run.
URL:https://mychq.org/event/brix-4-kix-fundraiser-challenge/2026-05-21/
LOCATION:Multiple Venues (See Event Description)
CATEGORIES:Fundraising
ATTACH;FMTTYPE=image/jpeg:https://mychq.org/wp-content/uploads/2025/12/522601506_760615706888066_900896088999924751_n.jpg
ORGANIZER;CN="BMF Events":MAILTO:BradBarmoreFit@gmail.com
END:VEVENT
BEGIN:VEVENT
DTSTART;TZID=America/New_York:20260522T080000
DTEND;TZID=America/New_York:20260522T170000
DTSTAMP:20260425T145236
CREATED:20251212T173407Z
LAST-MODIFIED:20251212T184917Z
UID:10023579-1779436800-1779469200@mychq.org
SUMMARY:Brix 4 Kix Fundraiser & Challenge
DESCRIPTION:Brix 4 Kix Fundraiser & ChallengeFrom Jamestown\, NY to Orlando\, FL \nI’m not just riding a bike\, this is igniting a movement. \nIn May\, 2026\, Brad is taking on an extraordinary personal and physical challenge: riding his bicycle from Jamestown\, NY to Orlando\, FL in just 5 to 6 days. That’s over 1\,200 miles of road\, grit\, and purpose. But this ride is about more than distance\, it’s about impact. \n Why “Brix 4 Kix”?Because 65% of American children lack proper footwear\, and we believe that every kid deserves a solid pair of shoes for school\, for play\, for dignity. \nBrad is riding to raise awareness and funds to change that. Your support can help provide shoes to children in need across the country. \n How YOU Can Get Involved: Sponsor a Mile – Every mile Brad rides brings us closer to our goal. Donate Today – Every dollar counts. No amount is too small. Exclusive Swag – Get limited edition “Brix 4 Kix” merch. Donate Shoes – Give new or gently used kids’ shoes and put a smile on a child’s face. Spread the Word – Share\, repost\, and rally your community. \n Follow the RideTrack Brad’s progress\, get updates\, and cheer him on as he rides from New York to Florida on our website and social media pages. \n Join the MovementVisit bradinspires.com#Brix4Kix26 \nLet’s turn miles into shoes.Let’s ride for change.Let’s give every kid a reason to run.
URL:https://mychq.org/event/brix-4-kix-fundraiser-challenge/2026-05-22/
LOCATION:Multiple Venues (See Event Description)
CATEGORIES:Fundraising
ATTACH;FMTTYPE=image/jpeg:https://mychq.org/wp-content/uploads/2025/12/522601506_760615706888066_900896088999924751_n.jpg
ORGANIZER;CN="BMF Events":MAILTO:BradBarmoreFit@gmail.com
END:VEVENT
BEGIN:VEVENT
DTSTART;TZID=America/New_York:20260523T080000
DTEND;TZID=America/New_York:20260523T170000
DTSTAMP:20260425T145236
CREATED:20251212T173407Z
LAST-MODIFIED:20251212T184917Z
UID:10023580-1779523200-1779555600@mychq.org
SUMMARY:Brix 4 Kix Fundraiser & Challenge
DESCRIPTION:Brix 4 Kix Fundraiser & ChallengeFrom Jamestown\, NY to Orlando\, FL \nI’m not just riding a bike\, this is igniting a movement. \nIn May\, 2026\, Brad is taking on an extraordinary personal and physical challenge: riding his bicycle from Jamestown\, NY to Orlando\, FL in just 5 to 6 days. That’s over 1\,200 miles of road\, grit\, and purpose. But this ride is about more than distance\, it’s about impact. \n Why “Brix 4 Kix”?Because 65% of American children lack proper footwear\, and we believe that every kid deserves a solid pair of shoes for school\, for play\, for dignity. \nBrad is riding to raise awareness and funds to change that. Your support can help provide shoes to children in need across the country. \n How YOU Can Get Involved: Sponsor a Mile – Every mile Brad rides brings us closer to our goal. Donate Today – Every dollar counts. No amount is too small. Exclusive Swag – Get limited edition “Brix 4 Kix” merch. Donate Shoes – Give new or gently used kids’ shoes and put a smile on a child’s face. Spread the Word – Share\, repost\, and rally your community. \n Follow the RideTrack Brad’s progress\, get updates\, and cheer him on as he rides from New York to Florida on our website and social media pages. \n Join the MovementVisit bradinspires.com#Brix4Kix26 \nLet’s turn miles into shoes.Let’s ride for change.Let’s give every kid a reason to run.
URL:https://mychq.org/event/brix-4-kix-fundraiser-challenge/2026-05-23/
LOCATION:Multiple Venues (See Event Description)
CATEGORIES:Fundraising
ATTACH;FMTTYPE=image/jpeg:https://mychq.org/wp-content/uploads/2025/12/522601506_760615706888066_900896088999924751_n.jpg
ORGANIZER;CN="BMF Events":MAILTO:BradBarmoreFit@gmail.com
END:VEVENT
BEGIN:VEVENT
DTSTART;TZID=America/New_York:20260524T080000
DTEND;TZID=America/New_York:20260524T170000
DTSTAMP:20260425T145236
CREATED:20251212T173407Z
LAST-MODIFIED:20251212T184917Z
UID:10023581-1779609600-1779642000@mychq.org
SUMMARY:Brix 4 Kix Fundraiser & Challenge
DESCRIPTION:Brix 4 Kix Fundraiser & ChallengeFrom Jamestown\, NY to Orlando\, FL \nI’m not just riding a bike\, this is igniting a movement. \nIn May\, 2026\, Brad is taking on an extraordinary personal and physical challenge: riding his bicycle from Jamestown\, NY to Orlando\, FL in just 5 to 6 days. That’s over 1\,200 miles of road\, grit\, and purpose. But this ride is about more than distance\, it’s about impact. \n Why “Brix 4 Kix”?Because 65% of American children lack proper footwear\, and we believe that every kid deserves a solid pair of shoes for school\, for play\, for dignity. \nBrad is riding to raise awareness and funds to change that. Your support can help provide shoes to children in need across the country. \n How YOU Can Get Involved: Sponsor a Mile – Every mile Brad rides brings us closer to our goal. Donate Today – Every dollar counts. No amount is too small. Exclusive Swag – Get limited edition “Brix 4 Kix” merch. Donate Shoes – Give new or gently used kids’ shoes and put a smile on a child’s face. Spread the Word – Share\, repost\, and rally your community. \n Follow the RideTrack Brad’s progress\, get updates\, and cheer him on as he rides from New York to Florida on our website and social media pages. \n Join the MovementVisit bradinspires.com#Brix4Kix26 \nLet’s turn miles into shoes.Let’s ride for change.Let’s give every kid a reason to run.
URL:https://mychq.org/event/brix-4-kix-fundraiser-challenge/2026-05-24/
LOCATION:Multiple Venues (See Event Description)
CATEGORIES:Fundraising
ATTACH;FMTTYPE=image/jpeg:https://mychq.org/wp-content/uploads/2025/12/522601506_760615706888066_900896088999924751_n.jpg
ORGANIZER;CN="BMF Events":MAILTO:BradBarmoreFit@gmail.com
END:VEVENT
END:VCALENDAR