BEGIN:VCALENDAR
VERSION:2.0
PRODID:-//Chautauqua County Events, Local Businesses &amp; Resources | My CHQ - ECPv6.15.20//NONSGML v1.0//EN
CALSCALE:GREGORIAN
METHOD:PUBLISH
X-ORIGINAL-URL:https://mychq.org
X-WR-CALDESC:Events for Chautauqua County Events, Local Businesses &amp; Resources | My CHQ
REFRESH-INTERVAL;VALUE=DURATION:PT1H
X-Robots-Tag:noindex
X-PUBLISHED-TTL:PT1H
BEGIN:VTIMEZONE
TZID:America/New_York
BEGIN:DAYLIGHT
TZOFFSETFROM:-0500
TZOFFSETTO:-0400
TZNAME:EDT
DTSTART:20250309T070000
END:DAYLIGHT
BEGIN:STANDARD
TZOFFSETFROM:-0400
TZOFFSETTO:-0500
TZNAME:EST
DTSTART:20251102T060000
END:STANDARD
BEGIN:DAYLIGHT
TZOFFSETFROM:-0500
TZOFFSETTO:-0400
TZNAME:EDT
DTSTART:20260308T070000
END:DAYLIGHT
BEGIN:STANDARD
TZOFFSETFROM:-0400
TZOFFSETTO:-0500
TZNAME:EST
DTSTART:20261101T060000
END:STANDARD
BEGIN:DAYLIGHT
TZOFFSETFROM:-0500
TZOFFSETTO:-0400
TZNAME:EDT
DTSTART:20270314T070000
END:DAYLIGHT
BEGIN:STANDARD
TZOFFSETFROM:-0400
TZOFFSETTO:-0500
TZNAME:EST
DTSTART:20271107T060000
END:STANDARD
END:VTIMEZONE
BEGIN:VEVENT
DTSTART;TZID=America/New_York:20260425T190000
DTEND;TZID=America/New_York:20260425T210000
DTSTAMP:20260425T111735
CREATED:20260420T151419Z
LAST-MODIFIED:20260420T151419Z
UID:10028248-1777143600-1777150800@mychq.org
SUMMARY:Feud Time Trivia
DESCRIPTION:IT’S BACK!!! Get your teams together and come play. It’s always a great time!! Kitchen will be open.
URL:https://mychq.org/event/feud-time-trivia-2/
LOCATION:Celoron Moose Lodge 2587\, 52 Dunham Ave\, Celoron\, 14720\, United States
CATEGORIES:Trivia
ATTACH;FMTTYPE=image/jpeg:https://mychq.org/wp-content/uploads/2026/04/Celoron-Moose-Lodge.jpg
END:VEVENT
BEGIN:VEVENT
DTSTART;TZID=America/New_York:20260426T190000
DTEND;TZID=America/New_York:20260426T210000
DTSTAMP:20260425T111735
CREATED:20260320T011126Z
LAST-MODIFIED:20260320T011126Z
UID:10027358-1777230000-1777237200@mychq.org
SUMMARY:Trivia with Chris @ Raven & Thorn
DESCRIPTION:Prizes for the top 3 teams!
URL:https://mychq.org/event/trivia-with-chris-raven-thorn/2026-04-26/
LOCATION:Raven & Thorn\, 26 Water St\, Fredonia\, 14063\, United States
CATEGORIES:Trivia
ATTACH;FMTTYPE=image/jpeg:https://mychq.org/wp-content/uploads/2026/03/652577317_122167297268825340_1144286769379868099_n.jpg
ORGANIZER;CN="Raven & Thorn":MAILTO:contact@ravenandthorn.com
END:VEVENT
BEGIN:VEVENT
DTSTART;TZID=America/New_York:20260427T180000
DTEND;TZID=America/New_York:20260427T200000
DTSTAMP:20260425T111735
CREATED:20260414T161804Z
LAST-MODIFIED:20260414T161804Z
UID:10028114-1777312800-1777320000@mychq.org
SUMMARY:Trivia Night @ Wicked Warren's Jamestown
DESCRIPTION:It’s Monday so that means trivia with Brewer Drew! 3 games\, 3 chances to win a gift card. Play and get 1/2 off your first draft. Bring your knowledge and bring your friends – bragging rights are up for grabs!
URL:https://mychq.org/event/trivia-night-wicked-warrens-jamestown/2026-04-27/
LOCATION:Wicked Warrens Jamestown\, Washington St.\, Jamestown\, 14701\, United States
CATEGORIES:Trivia
ATTACH;FMTTYPE=image/jpeg:https://mychq.org/wp-content/uploads/2026/04/Wicked-Warrens-Trivia.jpg
ORGANIZER;CN="Wicked Warrens Jamestown":MAILTO:info@wickedwarrens.com
END:VEVENT
BEGIN:VEVENT
DTSTART;TZID=America/New_York:20260430T190000
DTEND;TZID=America/New_York:20260430T210000
DTSTAMP:20260425T111735
CREATED:20250925T183810Z
LAST-MODIFIED:20250925T183810Z
UID:10022053-1777575600-1777582800@mychq.org
SUMMARY:Trivia Thursdays at Group Ther-Happy
DESCRIPTION:Trivia Thursdays at Group Ther-Happy! \nBring your brain\, your besties\, and your boldest team name. I’m Paul\, your friendly trivia cryptid\, and we are playing every Thursday from 7 to 9. Warm vibes\, playful questions\, a little surreal\, and a lot of laughs. \n When \nEvery Thursday\, 7 to 9. Arrive a little early to grab a table and a drink. \n Where \nGroup Ther-Happy\, Lakewood NY \n What to expect \nThree rounds. Ten questions per round. \n Teams \nUp to 6 players per team. \n How it work \nWrite answers on the sheet. Turn them in after each round. I grade between rounds while music plays and you refresh your drinks. \n House rulesNo phones during questions. If you Google\, you go to Jail. No due process. No trial. Just Jail. \n Prizes \nBragging rights\, glory\, and goodies. Stick around for the winners’ parade. \n Seasonal vibe \nIt’s Sppoky Season\, bb! \n Be awesome \nTip your servers early and often. They are the real MVPs. \nRSVP\, tag your team\, and we will see you Thursday night. Pens up\, brains on\, and let’s get weird in the best possible way.
URL:https://mychq.org/event/trivia-thursdays-at-group-ther-happy/2026-04-30/
LOCATION:Group Ther-Happy\, 103 Chautauqua Ave\, Lakewood\, 14750\, United States
CATEGORIES:Trivia
ATTACH;FMTTYPE=image/jpeg:https://mychq.org/wp-content/uploads/2025/09/554415466_10164058978173969_2782164274529786042_n.jpg
ORGANIZER;CN="Karate Sleepover":MAILTO:bookkaratesleepover@gmail.com
END:VEVENT
BEGIN:VEVENT
DTSTART;TZID=America/New_York:20260507T190000
DTEND;TZID=America/New_York:20260507T210000
DTSTAMP:20260425T111735
CREATED:20251002T163416Z
LAST-MODIFIED:20251002T163725Z
UID:10022347-1778180400-1778187600@mychq.org
SUMMARY:Trivia at Pearl City Hops
DESCRIPTION:Head to downtown Jamestown for Trivia at Pearl City Hops! Game starts at 7pm. Grab a team (up to  or fly solo and test your knowledge of all things Trivia. With rotating categories it’s always a new experience!!
URL:https://mychq.org/event/trivia-at-pearl-city-hops-2/2026-05-07/
LOCATION:Pearl City Hops\, 150 W 4th St\, Jamestown\, 14701\, United States
CATEGORIES:Trivia
ATTACH;FMTTYPE=image/jpeg:https://mychq.org/wp-content/uploads/2025/10/557370704_1916440785773016_2791345911022408194_n.jpg
ORGANIZER;CN="Star Sirch":MAILTO:starsirch@yahoo.com
END:VEVENT
END:VCALENDAR