BEGIN:VCALENDAR
VERSION:2.0
PRODID:-//Chautauqua County Events, Local Businesses &amp; Resources | My CHQ - ECPv6.15.20//NONSGML v1.0//EN
CALSCALE:GREGORIAN
METHOD:PUBLISH
X-ORIGINAL-URL:https://mychq.org
X-WR-CALDESC:Events for Chautauqua County Events, Local Businesses &amp; Resources | My CHQ
REFRESH-INTERVAL;VALUE=DURATION:PT1H
X-Robots-Tag:noindex
X-PUBLISHED-TTL:PT1H
BEGIN:VTIMEZONE
TZID:America/New_York
BEGIN:DAYLIGHT
TZOFFSETFROM:-0500
TZOFFSETTO:-0400
TZNAME:EDT
DTSTART:20250309T070000
END:DAYLIGHT
BEGIN:STANDARD
TZOFFSETFROM:-0400
TZOFFSETTO:-0500
TZNAME:EST
DTSTART:20251102T060000
END:STANDARD
BEGIN:DAYLIGHT
TZOFFSETFROM:-0500
TZOFFSETTO:-0400
TZNAME:EDT
DTSTART:20260308T070000
END:DAYLIGHT
BEGIN:STANDARD
TZOFFSETFROM:-0400
TZOFFSETTO:-0500
TZNAME:EST
DTSTART:20261101T060000
END:STANDARD
BEGIN:DAYLIGHT
TZOFFSETFROM:-0500
TZOFFSETTO:-0400
TZNAME:EDT
DTSTART:20270314T070000
END:DAYLIGHT
BEGIN:STANDARD
TZOFFSETFROM:-0400
TZOFFSETTO:-0500
TZNAME:EST
DTSTART:20271107T060000
END:STANDARD
END:VTIMEZONE
BEGIN:VEVENT
DTSTART;TZID=America/New_York:20260425T130000
DTEND;TZID=America/New_York:20260425T163000
DTSTAMP:20260425T145246
CREATED:20260414T162008Z
LAST-MODIFIED:20260414T162008Z
UID:10028150-1777122000-1777134600@mychq.org
SUMMARY:CVCS Prom Pop Up 2026
DESCRIPTION:Are you or a student in your life looking for a prom outfit and accessories? Drop by the Prom Pop Up 2026\, Saturday\, April 25th from 9:30-noon. Held at the Cassadaga Park Church. Open to all CVCS students.
URL:https://mychq.org/event/cvcs-prom-pop-up-2026/
LOCATION:Cassadaga Park Church\, 25 Maple Ave\, Cassadaga\, 14718\, United States
CATEGORIES:Teens
ATTACH;FMTTYPE=image/jpeg:https://mychq.org/wp-content/uploads/2026/04/669765223_1402052895283195_7589856318106964167_n.jpg
END:VEVENT
BEGIN:VEVENT
DTSTART;TZID=America/New_York:20260510T180000
DTEND;TZID=America/New_York:20260510T193000
DTSTAMP:20260425T145246
CREATED:20251124T163836Z
LAST-MODIFIED:20251124T163836Z
UID:10023278-1778436000-1778441400@mychq.org
SUMMARY:Engage Community Youth Coffee Hour
DESCRIPTION:Brocton/Portland Community: I am excited to announce that we have a new opportunity for High Schoolers! Engage Community Youth and the St. Stephen’s are making a way for High Schoolers to have the cafe all to themselves! Every 2nd Sunday of each month\, we will open up the Cafe and the Resource Room for them to play games\, buy coffee\, and spend time with friends. And\, there will be live music! Get excited and let students and friends know soon! Our first night is December 14th!
URL:https://mychq.org/event/engage-community-youth-coffee-hour/2026-05-10/
LOCATION:Breathe Life Resource Room\, 2 W Main St\, Brocton\, 14716\, United States
CATEGORIES:Teens
ATTACH;FMTTYPE=image/jpeg:https://mychq.org/wp-content/uploads/2025/11/588018413_4040849649465145_6732358484734081450_n.jpg
END:VEVENT
END:VCALENDAR