BEGIN:VCALENDAR
VERSION:2.0
PRODID:-//My CHQ - ECPv6.15.20//NONSGML v1.0//EN
CALSCALE:GREGORIAN
METHOD:PUBLISH
X-WR-CALNAME:My CHQ
X-ORIGINAL-URL:https://mychq.org
X-WR-CALDESC:Events for My CHQ
REFRESH-INTERVAL;VALUE=DURATION:PT1H
X-Robots-Tag:noindex
X-PUBLISHED-TTL:PT1H
BEGIN:VTIMEZONE
TZID:America/New_York
BEGIN:DAYLIGHT
TZOFFSETFROM:-0500
TZOFFSETTO:-0400
TZNAME:EDT
DTSTART:20250309T070000
END:DAYLIGHT
BEGIN:STANDARD
TZOFFSETFROM:-0400
TZOFFSETTO:-0500
TZNAME:EST
DTSTART:20251102T060000
END:STANDARD
BEGIN:DAYLIGHT
TZOFFSETFROM:-0500
TZOFFSETTO:-0400
TZNAME:EDT
DTSTART:20260308T070000
END:DAYLIGHT
BEGIN:STANDARD
TZOFFSETFROM:-0400
TZOFFSETTO:-0500
TZNAME:EST
DTSTART:20261101T060000
END:STANDARD
BEGIN:DAYLIGHT
TZOFFSETFROM:-0500
TZOFFSETTO:-0400
TZNAME:EDT
DTSTART:20270314T070000
END:DAYLIGHT
BEGIN:STANDARD
TZOFFSETFROM:-0400
TZOFFSETTO:-0500
TZNAME:EST
DTSTART:20271107T060000
END:STANDARD
END:VTIMEZONE
BEGIN:VEVENT
DTSTART;TZID=America/New_York:20260530T090000
DTEND;TZID=America/New_York:20260530T120000
DTSTAMP:20260422T202521
CREATED:20260324T210917Z
LAST-MODIFIED:20260324T210917Z
UID:10027478-1780131600-1780142400@mychq.org
SUMMARY:Buns on the Run 5K
DESCRIPTION:Registration is now open for the 2026 Buns on the Run 5K!Part of the Chautauqua Striders 2026 Runner of the Year Series! \n**NEW ADDITION THIS YEAR: Kids’ 1 Mile Fun Run** \nJoin the Bemus Point Track Club for a beautiful lakeside 5k in the heart of Bemus Point! This walk/run will start and finish at the Bemus Point Village Park. \nOverall and age group prizes will be awarded. \nLight post-run refreshments will be provided. \nPacket pick-up and day-of registration will open at 8:00AM. $30 cash\, check (made out to Bemus Point Track Club) and Venmo will be accepted. \nRegistration:http://runsignup.com/bunsontherun5k
URL:https://mychq.org/event/buns-on-the-run-5k/
LOCATION:Bemus Point Village Park\, 1 Lakeside Dr.\, Bemus Point\, 14712\, United States
CATEGORIES:Sports
ATTACH;FMTTYPE=image/jpeg:https://mychq.org/wp-content/uploads/2026/03/656207653_943543341773746_4485143926265487135_n.jpg
ORGANIZER;CN="Bemus Point Track Club":MAILTO:bemuspointtrackclub@gmail.com
END:VEVENT
BEGIN:VEVENT
DTSTART;TZID=America/New_York:20260530T190000
DTEND;TZID=America/New_York:20260530T220000
DTSTAMP:20260422T202521
CREATED:20251218T171246Z
LAST-MODIFIED:20251218T171246Z
UID:10023674-1780167600-1780178400@mychq.org
SUMMARY:RUSH SPRINT CAR INVASION
DESCRIPTION: RUSH SPRINT CAR INVASION — SATURDAY\, MAY 30\, 2026Stateline Speedway • Busti\, NY \nThe RUSH Sprint Cars are BACK at Stateline Speedway — and if you saw them in 2025\, you know this is a show you cannot miss. These wingless rockets delivered some of the best racing of the entire season\, highlighted by last year’s Fall Brawl thriller where Arnie Kent (New Castle\, PA) stormed to victory in a race that saw 3- and 4-wide battles all night long.  \nFor 2026\, they return for a full-on RUSH Sprint Car Invasion — joined by a stacked card of Stateline’s top divisions: \n• RUSH Sprint Cars• Super Late Models• RUSH Late Models• Outlaw Modifieds• Pro Stocks• RUSH Stocks• Challengers \nExpect speed. Expect chaos. Expect nonstop action from the drop of the green. \n Saturday\, May 30\, 2026 Pits Open: 4:00 PM Grandstands Open: 5:00 PM Racing Starts: 7:00 PM \nGrab your friends\, pack the cooler\, and get ready — the Sprint Cars are taking over Stateline! \n Click “Interested” or “Going” to stay updated!
URL:https://mychq.org/event/rush-sprint-car-invasion/
LOCATION:Stateline Speedway\, 4150 Kortwright Rd\, Jamestown\, 14701\, United States
CATEGORIES:Sports
ATTACH;FMTTYPE=image/jpeg:https://mychq.org/wp-content/uploads/2025/12/585275220_1455537556573561_8206590252293375328_n.jpg
ORGANIZER;CN="Stateline Speedway":MAILTO:newstateline15@gmail.com
END:VEVENT
END:VCALENDAR