BEGIN:VCALENDAR
VERSION:2.0
PRODID:-//My CHQ - ECPv6.15.20//NONSGML v1.0//EN
CALSCALE:GREGORIAN
METHOD:PUBLISH
X-ORIGINAL-URL:https://mychq.org
X-WR-CALDESC:Events for My CHQ
REFRESH-INTERVAL;VALUE=DURATION:PT1H
X-Robots-Tag:noindex
X-PUBLISHED-TTL:PT1H
BEGIN:VTIMEZONE
TZID:America/New_York
BEGIN:DAYLIGHT
TZOFFSETFROM:-0500
TZOFFSETTO:-0400
TZNAME:EDT
DTSTART:20250309T070000
END:DAYLIGHT
BEGIN:STANDARD
TZOFFSETFROM:-0400
TZOFFSETTO:-0500
TZNAME:EST
DTSTART:20251102T060000
END:STANDARD
BEGIN:DAYLIGHT
TZOFFSETFROM:-0500
TZOFFSETTO:-0400
TZNAME:EDT
DTSTART:20260308T070000
END:DAYLIGHT
BEGIN:STANDARD
TZOFFSETFROM:-0400
TZOFFSETTO:-0500
TZNAME:EST
DTSTART:20261101T060000
END:STANDARD
BEGIN:DAYLIGHT
TZOFFSETFROM:-0500
TZOFFSETTO:-0400
TZNAME:EDT
DTSTART:20270314T070000
END:DAYLIGHT
BEGIN:STANDARD
TZOFFSETFROM:-0400
TZOFFSETTO:-0500
TZNAME:EST
DTSTART:20271107T060000
END:STANDARD
END:VTIMEZONE
BEGIN:VEVENT
DTSTART;TZID=America/New_York:20260518T120000
DTEND;TZID=America/New_York:20260518T200000
DTSTAMP:20260422T202611
CREATED:20260224T215043Z
LAST-MODIFIED:20260224T215043Z
UID:10026625-1779105600-1779134400@mychq.org
SUMMARY:Ellicottville Par for a Purpose Golf Event
DESCRIPTION:Join us on May 18 for this year’s Par for a Purpose at Holiday Valley’s stunning Double Black Diamond Golf Course. It’s a day of fresh air\, friendly competition and meaningful impact. Sponsored by Labatt and designed for players of all skill levels\, this event is all about great golf for a great cause\, with a portion of proceeds benefiting Hope Rises.Noon registration and 1 pm shotgun. Rally your team and help us make a difference one swing at a time. Registration is open!
URL:https://mychq.org/event/ellicottville-par-for-a-purpose-golf-event/
LOCATION:Holiday Valley\, 6557 Holiday Valley Rd\, Ellicottville\, 14731\, United States
CATEGORIES:Sports
ATTACH;FMTTYPE=image/jpeg:https://mychq.org/wp-content/uploads/2026/02/638020817_1310687831092174_1558219480931309906_n.jpg
ORGANIZER;CN="Ellicottville%2C NY":MAILTO:info@ellicottvilleny.com
END:VEVENT
END:VCALENDAR