BEGIN:VCALENDAR
VERSION:2.0
PRODID:-//My CHQ - ECPv6.15.20//NONSGML v1.0//EN
CALSCALE:GREGORIAN
METHOD:PUBLISH
X-ORIGINAL-URL:https://mychq.org
X-WR-CALDESC:Events for My CHQ
REFRESH-INTERVAL;VALUE=DURATION:PT1H
X-Robots-Tag:noindex
X-PUBLISHED-TTL:PT1H
BEGIN:VTIMEZONE
TZID:America/New_York
BEGIN:DAYLIGHT
TZOFFSETFROM:-0500
TZOFFSETTO:-0400
TZNAME:EDT
DTSTART:20250309T070000
END:DAYLIGHT
BEGIN:STANDARD
TZOFFSETFROM:-0400
TZOFFSETTO:-0500
TZNAME:EST
DTSTART:20251102T060000
END:STANDARD
BEGIN:DAYLIGHT
TZOFFSETFROM:-0500
TZOFFSETTO:-0400
TZNAME:EDT
DTSTART:20260308T070000
END:DAYLIGHT
BEGIN:STANDARD
TZOFFSETFROM:-0400
TZOFFSETTO:-0500
TZNAME:EST
DTSTART:20261101T060000
END:STANDARD
BEGIN:DAYLIGHT
TZOFFSETFROM:-0500
TZOFFSETTO:-0400
TZNAME:EDT
DTSTART:20270314T070000
END:DAYLIGHT
BEGIN:STANDARD
TZOFFSETFROM:-0400
TZOFFSETTO:-0500
TZNAME:EST
DTSTART:20271107T060000
END:STANDARD
END:VTIMEZONE
BEGIN:VEVENT
DTSTART;TZID=America/New_York:20260425T103000
DTEND;TZID=America/New_York:20260425T140000
DTSTAMP:20260422T202717
CREATED:20260331T170555Z
LAST-MODIFIED:20260331T170555Z
UID:10027654-1777113000-1777125600@mychq.org
SUMMARY:Annual Brittany Gendy 5K Run
DESCRIPTION:LOCAL Runners! Let’s kick off this summer by honoring a beautiful & vibrant soul\, Brittany Gendy. Brittany was an influential woman changing lives near and far\, young and old. Those who knew her loved her dearly. \n\nHer legacy lives on as the funds raised in her honor through Radiant Hope help other families struggling with cancer.\nBrittany lost the battle with breast cancer on April 27\, 2024.\nWe are extending her annual run from Lancaster\, PA to FREWSBURG! YAY – This local event is going to be at the Frewsburg Town Park\, run kicks off at 10:30 am. Saturday\, April 25th\, 2026.\nRun\, walk or just come enjoy the day. Lunch & family fun is being planned.\nREGISTER HERE: https://copadiocese.ccbchurch.com/…/764/responses/new…\n\nIf you can’t attend and still want to donate\, put that in the registration & they will mail your shirt.  THANK YOU for your SUPPORT!  Register by April 11th
URL:https://mychq.org/event/annual-brittany-gendy-5k-run/
LOCATION:Frewsburg Town Park\, 30 Parkway Dr\, Frewsburg\, 14738\, United States
CATEGORIES:Sports
ATTACH;FMTTYPE=image/jpeg:https://mychq.org/wp-content/uploads/2026/03/658349540_26600486716241897_2088871656953585247_n.jpg
END:VEVENT
BEGIN:VEVENT
DTSTART;TZID=America/New_York:20260425T123000
DTEND;TZID=America/New_York:20260425T143000
DTSTAMP:20260422T202717
CREATED:20260203T192433Z
LAST-MODIFIED:20260203T192433Z
UID:10024661-1777120200-1777127400@mychq.org
SUMMARY:Indoor Cornhole Tournament
DESCRIPTION:Join us for another Indoor Cornhole tournament! \nTeam limit: 26 teamsDonation to enter: $30 \n1st place prize: $752nd place prize: $50 \nSign up at the bar anytime it’s open; donation due at sign ups!
URL:https://mychq.org/event/indoor-cornhole-tournament/
LOCATION:Little Valley VFW Post 8734\, 5460 Rt-353\, Little Valley\, 14755\, United States
CATEGORIES:Sports
ATTACH;FMTTYPE=image/jpeg:https://mychq.org/wp-content/uploads/2026/02/584935620_1151305643877463_5181204415625583001_n.jpg
END:VEVENT
BEGIN:VEVENT
DTSTART;TZID=America/New_York:20260425T130000
DTEND;TZID=America/New_York:20260425T170000
DTSTAMP:20260422T202717
CREATED:20260203T212629Z
LAST-MODIFIED:20260203T212629Z
UID:10024686-1777122000-1777136400@mychq.org
SUMMARY:SUNY JCC Jayhawks Home Baseball Schedule
DESCRIPTION:LETS PLAY TWO \n\nJAYHAWK NATION\nHere’s your 2026 JCC home baseball schedule.\n\nWe hope to see you there and help us #ProtectTheNest
URL:https://mychq.org/event/suny-jcc-jayhawks-home-baseball-schedule/2026-04-25/
LOCATION:Russell Diethrick Park\, 485 Falconer St.\, Jamestown\, NY\, 14701\, United States
CATEGORIES:Sports
ATTACH;FMTTYPE=image/jpeg:https://mychq.org/wp-content/uploads/2026/02/625062077_18440466928129043_3997613985782672973_n.jpg
END:VEVENT
BEGIN:VEVENT
DTSTART;TZID=America/New_York:20260425T190000
DTEND;TZID=America/New_York:20260425T220000
DTSTAMP:20260422T202717
CREATED:20251218T170615Z
LAST-MODIFIED:20251218T170615Z
UID:10023669-1777143600-1777154400@mychq.org
SUMMARY:STATELINE SPEEDWAY – 70th OPENING NIGHT!
DESCRIPTION: STATELINE SPEEDWAY – 70th OPENING NIGHT! Saturday\, April 25th\, 2026 Stateline Speedway – Busti\, NY \nThe wait is over — the 70th Anniversary Season officially kicks off on April 25! Join us for a historic Opening Night as we fire up a brand-new year of racing\, celebration\, and tradition at Stateline Speedway.  \n SUPER 7 RACING RETURNS!Seven divisions take the track for the first time in 2026:• Super Late Models• RUSH Late Models• Outlaw Modifieds• Pro Stocks• RUSH Pro Mods• RUSH Stock Cars• Challengers \n FIRST RACE ON THE NEWLY CLAYED SURFACE!Come experience the updated track surface and see all of the offseason improvements across the facility. \n NEW FOR 2026: SMOKED BRISKET & PULLED PORK!Your Stateline favorites make their season debut on Opening Night — come hungry. \n EVENT SCHEDULE• Pits Open: 4PM• Grandstands Open: 5PM• Racing Starts: 7PM \n Be part of the first chapter of Stateline’s 70th Anniversary Season. Mark yourself as GOING and help pack the house on Opening Night!
URL:https://mychq.org/event/stateline-speedway-70th-opening-night/
LOCATION:Stateline Speedway\, 4150 Kortwright Rd\, Jamestown\, 14701\, United States
CATEGORIES:Sports
ATTACH;FMTTYPE=image/jpeg:https://mychq.org/wp-content/uploads/2025/12/582055315_1453779080082742_7123855064000924004_n.jpg
ORGANIZER;CN="Stateline Speedway":MAILTO:newstateline15@gmail.com
END:VEVENT
END:VCALENDAR