BEGIN:VCALENDAR
VERSION:2.0
PRODID:-//My CHQ - ECPv6.15.20//NONSGML v1.0//EN
CALSCALE:GREGORIAN
METHOD:PUBLISH
X-ORIGINAL-URL:https://mychq.org
X-WR-CALDESC:Events for My CHQ
REFRESH-INTERVAL;VALUE=DURATION:PT1H
X-Robots-Tag:noindex
X-PUBLISHED-TTL:PT1H
BEGIN:VTIMEZONE
TZID:America/New_York
BEGIN:DAYLIGHT
TZOFFSETFROM:-0500
TZOFFSETTO:-0400
TZNAME:EDT
DTSTART:20250309T070000
END:DAYLIGHT
BEGIN:STANDARD
TZOFFSETFROM:-0400
TZOFFSETTO:-0500
TZNAME:EST
DTSTART:20251102T060000
END:STANDARD
BEGIN:DAYLIGHT
TZOFFSETFROM:-0500
TZOFFSETTO:-0400
TZNAME:EDT
DTSTART:20260308T070000
END:DAYLIGHT
BEGIN:STANDARD
TZOFFSETFROM:-0400
TZOFFSETTO:-0500
TZNAME:EST
DTSTART:20261101T060000
END:STANDARD
BEGIN:DAYLIGHT
TZOFFSETFROM:-0500
TZOFFSETTO:-0400
TZNAME:EDT
DTSTART:20270314T070000
END:DAYLIGHT
BEGIN:STANDARD
TZOFFSETFROM:-0400
TZOFFSETTO:-0500
TZNAME:EST
DTSTART:20271107T060000
END:STANDARD
END:VTIMEZONE
BEGIN:VEVENT
DTSTART;TZID=America/New_York:20260424T180000
DTEND;TZID=America/New_York:20260424T200000
DTSTAMP:20260422T184850
CREATED:20260420T195931Z
LAST-MODIFIED:20260420T195931Z
UID:10028279-1777053600-1777060800@mychq.org
SUMMARY:Chautauqua County Girls Hockey Night
DESCRIPTION:CALLING ALL HOCKEY GIRLS!! \nDoes your girl currently play & want more practice & ice time outside their home team? Has she taken time off & wants to get back on the ice? Or does she know how to skate & has always wanted to try hockey?! \nInterest & questions can be sent to: \nCHQgirlshockey@gmail.com \nJoin us for Girls Hockey Night Friday\, April 24th for more info!
URL:https://mychq.org/event/chautauqua-county-girls-hockey-night/
LOCATION:Northwest Arena\, 319 W 3rd St.\, Jamestown\, NY\, 14701\, United States
CATEGORIES:Sports
ATTACH;FMTTYPE=image/jpeg:https://mychq.org/wp-content/uploads/2026/04/672679857_122095652024623553_1771416071208739901_n.jpg
ORGANIZER;CN="Chautauqua County Girls Hockey":MAILTO:chqgirlshockey@gmail.com
END:VEVENT
END:VCALENDAR