BEGIN:VCALENDAR
VERSION:2.0
PRODID:-//My CHQ - ECPv6.15.20//NONSGML v1.0//EN
CALSCALE:GREGORIAN
METHOD:PUBLISH
X-ORIGINAL-URL:https://mychq.org
X-WR-CALDESC:Events for My CHQ
REFRESH-INTERVAL;VALUE=DURATION:PT1H
X-Robots-Tag:noindex
X-PUBLISHED-TTL:PT1H
BEGIN:VTIMEZONE
TZID:America/New_York
BEGIN:DAYLIGHT
TZOFFSETFROM:-0500
TZOFFSETTO:-0400
TZNAME:EDT
DTSTART:20250309T070000
END:DAYLIGHT
BEGIN:STANDARD
TZOFFSETFROM:-0400
TZOFFSETTO:-0500
TZNAME:EST
DTSTART:20251102T060000
END:STANDARD
BEGIN:DAYLIGHT
TZOFFSETFROM:-0500
TZOFFSETTO:-0400
TZNAME:EDT
DTSTART:20260308T070000
END:DAYLIGHT
BEGIN:STANDARD
TZOFFSETFROM:-0400
TZOFFSETTO:-0500
TZNAME:EST
DTSTART:20261101T060000
END:STANDARD
BEGIN:DAYLIGHT
TZOFFSETFROM:-0500
TZOFFSETTO:-0400
TZNAME:EDT
DTSTART:20270314T070000
END:DAYLIGHT
BEGIN:STANDARD
TZOFFSETFROM:-0400
TZOFFSETTO:-0500
TZNAME:EST
DTSTART:20271107T060000
END:STANDARD
END:VTIMEZONE
BEGIN:VEVENT
DTSTART;TZID=America/New_York:20260803T104500
DTEND;TZID=America/New_York:20260803T120000
DTSTAMP:20260423T111511
CREATED:20260226T145430Z
LAST-MODIFIED:20260226T145430Z
UID:10026675-1785753900-1785758400@mychq.org
SUMMARY:Ken Burns and Jeffrey Rosen - Chautauqua Lecture Series
DESCRIPTION:Celebrating the United States semiquincentennial\, Chautauqua presents Week Six\, “America at 250: In Partnership with The Colonial Williamsburg Foundation.” The milestone anniversary offers an opportunity to survey the previous quarter millennium – how a collection of British colonies became the world’s pre-eminent constitutional democracy\, with major successes\, failures and continued struggles along the way – alongside world-renowned leaders in historical education. To begin this weeklong commemoration\, Chautauqua welcomes Ken Burns and Jeffrey Rosen back to the Amphitheater stage for a two-day conversation on themes and threads from the pair’s latest projects: for Burns\, the November 2025 PBS documentary “The American Revolution\,” and for Rosen\, his October 2025 book The Pursuit of Liberty: How Hamilton and Jefferson Ignited the Lasting Battle Over Power in America. \n\nLearn more with the event  belowhttps://www.chq.org/event/ken-burns-and-jeffrey-rosen/
URL:https://mychq.org/event/ken-burns-and-jeffrey-rosen-chautauqua-lecture-series/
LOCATION:Chautauqua Institution\, 1 Ames Ave\, Chautauqua\, 14722\, United States
CATEGORIES:Speaker & Conventions
ATTACH;FMTTYPE=image/jpeg:https://mychq.org/wp-content/uploads/2026/02/585262607_861622683186299_2166051626712102907_n.jpg
ORGANIZER;CN="Chautauqua Institution":MAILTO:ticketoffice@chq.org
END:VEVENT
BEGIN:VEVENT
DTSTART;TZID=America/New_York:20260804T104500
DTEND;TZID=America/New_York:20260804T120000
DTSTAMP:20260423T111511
CREATED:20260226T145456Z
LAST-MODIFIED:20260324T210516Z
UID:10026676-1785840300-1785844800@mychq.org
SUMMARY:Ken Burns and Jeffrey Rosen - Chautauqua Lecture Series
DESCRIPTION:Celebrating the United States semiquincentennial\, Chautauqua presents Week Six\, “America at 250: In Partnership with The Colonial Williamsburg Foundation.” The milestone anniversary offers an opportunity to survey the previous quarter millennium – how a collection of British colonies became the world’s pre-eminent constitutional democracy\, with major successes\, failures and continued struggles along the way – alongside world-renowned leaders in historical education. To begin this weeklong commemoration\, Chautauqua welcomes Ken Burns and Jeffrey Rosen back to the Amphitheater stage for a two-day conversation on themes and threads from the pair’s latest projects: for Burns\, the November 2025 PBS documentary “The American Revolution\,” and for Rosen\, his October 2025 book The Pursuit of Liberty: How Hamilton and Jefferson Ignited the Lasting Battle Over Power in America. \nLearn more with the event  belowhttps://www.chq.org/event/ken-burns-and-jeffrey-rosen/
URL:https://mychq.org/event/ken-burns-and-jeffrey-rosen-chautauqua-lecture-series-2/
LOCATION:Chautauqua Institution\, 1 Ames Ave\, Chautauqua\, 14722\, United States
CATEGORIES:Speaker & Conventions
ATTACH;FMTTYPE=image/jpeg:https://mychq.org/wp-content/uploads/2026/02/585262607_861622683186299_2166051626712102907_n.jpg
ORGANIZER;CN="Chautauqua Institution":MAILTO:ticketoffice@chq.org
END:VEVENT
BEGIN:VEVENT
DTSTART;TZID=America/New_York:20260810T104500
DTEND;TZID=America/New_York:20260810T120000
DTSTAMP:20260423T111511
CREATED:20260226T145552Z
LAST-MODIFIED:20260226T145552Z
UID:10026677-1786358700-1786363200@mychq.org
SUMMARY:Nancy Youssef - Chautauqua Lecture Series
DESCRIPTION:Nancy Youssef is a staff writer at The Atlantic. Before that\, she was a longtime national security correspondent for The Wall Street Journal and also worked at BuzzFeed News and The Daily Beast. Youssef spent much of her career at McClatchy Newspapers where she served as national security correspondent and Middle East bureau chief based in Cairo covering the Middle East and the Islamic world. Prior to that she was McClatchy’s chief Pentagon correspondent\, focusing on the wars in Iraq and Afghanistan. She traveled frequently to those two nations to see how the policies crafted in Washington reached Afghans\, Iraqis and the troops alike. She is also the founder of the Pentagon Press Association. \nLearn more witht the event  belowhttps://www.chq.org/event/nancy-youssef/
URL:https://mychq.org/event/nancy-youssef-chautauqua-lecture-series/
LOCATION:Chautauqua Institution\, 1 Ames Ave\, Chautauqua\, 14722\, United States
CATEGORIES:Speaker & Conventions
ATTACH;FMTTYPE=image/jpeg:https://mychq.org/wp-content/uploads/2026/02/598358701_877300221618545_3457853545185636810_n.jpg
ORGANIZER;CN="Chautauqua Institution":MAILTO:ticketoffice@chq.org
END:VEVENT
BEGIN:VEVENT
DTSTART;TZID=America/New_York:20260811T140000
DTEND;TZID=America/New_York:20260811T160000
DTSTAMP:20260423T111511
CREATED:20260226T150818Z
LAST-MODIFIED:20260226T150818Z
UID:10026683-1786456800-1786464000@mychq.org
SUMMARY:Jeremy Ben-Ami - Interfaith Lecture Series
DESCRIPTION:Jeremy Ben-Ami is the president of J Street\, bringing to the role both deep experience in American politics and government and a passionate commitment to the state of Israel. Ben-Ami’s family connection to Israel goes back 140 years to the first aliyah when his great-grandparents were among the first settlers in Petah Tikva. His grandparents were one of the founding families of Tel Aviv\, and his father was an activist and leader in the Irgun\, working for Israel’s independence and on the rescue of European Jews before and during World War II. \nHe joins us in Week Seven of our Interfaith Lecture Series this summer. \nLearn more with the event  belowhttps://www.chq.org/event/jeremy-ben-ami/
URL:https://mychq.org/event/jeremy-ben-ami-interfaith-lecture-series/
LOCATION:Chautauqua Institution\, 1 Ames Ave\, Chautauqua\, 14722\, United States
CATEGORIES:Speaker & Conventions
ATTACH;FMTTYPE=image/jpeg:https://mychq.org/wp-content/uploads/2026/02/639149915_933635255985041_4852992206446433017_n.jpg
ORGANIZER;CN="Chautauqua Institution":MAILTO:ticketoffice@chq.org
END:VEVENT
BEGIN:VEVENT
DTSTART;TZID=America/New_York:20260817T104500
DTEND;TZID=America/New_York:20260817T123000
DTSTAMP:20260423T111511
CREATED:20260326T135731Z
LAST-MODIFIED:20260326T135731Z
UID:10027560-1786963500-1786969800@mychq.org
SUMMARY:Danielle Nierenberg - Chautauqua Lecture Series
DESCRIPTION:Danielle Nierenberg is a world-renowned researcher\, speaker and advocate\, on all issues relating to our food system and agriculture. She is president of Food Tank\, the think tank for food\, and an expert on sustainable agriculture and food issues. She has written extensively on gender and population\, the spread of factory farming in the developing world and innovations in sustainable agriculture. \nLearn more with the event  belowhttps://www.chq.org/event/danielle-nierenberg/
URL:https://mychq.org/event/danielle-nierenberg-chautauqua-lecture-series-2/
LOCATION:Chautauqua Institution\, 1 Ames Ave\, Chautauqua\, 14722\, United States
CATEGORIES:Speaker & Conventions
ATTACH;FMTTYPE=image/jpeg:https://mychq.org/wp-content/uploads/2026/03/607480867_892557330092834_3239542653419965309_n-1.jpg
ORGANIZER;CN="Chautauqua Institution":MAILTO:ticketoffice@chq.org
END:VEVENT
BEGIN:VEVENT
DTSTART;TZID=America/New_York:20260819T104500
DTEND;TZID=America/New_York:20260819T120000
DTSTAMP:20260423T111511
CREATED:20260226T145639Z
LAST-MODIFIED:20260226T145716Z
UID:10026678-1787136300-1787140800@mychq.org
SUMMARY:Brian Frank - Chautauqua Lecture Series
DESCRIPTION:Brian Frank is the founder and general partner of FTW Ventures\, bringing decades of experience in building transformative technology that impacts the way people work\, play and live. In 2015\, Frank turned his attention to how technology can improve the lives of every person on the planet by building a better food system. He raised two early-stage funds for investments into food and agriculture technology businesses with FTW\, partnering with the leading executives and corporations in the field. \nLearn more with the event  belowhttps://www.chq.org/event/brian-frank/
URL:https://mychq.org/event/danielle-nierenberg-chautauqua-lecture-series/
LOCATION:Chautauqua Institution\, 1 Ames Ave\, Chautauqua\, 14722\, United States
CATEGORIES:Speaker & Conventions
ATTACH;FMTTYPE=image/jpeg:https://mychq.org/wp-content/uploads/2026/02/608519103_896923779656189_7354177269845872976_n.jpg
ORGANIZER;CN="Chautauqua Institution":MAILTO:ticketoffice@chq.org
END:VEVENT
BEGIN:VEVENT
DTSTART;TZID=America/New_York:20260824T104500
DTEND;TZID=America/New_York:20260824T120000
DTSTAMP:20260423T111511
CREATED:20260226T145801Z
LAST-MODIFIED:20260226T145801Z
UID:10026679-1787568300-1787572800@mychq.org
SUMMARY:Priya Parker - Chautauqua Lecture Series
DESCRIPTION:Priya Parker opens Week Nine of the 2026 Chautauqua Lecture Series and the theme of “The Importance of Gathering” by helping us take a deeper look at how anyone can create collective meaning in modern life\, one gathering at a time. She is a facilitator\, strategic adviser\, acclaimed author of The Art of Gathering: How We Meet and Why it Matters\, and the host of The Art of Gathering Digital Course. She writes and teaches on Group Life\, her Substack publication aimed to make “group help” as normal as “self help.” \nLearn more with the event link below:https://www.chq.org/event/priya-parker/
URL:https://mychq.org/event/priya-parker-chautauqua-lecture-series/
LOCATION:Chautauqua Institution\, 1 Ames Ave\, Chautauqua\, 14722\, United States
CATEGORIES:Speaker & Conventions
ATTACH;FMTTYPE=image/jpeg:https://mychq.org/wp-content/uploads/2026/02/571632067_846799001335334_4975482363225765669_n.jpg
ORGANIZER;CN="Chautauqua Institution":MAILTO:ticketoffice@chq.org
END:VEVENT
BEGIN:VEVENT
DTSTART;TZID=America/New_York:20260825T104500
DTEND;TZID=America/New_York:20260825T123000
DTSTAMP:20260423T111511
CREATED:20260402T130951Z
LAST-MODIFIED:20260402T130951Z
UID:10027692-1787654700-1787661000@mychq.org
SUMMARY:Lara Downes & John McWhorter - Chautauqua Lecture Series
DESCRIPTION:A conversation with Lara Downes\, award-winning classical pianist and host of NPR’s Amplify with Lara Downes\, and John McWhorter\, associate professor of linguistics at Columbia University. \nThe conversation is part of Downes’ series America in Pursuit\, developed for NPR’s All Things Considered. As part of Week Nine of the Chautauqua Lecture Series — in collaboration with Smithsonian Folklife — the two explore how music\, language and cultural expression shape our shared histories and deepen our understanding of one another.
URL:https://mychq.org/event/lara-downes-john-mcwhorter-chautauqua-lecture-series/
LOCATION:Chautauqua Institution\, 1 Ames Ave\, Chautauqua\, 14722\, United States
CATEGORIES:Speaker & Conventions
ATTACH;FMTTYPE=image/jpeg:https://mychq.org/wp-content/uploads/2026/04/659246510_961002176581682_8548175902156414959_n.jpg
ORGANIZER;CN="Chautauqua Institution":MAILTO:ticketoffice@chq.org
END:VEVENT
BEGIN:VEVENT
DTSTART;TZID=America/New_York:20260826T104500
DTEND;TZID=America/New_York:20260826T123000
DTSTAMP:20260423T111511
CREATED:20260326T135828Z
LAST-MODIFIED:20260326T135828Z
UID:10027561-1787741100-1787747400@mychq.org
SUMMARY:Henry Louis Gates\, Jr. - Chautauqua Lecture Series
DESCRIPTION:Henry Louis Gates\, Jr. is the Alphonse Fletcher University professor and director of the Hutchins Center for African & African American Research at Harvard University. The Emmy and Peabody Award-winning filmmaker\, literary scholar\, journalist\, cultural critic and institution builder has produced and hosted an array of documentary films and published numerous books. Gates joins the Chautauqua Lecture Series during this week on “The Importance of Gathering\,” in collaboration with the Smithsonian Folklife Festival\, to reflect on the importance of sharing collective histories and memories\, based on his extensive work and scholarship exploring the connections that bind us. \nLearn more with the event  below:https://www.chq.org/event/henry-louis-gates-jr/
URL:https://mychq.org/event/henry-louis-gates-jr-chautauqua-lecture-series/
LOCATION:Chautauqua Institution\, 1 Ames Ave\, Chautauqua\, 14722\, United States
CATEGORIES:Speaker & Conventions
ATTACH;FMTTYPE=image/jpeg:https://mychq.org/wp-content/uploads/2026/03/649840597_950196637662236_4977778501456540588_n.jpg
ORGANIZER;CN="Chautauqua Institution":MAILTO:ticketoffice@chq.org
END:VEVENT
END:VCALENDAR