BEGIN:VCALENDAR
VERSION:2.0
PRODID:-//Chautauqua County Events, Local Businesses &amp; Resources | My CHQ - ECPv6.15.20//NONSGML v1.0//EN
CALSCALE:GREGORIAN
METHOD:PUBLISH
X-WR-CALNAME:Chautauqua County Events, Local Businesses &amp; Resources | My CHQ
X-ORIGINAL-URL:https://mychq.org
X-WR-CALDESC:Events for Chautauqua County Events, Local Businesses &amp; Resources | My CHQ
REFRESH-INTERVAL;VALUE=DURATION:PT1H
X-Robots-Tag:noindex
X-PUBLISHED-TTL:PT1H
BEGIN:VTIMEZONE
TZID:America/New_York
BEGIN:DAYLIGHT
TZOFFSETFROM:-0500
TZOFFSETTO:-0400
TZNAME:EDT
DTSTART:20250309T070000
END:DAYLIGHT
BEGIN:STANDARD
TZOFFSETFROM:-0400
TZOFFSETTO:-0500
TZNAME:EST
DTSTART:20251102T060000
END:STANDARD
BEGIN:DAYLIGHT
TZOFFSETFROM:-0500
TZOFFSETTO:-0400
TZNAME:EDT
DTSTART:20260308T070000
END:DAYLIGHT
BEGIN:STANDARD
TZOFFSETFROM:-0400
TZOFFSETTO:-0500
TZNAME:EST
DTSTART:20261101T060000
END:STANDARD
BEGIN:DAYLIGHT
TZOFFSETFROM:-0500
TZOFFSETTO:-0400
TZNAME:EDT
DTSTART:20270314T070000
END:DAYLIGHT
BEGIN:STANDARD
TZOFFSETFROM:-0400
TZOFFSETTO:-0500
TZNAME:EST
DTSTART:20271107T060000
END:STANDARD
END:VTIMEZONE
BEGIN:VEVENT
DTSTART;TZID=America/New_York:20260502T160000
DTEND;TZID=America/New_York:20260502T180000
DTSTAMP:20260425T204305
CREATED:20260413T203318Z
LAST-MODIFIED:20260413T203318Z
UID:10028072-1777737600-1777744800@mychq.org
SUMMARY:250 Years of American Music
DESCRIPTION:Mark your calendars and get ready to enjoy a once in 250 years event as the Jamestown Community Chorus celebrates our country’s semiquincentennial . The music features all American composers and music from 1776 through 2020.
URL:https://mychq.org/event/250-years-of-american-music/2026-05-02/
LOCATION:Jamestown Recreation Center\, 41 Conanicus Ave\, Jamestown\, 14701\, United States
CATEGORIES:Music & Entertainment
ATTACH;FMTTYPE=image/jpeg:https://mychq.org/wp-content/uploads/2026/04/663147800_1433143971943953_6771856349376843773_n.jpg
ORGANIZER;CN="Jamestown Community Chorus":MAILTO:cantabile50@gmail.com
END:VEVENT
BEGIN:VEVENT
DTSTART;TZID=America/New_York:20260502T170000
DTEND;TZID=America/New_York:20260502T200000
DTSTAMP:20260425T204305
CREATED:20260424T003204Z
LAST-MODIFIED:20260424T003204Z
UID:10028357-1777741200-1777752000@mychq.org
SUMMARY:Charity Nuse LIVE @ The Empty Pint
DESCRIPTION:Back by popular demand… \nSaturday May 2nd 2026Charity Nuse (solo)LIVESouthern Tier Distillery2051A Stoneman CircleLakewood\, NY 147505:00pm-8:00pmAll Ages-Free
URL:https://mychq.org/event/charity-nuse-live-the-empty-pint/
LOCATION:Southern Tier Brewing Company – The Empty Pint\, 2072 Stoneman Cir.\, Lakewood\, NY\, 14750\, United States
CATEGORIES:Music & Entertainment
ATTACH;FMTTYPE=image/jpeg:https://mychq.org/wp-content/uploads/2026/04/672222400_1567704858478638_6527716122991508948_n.jpg
ORGANIZER;CN="Blue Moon Management":MAILTO:bluemoonmusic@windstream.net
END:VEVENT
BEGIN:VEVENT
DTSTART;TZID=America/New_York:20260502T173000
DTEND;TZID=America/New_York:20260502T210000
DTSTAMP:20260425T204305
CREATED:20260306T213113Z
LAST-MODIFIED:20260306T213113Z
UID:10026982-1777743000-1777755600@mychq.org
SUMMARY:RGB's Man's Ruin Album Release Party
DESCRIPTION:RGB is releasing our first full length record and we want you to join us in the moment! We have invited a few of our favorite bands to play and they’re on board. Gooch and Virus X bring the punk and our favorite rock and roll band we’ve played with\, Cheap Thrill! We’ll be playing at our favorite venue\, Lakeside Golf Course. There’s gonna be some surprises for you\, but you’ll have to be there to see what they are! Doors at 530 pm\, show starts at 6 pm. see you there!
URL:https://mychq.org/event/rgbs-mans-ruin-album-release-party/
LOCATION:Lakeside Golf Course\, 10775 Rt-5\, Ripley\, 14775\, United States
CATEGORIES:Music & Entertainment
ATTACH;FMTTYPE=image/jpeg:https://mychq.org/wp-content/uploads/2026/03/640548320_918453927599587_7755409377270107186_n.jpg
ORGANIZER;CN="Ralphie's Gone Blind Music":MAILTO:ralphiesgoneblind@gmail.com
END:VEVENT
BEGIN:VEVENT
DTSTART;TZID=America/New_York:20260502T190000
DTEND;TZID=America/New_York:20260502T220000
DTSTAMP:20260425T204305
CREATED:20260226T215339Z
LAST-MODIFIED:20260226T215339Z
UID:10026792-1777748400-1777759200@mychq.org
SUMMARY:Brave Strangers @ Gowanda Historic Theater
DESCRIPTION:Get ready for an amazing night of music featuring a tribute to Bob Seger and the Silver Bullet Band.
URL:https://mychq.org/event/brave-strangers-gowanda-historic-theater/
LOCATION:Gowanda Historic Hollywood Theater\, 39 W Main St\, Gowanda\, 14070\, United States
CATEGORIES:Music & Entertainment
ATTACH;FMTTYPE=image/png:https://mychq.org/wp-content/uploads/2026/02/brave-strangers.png
ORGANIZER;CN="Gowanda Historic Hollywood Theater":MAILTO:dharrisathollywoodtheater@gmail.com
END:VEVENT
BEGIN:VEVENT
DTSTART;TZID=America/New_York:20260502T193000
DTEND;TZID=America/New_York:20260502T213000
DTSTAMP:20260425T204305
CREATED:20260306T214321Z
LAST-MODIFIED:20260306T214321Z
UID:10026990-1777750200-1777757400@mychq.org
SUMMARY:A Tribute Night to the Eagles @ The Reg Lenna
DESCRIPTION:A Tribute Night to the Eagles is coming to the Reg Lenna Center for the Arts on May 2nd! \nThe Ultimate Eagle’s Tribute Band recreates the legendary sound of one of the most beloved bands of all time\, The Eagles. For years\, this band has been amazing audiences with unbelievable lead vocals\, soaring instrumentals\, and a sound that is reminiscent of the unmistakable Eagles. \nWe invite you to journey with us through one of America’s most celebrated songbooks. This highly-acclaimed performance will feature decades of hits. \nTheir playlist will include all of their hallmarks; Hotel California\, The Long Run\, Tequila Sunrise\, Desperado\, Seven Bridges Road\, and Heartache Tonight. They’ll also transport you to yesteryear with their beloved ballads\, “Best of My Love\,” “I Can’t Tell You Why\,” and “Lyin’ Eyes.” This is the most comprehensive tribute to the Eagles ! The show’s pitch perfect harmonies will capture the best of American Rock Royalty and your heart! \nBuy tickets at www.reglenna.com or call the box office at (716) 484-7070.
URL:https://mychq.org/event/a-tribute-night-to-the-eagles-the-reg-lenna/
LOCATION:Reg Lenna Center For The Arts\, 116 E 3rd St.\, Jamestown\, NY\, 14701\, United States
CATEGORIES:Music & Entertainment
ATTACH;FMTTYPE=image/jpeg:https://mychq.org/wp-content/uploads/2026/03/648496585_1525247642939689_3546465582160698393_n.jpg
ORGANIZER;CN="Reg Lenna Center For The Arts":MAILTO:info@reglenna.com
END:VEVENT
BEGIN:VEVENT
DTSTART;TZID=America/New_York:20260502T200000
DTEND;TZID=America/New_York:20260502T233000
DTSTAMP:20260425T204305
CREATED:20260331T154558Z
LAST-MODIFIED:20260331T154558Z
UID:10027612-1777752000-1777764600@mychq.org
SUMMARY:Live Music at The Sherman Hotel!
DESCRIPTION:Along with these epic shows\, DJ Bobby C will be leading Karaoke\, Line Dancing\, & Any Music Genre every Wednesday at 8 PM!
URL:https://mychq.org/event/live-music-at-the-sherman-hotel/2026-05-02/
LOCATION:The Sherman Hotel\, 133 W Main St\, Sherman\, 14781\, United States
CATEGORIES:Music & Entertainment
ATTACH;FMTTYPE=image/jpeg:https://mychq.org/wp-content/uploads/2026/03/655954235_122215574066308534_6241984311814717650_n.jpg
ORGANIZER;CN="The Sherman Hotel":MAILTO:Shermanhotelny@gmail.com
END:VEVENT
BEGIN:VEVENT
DTSTART;TZID=America/New_York:20260502T200000
DTEND;TZID=America/New_York:20260502T235900
DTSTAMP:20260425T204305
CREATED:20260413T204029Z
LAST-MODIFIED:20260413T204029Z
UID:10028078-1777752000-1777766340@mychq.org
SUMMARY:Silent Disco @ Full Strength Coffee
DESCRIPTION:Come dance the night away at our Silent Disco! Tickets are limited. $20 per person. Headphones provided. Stop in to purchase or call 716 232 4230. Drinks available. 21+ event.
URL:https://mychq.org/event/silent-disco-full-strength-coffee/
LOCATION:Full Strength Coffee\, 55 E Main St\, Westfield\, 14787\, United States
CATEGORIES:Music & Entertainment
ATTACH;FMTTYPE=image/jpeg:https://mychq.org/wp-content/uploads/2026/04/668586558_1608219831306821_2629673740712194017_n.jpg
ORGANIZER;CN="Full Strength Coffee":MAILTO:fullstrengthcoffeecompany@gmail.com
END:VEVENT
BEGIN:VEVENT
DTSTART;TZID=America/New_York:20260502T210000
DTEND;TZID=America/New_York:20260502T235900
DTSTAMP:20260425T204305
CREATED:20260312T201810Z
LAST-MODIFIED:20260312T201810Z
UID:10027210-1777755600-1777766340@mychq.org
SUMMARY:Slim & Red LIVE @ Good Time Saloon
DESCRIPTION:ANNOUNCING……. \n“Slim & Red”LIVESaturday May 2nd 2026Good Time Saloon590 East Fairmount AvenueJamestown\,NY 14701Free-21+9:00pm-12:00am
URL:https://mychq.org/event/slim-red-live-good-time-saloon/
LOCATION:Good Time Saloon\, 590 Fairmount Ave\, Jamestown\, 14701\, United States
CATEGORIES:Music & Entertainment
ATTACH;FMTTYPE=image/jpeg:https://mychq.org/wp-content/uploads/2026/03/648835773_1537156891533435_5406386213875685072_n.jpg
ORGANIZER;CN="Blue Moon Management":MAILTO:bluemoonmusic@windstream.net
END:VEVENT
END:VCALENDAR