BEGIN:VCALENDAR
VERSION:2.0
PRODID:-//Chautauqua County Events, Local Businesses &amp; Resources | My CHQ - ECPv6.15.20//NONSGML v1.0//EN
CALSCALE:GREGORIAN
METHOD:PUBLISH
X-WR-CALNAME:Chautauqua County Events, Local Businesses &amp; Resources | My CHQ
X-ORIGINAL-URL:https://mychq.org
X-WR-CALDESC:Events for Chautauqua County Events, Local Businesses &amp; Resources | My CHQ
REFRESH-INTERVAL;VALUE=DURATION:PT1H
X-Robots-Tag:noindex
X-PUBLISHED-TTL:PT1H
BEGIN:VTIMEZONE
TZID:America/New_York
BEGIN:DAYLIGHT
TZOFFSETFROM:-0500
TZOFFSETTO:-0400
TZNAME:EDT
DTSTART:20250309T070000
END:DAYLIGHT
BEGIN:STANDARD
TZOFFSETFROM:-0400
TZOFFSETTO:-0500
TZNAME:EST
DTSTART:20251102T060000
END:STANDARD
BEGIN:DAYLIGHT
TZOFFSETFROM:-0500
TZOFFSETTO:-0400
TZNAME:EDT
DTSTART:20260308T070000
END:DAYLIGHT
BEGIN:STANDARD
TZOFFSETFROM:-0400
TZOFFSETTO:-0500
TZNAME:EST
DTSTART:20261101T060000
END:STANDARD
BEGIN:DAYLIGHT
TZOFFSETFROM:-0500
TZOFFSETTO:-0400
TZNAME:EDT
DTSTART:20270314T070000
END:DAYLIGHT
BEGIN:STANDARD
TZOFFSETFROM:-0400
TZOFFSETTO:-0500
TZNAME:EST
DTSTART:20271107T060000
END:STANDARD
END:VTIMEZONE
BEGIN:VEVENT
DTSTART;TZID=America/New_York:20260430T173000
DTEND;TZID=America/New_York:20260430T193000
DTSTAMP:20260423T163041
CREATED:20260204T182410Z
LAST-MODIFIED:20260204T182410Z
UID:10024711-1777570200-1777577400@mychq.org
SUMMARY:SUNY Fredonia School of Music Recital Concert
DESCRIPTION:The Opera House has partnered with the State University of New York at Fredonia’s School of Music to present a series of free-admission early evening recitals performed by the talented young artists studying there. \nThis series is a concert initiative created by Drs. Eliran Avni and Natasha Farny\, and in partnership with Director of Opera Studies Don Marrazzo\, that provides students the opportunity to perform in off-campus venues to a wider audience. Concerts typically feature instrumental and vocal solo and small ensemble performances. Music by both classical and contemporary composers is featured. Concerts are 60 minutes long and provide an opportunity to hear some of our area’s incredible emerging artists in the intimate setting of the Opera House. \nAdmission is FREE\, although donations are gratefully accepted
URL:https://mychq.org/event/suny-fredonia-school-of-music-recital-concert-2/
LOCATION:The 1891 Fredonia Opera House\, 9 Church St.\, Fredonia\, 14063\, United States
CATEGORIES:Music & Entertainment
ATTACH;FMTTYPE=image/jpeg:https://mychq.org/wp-content/uploads/2026/02/628439644_1378149250782244_2917357129351280644_n.jpg
ORGANIZER;CN="The 1891 Fredonia Opera House":MAILTO:operahouse@fredopera.org
END:VEVENT
BEGIN:VEVENT
DTSTART;TZID=America/New_York:20260430T190000
DTEND;TZID=America/New_York:20260430T220000
DTSTAMP:20260423T163041
CREATED:20260218T001356Z
LAST-MODIFIED:20260218T001356Z
UID:10024932-1777575600-1777586400@mychq.org
SUMMARY:Big Fish - A New Broadway Musical
DESCRIPTION:Stay tuned for our ticket sale announcement! \nBIG FISH is a fantastical\, heartwarming musical that follows the life of Edward Bloom\, a traveling salesman whose larger-than-life stories captivate everyone around him—especially his loving wife\, Sandra. But their son\, Will\, about to become a father himself\, is determined to uncover the truth behind his father’s epic tales. As Will embarks on a journey to understand the man behind the myth\, BIG FISH explores the power of storytelling\, family bonds\, and the search for identity. \nWith its soaring score\, unforgettable characters\, and a blend of humor and heartfelt emotion\, BIG FISH offers an extraordinary theatrical experience that celebrates the joy of life\, the importance of family\, and the beauty of the stories we tell.
URL:https://mychq.org/event/big-fish-a-new-broadway-musical/2026-04-30/
LOCATION:Struthers Library Theatre\, 302 W 3rd Ave\, Warren\, PA\, 16365\, United States
CATEGORIES:Music & Entertainment
ATTACH;FMTTYPE=image/png:https://mychq.org/wp-content/uploads/2026/02/bigfish.png
ORGANIZER;CN="Struthers Library Theatre":MAILTO:baylie@strutherslibrarytheatre.org
END:VEVENT
END:VCALENDAR