BEGIN:VCALENDAR
VERSION:2.0
PRODID:-//My CHQ - ECPv6.15.20//NONSGML v1.0//EN
CALSCALE:GREGORIAN
METHOD:PUBLISH
X-WR-CALNAME:My CHQ
X-ORIGINAL-URL:https://mychq.org
X-WR-CALDESC:Events for My CHQ
REFRESH-INTERVAL;VALUE=DURATION:PT1H
X-Robots-Tag:noindex
X-PUBLISHED-TTL:PT1H
BEGIN:VTIMEZONE
TZID:America/New_York
BEGIN:DAYLIGHT
TZOFFSETFROM:-0500
TZOFFSETTO:-0400
TZNAME:EDT
DTSTART:20250309T070000
END:DAYLIGHT
BEGIN:STANDARD
TZOFFSETFROM:-0400
TZOFFSETTO:-0500
TZNAME:EST
DTSTART:20251102T060000
END:STANDARD
BEGIN:DAYLIGHT
TZOFFSETFROM:-0500
TZOFFSETTO:-0400
TZNAME:EDT
DTSTART:20260308T070000
END:DAYLIGHT
BEGIN:STANDARD
TZOFFSETFROM:-0400
TZOFFSETTO:-0500
TZNAME:EST
DTSTART:20261101T060000
END:STANDARD
BEGIN:DAYLIGHT
TZOFFSETFROM:-0500
TZOFFSETTO:-0400
TZNAME:EDT
DTSTART:20270314T070000
END:DAYLIGHT
BEGIN:STANDARD
TZOFFSETFROM:-0400
TZOFFSETTO:-0500
TZNAME:EST
DTSTART:20271107T060000
END:STANDARD
END:VTIMEZONE
BEGIN:VEVENT
DTSTART;TZID=America/New_York:20260426T150000
DTEND;TZID=America/New_York:20260426T180000
DTSTAMP:20260421T072815
CREATED:20260401T133918Z
LAST-MODIFIED:20260401T133918Z
UID:10027672-1777215600-1777226400@mychq.org
SUMMARY:Nathan Fiscus LIVE @ BTH
DESCRIPTION:We’re excited to welcome Nathan Fiscus back to Busti Tap House and you won’t want to miss it!  \n Sunday\, April 26th\, 2026 3-6 PM Busti Tap House \nBe part of the night as Nathan makes his Tap House debut\, bringing fresh acoustic energy\, great vocals\, and crowd-favorite tunes to our cozy lounge. Grab dinner\, sip on your favorite drink by the fireplace\, and discover your next favorite live musician. \n\n Live acoustic set Full menu & drinks available Cozy lounge vibes \nCome early\, bring your friends\, and help us give Nathan a warm Tap House welcome!  \n Hit “Going\,” invite your crew\, and join us for a special night of live music!
URL:https://mychq.org/event/nathan-fiscus-live-bth/
LOCATION:Busti Tap House\, 792 Busti-Sugar Grove Rd.\, Jamestown\, NY\, 14701\, United States
CATEGORIES:Music & Entertainment
ATTACH;FMTTYPE=image/jpeg:https://mychq.org/wp-content/uploads/2026/04/658365200_1268176382078629_1504310005754634482_n.jpg
ORGANIZER;CN="Busti Tap House":MAILTO:Bustitaphouse@gmail.com
END:VEVENT
END:VCALENDAR