BEGIN:VCALENDAR
VERSION:2.0
PRODID:-//Chautauqua County Events, Local Businesses &amp; Resources | My CHQ - ECPv6.15.20//NONSGML v1.0//EN
CALSCALE:GREGORIAN
METHOD:PUBLISH
X-WR-CALNAME:Chautauqua County Events, Local Businesses &amp; Resources | My CHQ
X-ORIGINAL-URL:https://mychq.org
X-WR-CALDESC:Events for Chautauqua County Events, Local Businesses &amp; Resources | My CHQ
REFRESH-INTERVAL;VALUE=DURATION:PT1H
X-Robots-Tag:noindex
X-PUBLISHED-TTL:PT1H
BEGIN:VTIMEZONE
TZID:America/New_York
BEGIN:DAYLIGHT
TZOFFSETFROM:-0500
TZOFFSETTO:-0400
TZNAME:EDT
DTSTART:20250309T070000
END:DAYLIGHT
BEGIN:STANDARD
TZOFFSETFROM:-0400
TZOFFSETTO:-0500
TZNAME:EST
DTSTART:20251102T060000
END:STANDARD
BEGIN:DAYLIGHT
TZOFFSETFROM:-0500
TZOFFSETTO:-0400
TZNAME:EDT
DTSTART:20260308T070000
END:DAYLIGHT
BEGIN:STANDARD
TZOFFSETFROM:-0400
TZOFFSETTO:-0500
TZNAME:EST
DTSTART:20261101T060000
END:STANDARD
BEGIN:DAYLIGHT
TZOFFSETFROM:-0500
TZOFFSETTO:-0400
TZNAME:EDT
DTSTART:20270314T070000
END:DAYLIGHT
BEGIN:STANDARD
TZOFFSETFROM:-0400
TZOFFSETTO:-0500
TZNAME:EST
DTSTART:20271107T060000
END:STANDARD
END:VTIMEZONE
BEGIN:VEVENT
DTSTART;TZID=America/New_York:20260425T130000
DTEND;TZID=America/New_York:20260425T160000
DTSTAMP:20260425T132824
CREATED:20260420T153321Z
LAST-MODIFIED:20260420T153321Z
UID:10028266-1777122000-1777132800@mychq.org
SUMMARY:Small Town Rollers LIVE @ The Empty Pint
DESCRIPTION:Join us in the taproom as we host live music at the Empty Pint! Stop by for a beer & a good time from 1PM – 4PM!
URL:https://mychq.org/event/small-town-rollers-live-the-empty-pint/
LOCATION:Southern Tier Brewing Company – The Empty Pint\, 2072 Stoneman Cir.\, Lakewood\, NY\, 14750\, United States
CATEGORIES:Music & Entertainment
ATTACH;FMTTYPE=image/jpeg:https://mychq.org/wp-content/uploads/2026/04/Live-Music-at-the-Empty-Pint.jpg
END:VEVENT
BEGIN:VEVENT
DTSTART;TZID=America/New_York:20260425T160000
DTEND;TZID=America/New_York:20260425T190000
DTSTAMP:20260425T132824
CREATED:20260317T164948Z
LAST-MODIFIED:20260317T164948Z
UID:10027306-1777132800-1777143600@mychq.org
SUMMARY:Derek Davis & Angel Busch LIVE @ Lakewood American Legion
DESCRIPTION:ANNOUNCING….. \nThe Biggest Party of the year!Let us Welcome “Derek Davis and Angel Busch”Both are “Chautauqua’s Got Talent Winners”Come for our Membership joining party!LIVESaturday April 25th 2026Lakewood Legion Post 1286174 Chautauqua AvenueLakewood\, NY 147504:00pm-7:00pmFREE NO COVERALL AGES!!
URL:https://mychq.org/event/derek-davis-angel-busch-live-lakewood-american-legion/
LOCATION:Lakewood Legion\, 174 Chautauqua Ave\, Lakewood\, 14750\, United States
CATEGORIES:Music & Entertainment
ATTACH;FMTTYPE=image/jpeg:https://mychq.org/wp-content/uploads/2026/03/653264377_1237961751834586_9051544305725245826_n.jpg
ORGANIZER;CN="Blue Moon Management":MAILTO:bluemoonmusic@windstream.net
END:VEVENT
BEGIN:VEVENT
DTSTART;TZID=America/New_York:20260425T183000
DTEND;TZID=America/New_York:20260425T210000
DTSTAMP:20260425T132824
CREATED:20260415T160550Z
LAST-MODIFIED:20260415T160651Z
UID:10028161-1777141800-1777150800@mychq.org
SUMMARY:Skeletons & Strings | Live Music @ Wicked Warren's Jamestown
DESCRIPTION:Check it out! Introducing …Skeletons & Strings Where the music is live and the crowd is VERY much alive.We’re bringing in killer solo artists to take over the bar with acoustic sets – right in front of our skeleton crew. Warren and Eveline are super excited to be back up bones. Ever since their stint with the Rolling Bones\, they’ve been DYING to get back in it!Expect an intimate and cozy energy\, cold drinks flowing\, hot pizza from the wood fire and raw talent at its finest. Zero cover. Zero excuses.Grab your friends. Pull up a seat. Stay longer than you planned.Where: Jamestown – Bar AreaTime: 6:30-9:00 pm
URL:https://mychq.org/event/skeletons-strings-live-music-wicked-warrens-jamestown/2026-04-25/
LOCATION:Wicked Warrens Jamestown\, Washington St.\, Jamestown\, 14701\, United States
CATEGORIES:Music & Entertainment
ATTACH;FMTTYPE=image/jpeg:https://mychq.org/wp-content/uploads/2026/04/670407929_122187826898424994_7536508649962004742_n.jpg
ORGANIZER;CN="Wicked Warrens Jamestown":MAILTO:info@wickedwarrens.com
END:VEVENT
BEGIN:VEVENT
DTSTART;TZID=America/New_York:20260425T190000
DTEND;TZID=America/New_York:20260425T210000
DTSTAMP:20260425T132824
CREATED:20260310T170752Z
LAST-MODIFIED:20260310T170752Z
UID:10027169-1777143600-1777150800@mychq.org
SUMMARY:Infinity’s Annual Spring Showcase presented by Merrill Lynch
DESCRIPTION:Infinity’s Annual Spring Showcase presented by Merrill Lynch \nJoin us for one of the most exciting nights of the year for Infinity’s students! \nInfinity’s Annual Spring Showcase presented by Merrill Lynch is a large-scale student performance event that brings our young artists onto a bigger stage to share their talents with the community. From music and theater to dance and more\, this event celebrates the dedication\, growth\, and creativity our students have built all year long. \nThis is more than a performance — it’s a milestone moment for our students and a powerful reminder of what arts education makes possible. \n TicketsTickets will be available in advance and at the door. We encourage early purchase! \nCASH: $8 pre-sale\, $10 at the door.CREDIT CARD: $8.50 presale\, $10.55 at the door.Children 18 and under admitted free with a ticketed adult. \n Raffle Baskets & Fundraising ActivitiesInfinity’s Annual Spring Showcase presented by Merrill Lynch is also a fundraising event supporting Infinity’s youth arts programming.• A wide variety of raffle baskets will be available.• Additional event activities will help raise funds to keep programs accessible for families across our region. \nEvery ticket purchased and every raffle ticket entered directly supports student lessons\, group classes\, performance opportunities\, and scholarship access. \nWe are deeply grateful to the community sponsors who help make this event possible: \nMerrill Lynch (Presenting Sponsor)AxiomChautauqua Eagles Aerie #2145Courier CapitalFessenden\, Laumer\, and DeAngeloHonest John’s PizzaLawley Insurance AgencyPeter A. Pillittieri\, Esq.Saxton\, Kocur and AssociatesThree Sixty GraphicsWegmans \nBecause of their support — and yours — our students have the opportunity to step onto a larger stage and shine. \nWe can’t wait to celebrate this incredible night of student talent with you. Join us and be part of something powerful in our community.
URL:https://mychq.org/event/infinitys-annual-spring-showcase-presented-by-merrill-lynch/
LOCATION:Washington Middle School\, 159 Buffalo St\, Jamestown\, 14701\, United States
CATEGORIES:Music & Entertainment
ATTACH;FMTTYPE=image/jpeg:https://mychq.org/wp-content/uploads/2026/03/646176437_1517224533747651_3579015930070701814_n.jpg
ORGANIZER;CN="Infinity Visual and Performing Arts":MAILTO:info@infinityperformingarts.org
END:VEVENT
BEGIN:VEVENT
DTSTART;TZID=America/New_York:20260425T200000
DTEND;TZID=America/New_York:20260425T230000
DTSTAMP:20260425T132824
CREATED:20260415T155646Z
LAST-MODIFIED:20260415T155646Z
UID:10028155-1777147200-1777158000@mychq.org
SUMMARY:Live Music with Kris Meekins at Group Ther-Happy
DESCRIPTION: Live Music with Kris Meekins  \nWrap up your Saturday night the right way with live music\, great drinks\, and the easygoing energy you love at Group Ther-Happy. Kris Meekins takes the stage for a fun\, feel-good night that’s perfect for hanging with friends\, unwinding\, and soaking up the music. \n Saturday\, 4/25 8:00–11:00 PM Group Ther-Happy \nCome early\, grab a seat\, and stay awhile — Saturday nights are better with live music.
URL:https://mychq.org/event/live-music-with-kris-meekins-at-group-ther-happy/
LOCATION:Group Ther-Happy\, 103 Chautauqua Ave\, Lakewood\, 14750\, United States
CATEGORIES:Music & Entertainment
ATTACH;FMTTYPE=image/jpeg:https://mychq.org/wp-content/uploads/2026/04/Kris-Meekins.jpg
ORGANIZER;CN="Group Ther-Happy":MAILTO:grouptherhappy@gmail.com
END:VEVENT
BEGIN:VEVENT
DTSTART;TZID=America/New_York:20260425T200000
DTEND;TZID=America/New_York:20260425T233000
DTSTAMP:20260425T132824
CREATED:20260331T154558Z
LAST-MODIFIED:20260331T154558Z
UID:10027611-1777147200-1777159800@mychq.org
SUMMARY:Live Music at The Sherman Hotel!
DESCRIPTION:Along with these epic shows\, DJ Bobby C will be leading Karaoke\, Line Dancing\, & Any Music Genre every Wednesday at 8 PM!
URL:https://mychq.org/event/live-music-at-the-sherman-hotel/2026-04-25/
LOCATION:The Sherman Hotel\, 133 W Main St\, Sherman\, 14781\, United States
CATEGORIES:Music & Entertainment
ATTACH;FMTTYPE=image/jpeg:https://mychq.org/wp-content/uploads/2026/03/655954235_122215574066308534_6241984311814717650_n.jpg
ORGANIZER;CN="The Sherman Hotel":MAILTO:Shermanhotelny@gmail.com
END:VEVENT
BEGIN:VEVENT
DTSTART;TZID=America/New_York:20260425T210000
DTEND;TZID=America/New_York:20260425T235900
DTSTAMP:20260425T132824
CREATED:20260116T184923Z
LAST-MODIFIED:20260116T184923Z
UID:10024345-1777150800-1777161540@mychq.org
SUMMARY:Backlog @ RBC
DESCRIPTION:Rock and roll!!!
URL:https://mychq.org/event/backlog-rbc/
LOCATION:Randolph Brewing Company\, 10933 Mace Rd\, East Randolph\, 14772\, United States
CATEGORIES:Music & Entertainment
ATTACH;FMTTYPE=image/jpeg:https://mychq.org/wp-content/uploads/2026/01/616090805_1370172465123878_6212299073272786942_n.jpg
ORGANIZER;CN="Backlog":MAILTO:Ludwigsfather@yahoo.com
END:VEVENT
BEGIN:VEVENT
DTSTART;TZID=America/New_York:20260425T213000
DTEND;TZID=America/New_York:20260425T235900
DTSTAMP:20260425T132824
CREATED:20260318T180814Z
LAST-MODIFIED:20260318T180814Z
UID:10027320-1777152600-1777161540@mychq.org
SUMMARY:Shawbucks Presents: New Wave Nation
DESCRIPTION:Mark your calendars! New Wave Nation: The 1980s Show Experience is returning to the stage at Shawbucks Night Club. Get ready for a spectacular night of music\, lights\, and a visual journey back to the decade of big hair and iconic sounds.On Saturday\, April 25th 2026 we’re bringing the full ’80s experience to Jamestown\, New York. You’ll hear all the hits performed live with the energy and authenticity that New Wave Nation is famous for.Join us for this long-awaited reunion and a night of pure nostalgia and fun. The show kicks off at 9:30 PM. Grab your friends and get ready to celebrate!
URL:https://mychq.org/event/shawbucks-presents-new-wave-nation/
LOCATION:Shawbucks\, 212 W 2nd St\, Jamestown\, 14701\, United States
CATEGORIES:Music & Entertainment
ATTACH;FMTTYPE=image/jpeg:https://mychq.org/wp-content/uploads/2026/03/647241093_1700810684223313_848774703441390753_n.jpg
END:VEVENT
BEGIN:VEVENT
DTSTART;TZID=America/New_York:20260425T213000
DTEND;TZID=America/New_York:20260425T235900
DTSTAMP:20260425T132824
CREATED:20260406T155225Z
LAST-MODIFIED:20260406T155225Z
UID:10027718-1777152600-1777161540@mychq.org
SUMMARY:Circuit Aura LIVE @ The Wine Cellar
DESCRIPTION:Jamestown! We are making our return to The Cellar in a few short weeks!! Can’t wait to see all of your faces and boogie
URL:https://mychq.org/event/circuit-aura-live-the-wine-cellar-2/
LOCATION:Jamestown Wine Cellar\, 309 N Main St\, Jamestown\, 14701\, United States
CATEGORIES:Music & Entertainment
ATTACH;FMTTYPE=image/jpeg:https://mychq.org/wp-content/uploads/2026/04/660295104_122169921848848525_5023189046711602180_n.jpg
ORGANIZER;CN="Circuit Aura Music":MAILTO:circuitaura2024@gmail.com
END:VEVENT
END:VCALENDAR