BEGIN:VCALENDAR
VERSION:2.0
PRODID:-//My CHQ - ECPv6.15.20//NONSGML v1.0//EN
CALSCALE:GREGORIAN
METHOD:PUBLISH
X-ORIGINAL-URL:https://mychq.org
X-WR-CALDESC:Events for My CHQ
REFRESH-INTERVAL;VALUE=DURATION:PT1H
X-Robots-Tag:noindex
X-PUBLISHED-TTL:PT1H
BEGIN:VTIMEZONE
TZID:America/New_York
BEGIN:DAYLIGHT
TZOFFSETFROM:-0500
TZOFFSETTO:-0400
TZNAME:EDT
DTSTART:20250309T070000
END:DAYLIGHT
BEGIN:STANDARD
TZOFFSETFROM:-0400
TZOFFSETTO:-0500
TZNAME:EST
DTSTART:20251102T060000
END:STANDARD
BEGIN:DAYLIGHT
TZOFFSETFROM:-0500
TZOFFSETTO:-0400
TZNAME:EDT
DTSTART:20260308T070000
END:DAYLIGHT
BEGIN:STANDARD
TZOFFSETFROM:-0400
TZOFFSETTO:-0500
TZNAME:EST
DTSTART:20261101T060000
END:STANDARD
BEGIN:DAYLIGHT
TZOFFSETFROM:-0500
TZOFFSETTO:-0400
TZNAME:EDT
DTSTART:20270314T070000
END:DAYLIGHT
BEGIN:STANDARD
TZOFFSETFROM:-0400
TZOFFSETTO:-0500
TZNAME:EST
DTSTART:20271107T060000
END:STANDARD
END:VTIMEZONE
BEGIN:VEVENT
DTSTART;TZID=America/New_York:20260423T090000
DTEND;TZID=America/New_York:20260423T180000
DTSTAMP:20260423T110345
CREATED:20260401T134830Z
LAST-MODIFIED:20260401T134830Z
UID:10027681-1776934800-1776967200@mychq.org
SUMMARY:Kennedy Free Library Book Sale!
DESCRIPTION:It’s a big\, old-fashioned book sale at your local library! There will also be hot dogs\, water\, and a bake sale!
URL:https://mychq.org/event/kennedy-free-library-book-sale/2026-04-23/
LOCATION:Kennedy Free Library\, 649 2nd St\, Kennedy\, 14747\, United States
CATEGORIES:Library
ATTACH;FMTTYPE=image/jpeg:https://mychq.org/wp-content/uploads/2026/04/658329102_978302467853984_6651074987992894752_n.jpg
ORGANIZER;CN="Kennedy Free Library":MAILTO:director@kennedyfreelibrary.org
END:VEVENT
BEGIN:VEVENT
DTSTART;TZID=America/New_York:20260423T101500
DTEND;TZID=America/New_York:20260423T113000
DTSTAMP:20260423T110345
CREATED:20260310T162041Z
LAST-MODIFIED:20260310T162041Z
UID:10027123-1776939300-1776943800@mychq.org
SUMMARY:Zoom Room @ Patterson Library
DESCRIPTION:Join us for Zoom Room\, a fun and friendly playtime for toddlers. With tricycles\, foam blocks\, and plenty of room to move\, it is a wonderful chance for little ones to play with others\, make new friends\, and burn off energy.Ages 0-3yrEvery Thursday at 10:15am
URL:https://mychq.org/event/zoom-room-patterson-library/2026-04-23/
LOCATION:Patterson Library\, 40 S Portage St\, Westfield\, 14787\, United States
CATEGORIES:Library
ATTACH;FMTTYPE=image/jpeg:https://mychq.org/wp-content/uploads/2026/03/649264785_1376354761197462_4568005669253766086_n.jpg
ORGANIZER;CN="Patterson Library":MAILTO:director@pattersonlib.org
END:VEVENT
BEGIN:VEVENT
DTSTART;TZID=America/New_York:20260423T130000
DTEND;TZID=America/New_York:20260423T150000
DTSTAMP:20260423T110345
CREATED:20251229T162408Z
LAST-MODIFIED:20251229T162408Z
UID:10023834-1776949200-1776956400@mychq.org
SUMMARY:Scrabble Club @ Lakewood Memorial Library
DESCRIPTION:Join the Lakewood Library Scrabble players every Thursday for a game (or two!) of your favorite word game! Bring your friends and make some new ones with this relaxed and welcoming board gaming group.
URL:https://mychq.org/event/scrabble-club-lakewood-memorial-library/2026-04-23/
LOCATION:Lakewood Memorial Library\, 12 West Summit St\, Lakewood\, 14750\, United States
CATEGORIES:Library
ATTACH;FMTTYPE=image/jpeg:https://mychq.org/wp-content/uploads/2025/12/547096117_1208370367993656_1678060828092578173_n.jpg
ORGANIZER;CN="Lakewood Memorial Library":MAILTO:info@lakewoodlibrary.org
END:VEVENT
BEGIN:VEVENT
DTSTART;TZID=America/New_York:20260423T150000
DTEND;TZID=America/New_York:20260423T163000
DTSTAMP:20260423T110345
CREATED:20260223T170459Z
LAST-MODIFIED:20260223T170459Z
UID:10025565-1776956400-1776961800@mychq.org
SUMMARY:James Prendergast Library MakerSpace
DESCRIPTION:Makerspace is available for open play Monday & Saturday from 10:30-3:30 and Tuesday through Friday 3:00-4:30. Impromptu use may be available at other times; ask the staff member at the information desk if Makerspace can be opened. Children under 8 must be accompanied by an adult at all times in the Makerspace.
URL:https://mychq.org/event/james-prendergast-library-makerspace-2/2026-04-23/
LOCATION:James Prendergast Library\, 509 Cherry St.\, Jamestown\, 14701\, United States
CATEGORIES:Library
ATTACH;FMTTYPE=image/jpeg:https://mychq.org/wp-content/uploads/2026/02/622842660_1348808927287742_9045029354605477558_n.jpg
ORGANIZER;CN="James Prendergast Library":MAILTO:info@prendergastlibrary.org
END:VEVENT
BEGIN:VEVENT
DTSTART;TZID=America/New_York:20260423T153000
DTEND;TZID=America/New_York:20260423T163000
DTSTAMP:20260423T110345
CREATED:20251030T164130Z
LAST-MODIFIED:20251030T164130Z
UID:10022783-1776958200-1776961800@mychq.org
SUMMARY:Minecraft Club @ James Prendergast Library
DESCRIPTION:Join us for Minecraft Club on Thursdays from 3:30-4:30 for our traditional staff-led experience! Weeks will alternate between creative and survival modes. Tomorrow\, October 30\, 2025 will be creative mode. This program is recommended for ages 8+ with some Minecraft experience.
URL:https://mychq.org/event/minecraft-club-james-prendergast-library/2026-04-23/
LOCATION:James Prendergast Library\, 509 Cherry St.\, Jamestown\, 14701\, United States
CATEGORIES:Library
ATTACH;FMTTYPE=image/jpeg:https://mychq.org/wp-content/uploads/2025/10/571340444_1274404104728225_3947329941411899392_n.jpg
ORGANIZER;CN="James Prendergast Library":MAILTO:info@prendergastlibrary.org
END:VEVENT
END:VCALENDAR