BEGIN:VCALENDAR
VERSION:2.0
PRODID:-//My CHQ - ECPv6.15.20//NONSGML v1.0//EN
CALSCALE:GREGORIAN
METHOD:PUBLISH
X-ORIGINAL-URL:https://mychq.org
X-WR-CALDESC:Events for My CHQ
REFRESH-INTERVAL;VALUE=DURATION:PT1H
X-Robots-Tag:noindex
X-PUBLISHED-TTL:PT1H
BEGIN:VTIMEZONE
TZID:America/New_York
BEGIN:DAYLIGHT
TZOFFSETFROM:-0500
TZOFFSETTO:-0400
TZNAME:EDT
DTSTART:20250309T070000
END:DAYLIGHT
BEGIN:STANDARD
TZOFFSETFROM:-0400
TZOFFSETTO:-0500
TZNAME:EST
DTSTART:20251102T060000
END:STANDARD
BEGIN:DAYLIGHT
TZOFFSETFROM:-0500
TZOFFSETTO:-0400
TZNAME:EDT
DTSTART:20260308T070000
END:DAYLIGHT
BEGIN:STANDARD
TZOFFSETFROM:-0400
TZOFFSETTO:-0500
TZNAME:EST
DTSTART:20261101T060000
END:STANDARD
BEGIN:DAYLIGHT
TZOFFSETFROM:-0500
TZOFFSETTO:-0400
TZNAME:EDT
DTSTART:20270314T070000
END:DAYLIGHT
BEGIN:STANDARD
TZOFFSETFROM:-0400
TZOFFSETTO:-0500
TZNAME:EST
DTSTART:20271107T060000
END:STANDARD
END:VTIMEZONE
BEGIN:VEVENT
DTSTART;TZID=America/New_York:20260424T093000
DTEND;TZID=America/New_York:20260424T103000
DTSTAMP:20260423T092254
CREATED:20251001T152457Z
LAST-MODIFIED:20251001T152457Z
UID:10022287-1777023000-1777026600@mychq.org
SUMMARY:Littles Play Group
DESCRIPTION:Fridays at 9:30\, Meet new friends as you bring children 3 and under to the Community Room to explore baby and toddler toys! \n\n\nDrop in to play and chat – no sign-up needed!
URL:https://mychq.org/event/littles-play-group/2026-04-24/
LOCATION:James Prendergast Library\, 509 Cherry St.\, Jamestown\, 14701\, United States
CATEGORIES:Library
ATTACH;FMTTYPE=image/jpeg:https://mychq.org/wp-content/uploads/2025/10/557839627_1250296993805603_9026105193390388221_n.jpg
ORGANIZER;CN="James Prendergast Library":MAILTO:info@prendergastlibrary.org
END:VEVENT
BEGIN:VEVENT
DTSTART;TZID=America/New_York:20260424T103000
DTEND;TZID=America/New_York:20260424T110000
DTSTAMP:20260423T092254
CREATED:20260131T193214Z
LAST-MODIFIED:20260131T193214Z
UID:10024602-1777026600-1777028400@mychq.org
SUMMARY:Story Time @ The Lakewood Memorial Library
DESCRIPTION:We invite you and your little ones\, aged 2 to 5 years\, to Story Time\, where together we will explore new stories and themes every Tuesday and Friday at 10:30am. \nWe carefully curate a collection of age-appropriate tales that promises to transport children’s young minds to far-off lands and on extraordinary adventures. Through animated voices and interactive elements\, we aim to captivate even the most restless of imaginations. \nBeyond the joy of listening to stories\, these sessions offer many developmental benefits. By exposing your child to language-rich environments\, their vocabulary will expand\, language comprehension will improve\, and their cognitive abilities will flourish. \nThe social setting of story time encourages bonding with peers\, instilling early social skills and teaching valuable lessons in sharing and cooperation. \nAt the end of each session\, we welcome children to explore the fun offered in our children’s area from our diverse collection of children’s books to our interactive reading boat. So\, don’t miss out on this incredible experience for your child. Join us every Tuesday and Friday at 10:30am in the library gallery\, and together\, let’s sow the seeds of a lifelong love for literature and reading.
URL:https://mychq.org/event/story-time-the-lakewood-memorial-library/2026-04-24/
LOCATION:Lakewood Memorial Library\, 12 West Summit St\, Lakewood\, 14750\, United States
CATEGORIES:Library
ATTACH;FMTTYPE=image/jpeg:https://mychq.org/wp-content/uploads/2026/01/624349085_1323202073177151_5376087426269714149_n.jpg
ORGANIZER;CN="Lakewood Memorial Library":MAILTO:info@lakewoodlibrary.org
END:VEVENT
BEGIN:VEVENT
DTSTART;TZID=America/New_York:20260424T103000
DTEND;TZID=America/New_York:20260424T113000
DTSTAMP:20260423T092254
CREATED:20260310T161914Z
LAST-MODIFIED:20260310T161914Z
UID:10027112-1777026600-1777030200@mychq.org
SUMMARY:Giggle & Grow Storytime
DESCRIPTION:Giggle and Grow is a fun\, educational storytime created for children ages 3 to 5 and their families. We enjoy stories\, songs\, and a simple craft or activity in a warm\, welcoming environment. Children of all ages are always welcome to join the fun—Fridays\, 10:30-11:30 am.
URL:https://mychq.org/event/giggle-grow-storytime/2026-04-24/
LOCATION:Patterson Library\, 40 S Portage St\, Westfield\, 14787\, United States
CATEGORIES:Library
ATTACH;FMTTYPE=image/jpeg:https://mychq.org/wp-content/uploads/2026/03/648909757_1376348127864792_4629251526752520570_n.jpg
ORGANIZER;CN="Patterson Library":MAILTO:director@pattersonlib.org
END:VEVENT
BEGIN:VEVENT
DTSTART;TZID=America/New_York:20260424T140000
DTEND;TZID=America/New_York:20260424T160000
DTSTAMP:20260423T092254
CREATED:20260110T233153Z
LAST-MODIFIED:20260110T233153Z
UID:10024122-1777039200-1777046400@mychq.org
SUMMARY:The Secret Society of The Twisted Stitchers @ Anderson Lee Library
DESCRIPTION:For ages 10+\, all skill levels welcome\, and no week-to-week commitment! Bring your knitting\, crocheting\, and embroidery projects and work together as a community! Register here: www.andersonleelibrary.org
URL:https://mychq.org/event/the-secret-society-of-the-twisted-stitchers-anderson-lee-library-2/2026-04-24/
LOCATION:Anderson Lee Library\, 43 Main St.\, Silver Creek\, 14136\, United States
CATEGORIES:Library
ATTACH;FMTTYPE=image/jpeg:https://mychq.org/wp-content/uploads/2026/01/611008787_1270518235109686_7879692076095497677_n.jpg
ORGANIZER;CN="Anderson Lee Library":MAILTO:director@andersonleelibrary.org
END:VEVENT
BEGIN:VEVENT
DTSTART;TZID=America/New_York:20260424T163000
DTEND;TZID=America/New_York:20260424T180000
DTSTAMP:20260423T092254
CREATED:20260327T192505Z
LAST-MODIFIED:20260327T192505Z
UID:10027606-1777048200-1777053600@mychq.org
SUMMARY:Cookbook Chronicles: Homemade Sushi
DESCRIPTION:Join Cookbook Chronicles\, our teen cooking club where we explore new recipes and build kitchen skills in a fun\, social setting! This month\, we’ll be making sushi—learning how to prepare rice\, choose fillings\, and roll your own creations. Meet us on Friday\, April 24 from 4:30–6:00 PM. All ingredients are provided\, and all skill levels are welcome!
URL:https://mychq.org/event/cookbook-chronicles-homemade-sushi/
LOCATION:Lakewood Memorial Library\, 12 West Summit St\, Lakewood\, 14750\, United States
CATEGORIES:Library
ATTACH;FMTTYPE=image/jpeg:https://mychq.org/wp-content/uploads/2026/03/657949830_1370048435159181_4772574391233118932_n.jpg
ORGANIZER;CN="Lakewood Memorial Library":MAILTO:info@lakewoodlibrary.org
END:VEVENT
END:VCALENDAR