BEGIN:VCALENDAR
VERSION:2.0
PRODID:-//Chautauqua County Events, Local Businesses &amp; Resources | My CHQ - ECPv6.15.20//NONSGML v1.0//EN
CALSCALE:GREGORIAN
METHOD:PUBLISH
X-ORIGINAL-URL:https://mychq.org
X-WR-CALDESC:Events for Chautauqua County Events, Local Businesses &amp; Resources | My CHQ
REFRESH-INTERVAL;VALUE=DURATION:PT1H
X-Robots-Tag:noindex
X-PUBLISHED-TTL:PT1H
BEGIN:VTIMEZONE
TZID:America/New_York
BEGIN:DAYLIGHT
TZOFFSETFROM:-0500
TZOFFSETTO:-0400
TZNAME:EDT
DTSTART:20250309T070000
END:DAYLIGHT
BEGIN:STANDARD
TZOFFSETFROM:-0400
TZOFFSETTO:-0500
TZNAME:EST
DTSTART:20251102T060000
END:STANDARD
BEGIN:DAYLIGHT
TZOFFSETFROM:-0500
TZOFFSETTO:-0400
TZNAME:EDT
DTSTART:20260308T070000
END:DAYLIGHT
BEGIN:STANDARD
TZOFFSETFROM:-0400
TZOFFSETTO:-0500
TZNAME:EST
DTSTART:20261101T060000
END:STANDARD
BEGIN:DAYLIGHT
TZOFFSETFROM:-0500
TZOFFSETTO:-0400
TZNAME:EDT
DTSTART:20270314T070000
END:DAYLIGHT
BEGIN:STANDARD
TZOFFSETFROM:-0400
TZOFFSETTO:-0500
TZNAME:EST
DTSTART:20271107T060000
END:STANDARD
END:VTIMEZONE
BEGIN:VEVENT
DTSTART;TZID=America/New_York:20260425T150000
DTEND;TZID=America/New_York:20260425T170000
DTSTAMP:20260424T131609
CREATED:20260223T170935Z
LAST-MODIFIED:20260223T170946Z
UID:10026577-1777129200-1777136400@mychq.org
SUMMARY:Coffee\, Clubbing\, and Queeroke
DESCRIPTION:QUEERAOKE \nLesbian Visibility Week is April 20–26  \nCome sing and dance with Sacred Grounds Coffeehouse in Lily Dale\, NY at “Queeraoke” on Saturday\, April 25th to celebrate lesbian and queer women’s visibility\, culture\, and community! \nFrom 3pm to 5pm  Come early\, go to bed early! \nLearn more at: LesbianVisibility.org
URL:https://mychq.org/event/coffee-clubbing-and-queeroke/
LOCATION:Sacred Grounds Coffee House\, 6 Cleveland Ave.\, Lily Dale\, NY\, 14752\, United States
CATEGORIES:LGBTQ+
ATTACH;FMTTYPE=image/jpeg:https://mychq.org/wp-content/uploads/2026/02/640906785_1630606561228971_3747832545307917961_n.jpg
ORGANIZER;CN="Sacred Grounds Coffee House":MAILTO:sacredgroundsld@gmail.com
END:VEVENT
BEGIN:VEVENT
DTSTART;TZID=America/New_York:20260425T210000
DTEND;TZID=America/New_York:20260425T230000
DTSTAMP:20260424T131609
CREATED:20260320T011429Z
LAST-MODIFIED:20260325T181255Z
UID:10027546-1777150800-1777158000@mychq.org
SUMMARY:Menage-A-Caw Drag Show @ Raven & Thorn
DESCRIPTION:Join us for a drag night with your local host Juliette Stark!
URL:https://mychq.org/event/menage-a-caw-drag-show-raven-thorn/2026-04-25/
LOCATION:Raven & Thorn\, 26 Water St\, Fredonia\, 14063\, United States
CATEGORIES:LGBTQ+
ATTACH;FMTTYPE=image/jpeg:https://mychq.org/wp-content/uploads/2026/03/649972021_122166522782825340_7352442593711875005_n.jpg
ORGANIZER;CN="Raven & Thorn":MAILTO:contact@ravenandthorn.com
END:VEVENT
BEGIN:VEVENT
DTSTART;TZID=America/New_York:20260605T190000
DTEND;TZID=America/New_York:20260605T230000
DTSTAMP:20260424T131609
CREATED:20260309T161437Z
LAST-MODIFIED:20260309T161437Z
UID:10027045-1780686000-1780700400@mychq.org
SUMMARY:Miss Pearl City Gay Pride Pageant
DESCRIPTION:LIPS Poppin Productions IS THRILLED TO ANNOUNCE THE MISS PEARL CITY GAY PRIDE PAGEANT 26-27 ON FRIDAY JUNE 5TH 2026 IN JAMESTOWN NY!!! MYSELF AND Marcos Antonio Figueroa ARE THE OWNERS OF THIS EXCITING NEW PAGEANT. WE WANT TO BRING YOU A PAGEANT THAT WILL BE FULL OF LOVE\, RESPECT\, PROFESSIONALISM\, PRIDE\, AND MOST OF ALL FUN!!!!! WE ARE EXCITED\, EMOTIONAL AND EAGER TO PRESENT TO YOU THE VERY 1ST MISS PEARL CITY GAY PRIDE PAGEANT !!!! ALL INFORMATION IS ON THE FLYER AND FOR CONTESTANT PACKET INFORMATION PLEASE CONTACT MYSELF OR MARCOS ANTONIO FIGUEROA ON FACEBOOK MESSENGER. THIS IS AN OPEN PAGEANT FOR ALL STATES. WHO IS READY TO SHOW THEIR PRIDE AND BE THE 1ST EVER MISS PEARL CITY GAY PRIDE!!!!!! “YOU HAVE TO BE IN IT TO WIN IT”
URL:https://mychq.org/event/miss-pearl-city-gay-pride-pageant/
LOCATION:Knights of the Enchanted Dreams\, 104 W 2nd St\, Jamestown\, 14701\, United States
CATEGORIES:LGBTQ+
ATTACH;FMTTYPE=image/jpeg:https://mychq.org/wp-content/uploads/2026/03/646352242_1433647925067401_6950110959722148569_n.jpg
ORGANIZER;CN="LIPS Poppin Productions":MAILTO:antonio_112@yahoo.com
END:VEVENT
BEGIN:VEVENT
DTSTART;TZID=America/New_York:20260610T190000
DTEND;TZID=America/New_York:20260610T204900
DTSTAMP:20260424T131609
CREATED:20260413T164704Z
LAST-MODIFIED:20260413T164704Z
UID:10028040-1781118000-1781124540@mychq.org
SUMMARY:Pride at The Reg - To Wong Foo\, Thanks for Everything!
DESCRIPTION:Rated PG-13. 109 minutes.https://reglenna.com/events/movies-the-reg-to-wong-f00 \nPresented with Jamestown Pride! \nPatrick Swayze\, John Leguizamo and Wesley Snipes star in this hilarious adventure about three transvestites on the cross-country road trip of a lifetime. On their way to Hollywood for a drag queen beauty pageant\, Vida (Swayze)\, Chi Chi (Leguizamo) and Noxeema (Snipes) get stranded in the tiny Midwestern town of Snydersville. Determined to make the best of a bad situation\, the “girls” set out to repair the broken hearts\, broken dreams and broken nails of the small-town residents during one wildly outrageous weekend.
URL:https://mychq.org/event/pride-at-the-reg-to-wong-foo-thanks-for-everything/
LOCATION:Reg Lenna Center For The Arts\, 116 E 3rd St.\, Jamestown\, NY\, 14701\, United States
CATEGORIES:LGBTQ+
ATTACH;FMTTYPE=image/jpeg:https://mychq.org/wp-content/uploads/2026/04/669317161_1532568598540971_7413909604902936017_n.jpg
ORGANIZER;CN="Reg Lenna Center For The Arts":MAILTO:info@reglenna.com
END:VEVENT
BEGIN:VEVENT
DTSTART;TZID=America/New_York:20260614T130000
DTEND;TZID=America/New_York:20260614T200000
DTSTAMP:20260424T131609
CREATED:20260112T170611Z
LAST-MODIFIED:20260112T170611Z
UID:10024191-1781442000-1781467200@mychq.org
SUMMARY:An Afternoon of Pride in Historic Lily Dale!
DESCRIPTION:An Afternoon of Pride in Historic Lily Dale\, New YorkJune 14 • 1:00 PM – 8:00 PMSponsored by Sacred Grounds Coffee House \nCelebrate love\, history\, and community in one of the most unique spiritualist centers in the world. An Afternoon of Pride invites you to gather in the heart of historic Lily Dale for a full day dedicated to honoring LGBTQ+ stories\, voices\, and creative expression. \nThis vibrant community event brings together education\, conversation\, celebration\, and music in a welcoming lakeside setting known for its long tradition of spiritual openness. \n What to ExpectHistorical LGBTQ+ TalksExplore the rich and often overlooked history of LGBTQ+ individuals\, movements\, and cultural contributions\, including their intersections with spiritualism\, activism\, and community resilience. \nPanel DiscussionsJoin speakers\, advocates\, and community members for thoughtful conversations about identity\, inclusion\, and the ongoing journey toward equality. \nCommunity ResourcesConnect with local organizations offering support\, information\, and opportunities to get involved. \nFun & FestivitiesEnjoy a warm\, inclusive atmosphere with activities\, conversation\, and the charm of Lily Dale’s historic grounds. \nLive Music by Silent LegacyClose out the evening with an electrifying performance by Silent Legacy\, a Melissa Etheridge cover band delivering heartfelt vocals\, soulful guitar\, and the unmistakable energy of Etheridge’s iconic sound. \nMini Readings Available 7pm to 8pm \n Hosted with Heart by Sacred Grounds Coffee HouseEnjoy specialty drinks\, treats\, and the cozy hospitality of Sacred Grounds—your local hub for creativity\, connection\, and community spirit. \nInterested in helping Sponsor the Event? Please reach out to Stacy or Michele at sacredgroundld@gmail.com \nWant a resource table please reach out!
URL:https://mychq.org/event/an-afternoon-of-pride-in-historic-lily-dale/
LOCATION:Lily Dale Assembly\, Inc.\, 5 Melrose Park\, Lily Dale\, 14752\, United States
CATEGORIES:LGBTQ+
ATTACH;FMTTYPE=image/jpeg:https://mychq.org/wp-content/uploads/2026/01/613934076_1595389431417351_6349187480227929392_n.jpg
ORGANIZER;CN="Sacred Grounds Coffee House":MAILTO:sacredgroundsld@gmail.com
END:VEVENT
END:VCALENDAR