BEGIN:VCALENDAR
VERSION:2.0
PRODID:-//My CHQ - ECPv6.15.20//NONSGML v1.0//EN
CALSCALE:GREGORIAN
METHOD:PUBLISH
X-ORIGINAL-URL:https://mychq.org
X-WR-CALDESC:Events for My CHQ
REFRESH-INTERVAL;VALUE=DURATION:PT1H
X-Robots-Tag:noindex
X-PUBLISHED-TTL:PT1H
BEGIN:VTIMEZONE
TZID:America/New_York
BEGIN:DAYLIGHT
TZOFFSETFROM:-0500
TZOFFSETTO:-0400
TZNAME:EDT
DTSTART:20250309T070000
END:DAYLIGHT
BEGIN:STANDARD
TZOFFSETFROM:-0400
TZOFFSETTO:-0500
TZNAME:EST
DTSTART:20251102T060000
END:STANDARD
BEGIN:DAYLIGHT
TZOFFSETFROM:-0500
TZOFFSETTO:-0400
TZNAME:EDT
DTSTART:20260308T070000
END:DAYLIGHT
BEGIN:STANDARD
TZOFFSETFROM:-0400
TZOFFSETTO:-0500
TZNAME:EST
DTSTART:20261101T060000
END:STANDARD
BEGIN:DAYLIGHT
TZOFFSETFROM:-0500
TZOFFSETTO:-0400
TZNAME:EDT
DTSTART:20270314T070000
END:DAYLIGHT
BEGIN:STANDARD
TZOFFSETFROM:-0400
TZOFFSETTO:-0500
TZNAME:EST
DTSTART:20271107T060000
END:STANDARD
END:VTIMEZONE
BEGIN:VEVENT
DTSTART;TZID=America/New_York:20260502T110000
DTEND;TZID=America/New_York:20260502T210000
DTSTAMP:20260422T221518
CREATED:20260417T140015Z
LAST-MODIFIED:20260417T140015Z
UID:10028229-1777719600-1777755600@mychq.org
SUMMARY:Don't Call it a Comeback
DESCRIPTION:Join us at The Empty Pint for a throwback bash celebrating the limited return of some legendary STBC brews! We’re pouring classics like Lake Shore Fog\, 2XStout\, Gemini\, Chautauqua Lager\, PMX\, Raspberry Wheat—and possibly even more fan favorites (stay tuned)! \nWe’ll have live music all day with Dark Water Duo from 1pm to 4pm followed by Honky Tonk Heroes from 6pm to 9pm. Plus we will have special food features to keep your taste buds just as hyped as your pint glass. \nRound up your family\, grab your friends\, and get ready for an epic day of beer\, food\, and great vibes. You won’t want to miss this comeback tour!
URL:https://mychq.org/event/dont-call-it-a-comeback/
LOCATION:Southern Tier Brewing Company – The Empty Pint\, 2072 Stoneman Cir.\, Lakewood\, NY\, 14750\, United States
CATEGORIES:Food & Drink
ATTACH;FMTTYPE=image/jpeg:https://mychq.org/wp-content/uploads/2026/04/671487888_1417721693700912_3674842816723815017_n.jpg
END:VEVENT
BEGIN:VEVENT
DTSTART;TZID=America/New_York:20260502T120000
DTEND;TZID=America/New_York:20260502T200000
DTSTAMP:20260422T221518
CREATED:20260415T180943Z
LAST-MODIFIED:20260415T180943Z
UID:10028167-1777723200-1777752000@mychq.org
SUMMARY:Cinco De Mayo & Margarita Madness @ Bemus Point Golf Club & Tap House
DESCRIPTION: Get ready to fiesta like there’s no mañana!  Join us for a Cinco De Mayo Weekend Celebration at the Bemus Point Golf Club & Tap House during Bemus Is Blooming Weekend in Bemus Point\, Chautauqua County!  \n Date: May 2nd – May 5th Time: Starting at 12:00 PM\, Saturday Location: Bemus Point Golf Club & Tap House \nIndulge in the ultimate fiesta experience with mouthwatering tacos  and refreshing margaritas served all weekend long! Soak up the sun on our outdoor patio and let the magic of a handcrafted margarita brighten your day!
URL:https://mychq.org/event/cinco-de-mayo-margarita-madness-bemus-point-golf-club-tap-house/2026-05-02/
LOCATION:Bemus Point Golf Club & Tap House\, 72 Main St.\, Bemus Point\, NY\, 14712\, United States
CATEGORIES:Food & Drink
ATTACH;FMTTYPE=image/jpeg:https://mychq.org/wp-content/uploads/2026/04/670192416_1803171637795542_560043426969886644_n.jpg
ORGANIZER;CN="Bemus Point Golf Club & Tap House":MAILTO:bpgctaphouse@gmail.com
END:VEVENT
BEGIN:VEVENT
DTSTART;TZID=America/New_York:20260502T170000
DTEND;TZID=America/New_York:20260502T210000
DTSTAMP:20260422T221518
CREATED:20260415T181108Z
LAST-MODIFIED:20260415T181108Z
UID:10028172-1777741200-1777755600@mychq.org
SUMMARY:Derby Day Celebration at Bemus Point Golf Club & Tap House
DESCRIPTION:It’s time to have fun and enjoy the excitement of The Kentucky Derby right here in Bemus Point! Dress in your Sunday Best and fancy up a Derby Hat to participate in the fun!!! \nEnjoy all of Bemus for “Bemus in Bloom” Event! \nWHERE: Bemus Point Golf Club & Tap HouseWHEN: May 2 | 5PM – 9PM \nWe’ll be serving up a Derby favorite – Mint Juleps\, celebrating Spring\, and even Cinco De Mayo!
URL:https://mychq.org/event/derby-day-celebration-at-bemus-point-golf-club-tap-house/
LOCATION:Bemus Point Golf Club & Tap House\, 72 Main St.\, Bemus Point\, NY\, 14712\, United States
CATEGORIES:Food & Drink
ATTACH;FMTTYPE=image/jpeg:https://mychq.org/wp-content/uploads/2026/04/671900090_1803186804460692_3471116868358774684_n.jpg
ORGANIZER;CN="Bemus Point Golf Club & Tap House":MAILTO:bpgctaphouse@gmail.com
END:VEVENT
END:VCALENDAR