BEGIN:VCALENDAR
VERSION:2.0
PRODID:-//Chautauqua County Events, Local Businesses &amp; Resources | My CHQ - ECPv6.15.20//NONSGML v1.0//EN
CALSCALE:GREGORIAN
METHOD:PUBLISH
X-WR-CALNAME:Chautauqua County Events, Local Businesses &amp; Resources | My CHQ
X-ORIGINAL-URL:https://mychq.org
X-WR-CALDESC:Events for Chautauqua County Events, Local Businesses &amp; Resources | My CHQ
REFRESH-INTERVAL;VALUE=DURATION:PT1H
X-Robots-Tag:noindex
X-PUBLISHED-TTL:PT1H
BEGIN:VTIMEZONE
TZID:America/New_York
BEGIN:DAYLIGHT
TZOFFSETFROM:-0500
TZOFFSETTO:-0400
TZNAME:EDT
DTSTART:20250309T070000
END:DAYLIGHT
BEGIN:STANDARD
TZOFFSETFROM:-0400
TZOFFSETTO:-0500
TZNAME:EST
DTSTART:20251102T060000
END:STANDARD
BEGIN:DAYLIGHT
TZOFFSETFROM:-0500
TZOFFSETTO:-0400
TZNAME:EDT
DTSTART:20260308T070000
END:DAYLIGHT
BEGIN:STANDARD
TZOFFSETFROM:-0400
TZOFFSETTO:-0500
TZNAME:EST
DTSTART:20261101T060000
END:STANDARD
BEGIN:DAYLIGHT
TZOFFSETFROM:-0500
TZOFFSETTO:-0400
TZNAME:EDT
DTSTART:20270314T070000
END:DAYLIGHT
BEGIN:STANDARD
TZOFFSETFROM:-0400
TZOFFSETTO:-0500
TZNAME:EST
DTSTART:20271107T060000
END:STANDARD
END:VTIMEZONE
BEGIN:VEVENT
DTSTART;TZID=America/New_York:20260501T110000
DTEND;TZID=America/New_York:20260501T180000
DTSTAMP:20260424T092429
CREATED:20260414T145034Z
LAST-MODIFIED:20260414T145034Z
UID:10028101-1777633200-1777658400@mychq.org
SUMMARY:Foodie Event: Taco Bar!
DESCRIPTION:Our most customizable Foodie Event yet\, Taco Bar!!  You’re only one bite away from your perfect meal. This Bar will hit every single craving because it’s not just A taco\, its YOUR taco! From cheesy to saucy to spicy\, join us for the perfect Cinco De Mayo celebration with family and friends!  \nOur menu with all of the available selections will be made available soon! \nSit down\, have a drink\, and let the beautiful scenery take your breath away! Taco’s aren’t the only good thing about this bar! It’s spring\, which means our patio furniture is out\, and the sun is shining! 
URL:https://mychq.org/event/foodie-event-taco-bar/2026-05-01/
LOCATION:Merritt Winery\, 2264 King Road\, Forestville\, 14062\, United States
CATEGORIES:Food & Drink
ATTACH;FMTTYPE=image/jpeg:https://mychq.org/wp-content/uploads/2026/04/Taco-Bar-26_facebook-banner.jpg
ORGANIZER;CN="Merritt Winery":MAILTO:marketing@merrittestatewinery.com
END:VEVENT
END:VCALENDAR