BEGIN:VCALENDAR
VERSION:2.0
PRODID:-//Chautauqua County Events, Local Businesses &amp; Resources | My CHQ - ECPv6.15.20//NONSGML v1.0//EN
CALSCALE:GREGORIAN
METHOD:PUBLISH
X-WR-CALNAME:Chautauqua County Events, Local Businesses &amp; Resources | My CHQ
X-ORIGINAL-URL:https://mychq.org
X-WR-CALDESC:Events for Chautauqua County Events, Local Businesses &amp; Resources | My CHQ
REFRESH-INTERVAL;VALUE=DURATION:PT1H
X-Robots-Tag:noindex
X-PUBLISHED-TTL:PT1H
BEGIN:VTIMEZONE
TZID:America/New_York
BEGIN:DAYLIGHT
TZOFFSETFROM:-0500
TZOFFSETTO:-0400
TZNAME:EDT
DTSTART:20250309T070000
END:DAYLIGHT
BEGIN:STANDARD
TZOFFSETFROM:-0400
TZOFFSETTO:-0500
TZNAME:EST
DTSTART:20251102T060000
END:STANDARD
BEGIN:DAYLIGHT
TZOFFSETFROM:-0500
TZOFFSETTO:-0400
TZNAME:EDT
DTSTART:20260308T070000
END:DAYLIGHT
BEGIN:STANDARD
TZOFFSETFROM:-0400
TZOFFSETTO:-0500
TZNAME:EST
DTSTART:20261101T060000
END:STANDARD
BEGIN:DAYLIGHT
TZOFFSETFROM:-0500
TZOFFSETTO:-0400
TZNAME:EDT
DTSTART:20270314T070000
END:DAYLIGHT
BEGIN:STANDARD
TZOFFSETFROM:-0400
TZOFFSETTO:-0500
TZNAME:EST
DTSTART:20271107T060000
END:STANDARD
END:VTIMEZONE
BEGIN:VEVENT
DTSTART;TZID=America/New_York:20260425T090000
DTEND;TZID=America/New_York:20260425T110000
DTSTAMP:20260425T064814
CREATED:20260302T180757Z
LAST-MODIFIED:20260302T180757Z
UID:10026874-1777107600-1777114800@mychq.org
SUMMARY:Breakfast with the Birds
DESCRIPTION:Breakfast with the Birds (All)\nSaturday\, April 25\, 2026\n9:00 – 11:00 a.m. \n$14 Adults; $10 Nature Center members\n$10 Children 3 – 15; free 2 and under \nPaid reservations required by April 20\, 2026. \nKick off Audubon’s Birdathon fundraiser with a fun morning of birding and breakfast. Join Audubon staff and volunteers as they make a delicious pancake breakfast to go with a morning at the birdfeeders and birding walk. \nEach year\, teams of birders count birds and raise money to fund the Ryan Exline Memorial Scholarship and to provide ongoing care and habitat improvements for Audubon’s Animal Ambassadors. Running April 25 – May 3\, 2026\, birders of all skills and abilities can find a birding buddy and sign up as a team where people can pledge online to support your birding efforts. \nAt this kick off breakfast\, there will be a short bird program and some tips and tricks for those hard to identify birds. Come anytime from 9:00 a.m. until 10:00 a.m. for breakfast and birding at the feeders. The program will start at 10:00 a.m. with a short walk to follow\, if weather permits. Bring your own binoculars. There will also be some available to borrow. \nFor more information about participating in the Birdathon as a birder or a donor\, click here.  (https://go.rallyup.com/2026acncbirdathon) \nBring a little bit of extra cash with you to participate in a basket raffle to win a birding basket full of bird books and supplies for adults and children alike. \nSpecial Information: Food may contain allergens such as wheat\, eggs\, and products that have been packaged in facilities that process tree nuts. Food substitutions will not be possible. \nEnjoy pancakes\, birding\, bird trivia\, and more at Breakfast with the Birds\, the official kick-off for Audubon’s Birdathon\, on Saturday\, April 25 at Audubon Community Nature Center from 9:00 – 11:00 a.m.
URL:https://mychq.org/event/breakfast-with-the-birds/
LOCATION:Audubon Community Nature Center\, 1600 Riverside Road\, Jamestown\, NY\, 14701\, United States
CATEGORIES:Food & Drink
ATTACH;FMTTYPE=image/jpeg:https://mychq.org/wp-content/uploads/2026/03/54349443372_7192ab288a.jpg
ORGANIZER;CN="Audubon Community Nature Center":MAILTO:info@auduboncnc.org
END:VEVENT
BEGIN:VEVENT
DTSTART;TZID=America/New_York:20260425T190000
DTEND;TZID=America/New_York:20260425T210000
DTSTAMP:20260425T064814
CREATED:20260303T215650Z
LAST-MODIFIED:20260303T215650Z
UID:10026916-1777143600-1777150800@mychq.org
SUMMARY:East Dunkirk Annual Meat Raffle
DESCRIPTION:We will have lots of chances and tickets to win meat! Bring your dollar bills to play! Free refreshments offered! 50/50 drawing too! \nSee one of our members for the chance at 1/4 Cow for our door prize at the meat raffle on Saturday\, April 25th at 7 pm!
URL:https://mychq.org/event/east-dunkirk-annual-meat-raffle/
LOCATION:East Dunkirk Fire Dept\, 10949 S Roberts Rd\, Dunkirk\, 14048\, United States
CATEGORIES:Food & Drink
ATTACH;FMTTYPE=image/jpeg:https://mychq.org/wp-content/uploads/2026/03/639969904_939785048609439_6879664136929807285_n.jpg
ORGANIZER;CN="East Dunkirk Fire Dept":MAILTO:edfd111@gmail.com
END:VEVENT
END:VCALENDAR