BEGIN:VCALENDAR
VERSION:2.0
PRODID:-//Chautauqua County Events, Local Businesses &amp; Resources | My CHQ - ECPv6.15.20//NONSGML v1.0//EN
CALSCALE:GREGORIAN
METHOD:PUBLISH
X-ORIGINAL-URL:https://mychq.org
X-WR-CALDESC:Events for Chautauqua County Events, Local Businesses &amp; Resources | My CHQ
REFRESH-INTERVAL;VALUE=DURATION:PT1H
X-Robots-Tag:noindex
X-PUBLISHED-TTL:PT1H
BEGIN:VTIMEZONE
TZID:America/New_York
BEGIN:DAYLIGHT
TZOFFSETFROM:-0500
TZOFFSETTO:-0400
TZNAME:EDT
DTSTART:20250309T070000
END:DAYLIGHT
BEGIN:STANDARD
TZOFFSETFROM:-0400
TZOFFSETTO:-0500
TZNAME:EST
DTSTART:20251102T060000
END:STANDARD
BEGIN:DAYLIGHT
TZOFFSETFROM:-0500
TZOFFSETTO:-0400
TZNAME:EDT
DTSTART:20260308T070000
END:DAYLIGHT
BEGIN:STANDARD
TZOFFSETFROM:-0400
TZOFFSETTO:-0500
TZNAME:EST
DTSTART:20261101T060000
END:STANDARD
BEGIN:DAYLIGHT
TZOFFSETFROM:-0500
TZOFFSETTO:-0400
TZNAME:EDT
DTSTART:20270314T070000
END:DAYLIGHT
BEGIN:STANDARD
TZOFFSETFROM:-0400
TZOFFSETTO:-0500
TZNAME:EST
DTSTART:20271107T060000
END:STANDARD
END:VTIMEZONE
BEGIN:VEVENT
DTSTART;TZID=America/New_York:20260509T190000
DTEND;TZID=America/New_York:20260509T220000
DTSTAMP:20260425T213611
CREATED:20260206T205844Z
LAST-MODIFIED:20260206T205900Z
UID:10024825-1778353200-1778364000@mychq.org
SUMMARY:Dueling Pianos Comedy Show
DESCRIPTION:**DUELING PIANO SHOW** *One Stage. Two Pianos. Infinite Chaos.*  \n**Saturday\, May 9th\, 2026****Adults Only (21+)** \nBuckle up for a no-holds-barred night of music\, comedy\, and total crowd-fueled insanity. For over 20 years\, this high-octane duo has been delivering request-driven performances where the audience *runs the playlist*. From sing-alongs to table-thumping madness — it’s part concert\, part comedy show\, all wild fun. \n**Doors Open:** 7:00 PM \n**Snack Menu Available** \n **Tickets:**$10 in advance • $15 at the door**Reserve a table** for 8 and lock in prime seating. \nOnce you purchase your ticket\, your name will be added to the list at the door — no physical ticket required. \n Grab your tickets here:https://wickedwarrens.com/ols/products/dueling-piano-ticket \nThis show is loud\, loose\, and *not for the easily offended*.**Leave the kids and the rules at home.**
URL:https://mychq.org/event/dueling-pianos-comedy-show-3/
LOCATION:Wicked Warrens Jamestown\, Washington St.\, Jamestown\, 14701\, United States
CATEGORIES:Comedy
ATTACH;FMTTYPE=image/jpeg:https://mychq.org/wp-content/uploads/2026/02/626223851_122181676562424994_3433784678264570711_n.jpg
ORGANIZER;CN="Wicked Warrens Jamestown":MAILTO:info@wickedwarrens.com
END:VEVENT
BEGIN:VEVENT
DTSTART;TZID=America/New_York:20260515T190000
DTEND;TZID=America/New_York:20260515T210000
DTSTAMP:20260425T213611
CREATED:20260326T201740Z
LAST-MODIFIED:20260326T201740Z
UID:10027588-1778871600-1778878800@mychq.org
SUMMARY:Jeff Allen: My First Final Farewell Tour
DESCRIPTION:Jeff Allen may (or may not) want to admit it\, but he’s getting old. At 69\, Jeff is staring down his 70th year and decided it might be time to think about slowing down. The result? My First Final Farewell Tour. Yes\, you read that right—“First” and “Final” in the same sentence—because Jeff’s not totally sure he’s done. (After all\, Cher had 20 farewell tours\, and Elton John is still out there.) \nWhat he is sure of: he’s bringing a mix of fan favorites and fresh new material to the stage. From the classic Happy Wife Happy Life routine you’ve been quoting for years\, to fresh takes on marriage\, family\, and everyday life\, Jeff is pulling it all together for a night that’s hilarious\, unforgettable\, and uplifting. \nJeff Allen is one of America’s most beloved comedians\, with nearly 1 billion online views and a record-setting seven Dry Bar Comedy specials. He’s been featured on America’s Got Talent\, The Today Show\, Comedy Central\, Showtime\, and starred in the films Apostles of Comedy and My 7 Grandmas. Millions have seen him across Facebook\, Instagram\, TikTok\, and YouTube—but nothing compares to seeing Jeff live. \nDoors open at 6 p.m. \nPresented by The Better Place
URL:https://mychq.org/event/jeff-allen-my-first-final-farewell-tour/
LOCATION:Reg Lenna Center For The Arts\, 116 E 3rd St.\, Jamestown\, NY\, 14701\, United States
CATEGORIES:Comedy
ATTACH;FMTTYPE=image/png:https://mychq.org/wp-content/uploads/2026/03/Jeff-Allen-Reg-Lenna-Center-for-the-Arts.png
ORGANIZER;CN="Reg Lenna Center For The Arts":MAILTO:info@reglenna.com
END:VEVENT
BEGIN:VEVENT
DTSTART;TZID=America/New_York:20260806T190000
DTEND;TZID=America/New_York:20260806T220000
DTSTAMP:20260425T213611
CREATED:20260406T160408Z
LAST-MODIFIED:20260406T160408Z
UID:10027723-1786042800-1786053600@mychq.org
SUMMARY:Jerry Seinfeld @ Lucille Ball Comedy Festival
DESCRIPTION:The National Comedy Center presents Jerry Seinfeld during the annual Lucille Ball Comedy Festival in Jamestown\, NY. \nVisit ComedyCenter.org for more info! \nJerry Seinfeld’s comedy career took off after his first appearance on The Tonight Show with Johnny Carson in 1981. Eight years later\, he teamed up with fellow comedian Larry David to create what was to become the most successful comedy series in the history of television: Seinfeld. The show ran on NBC for nine seasons\, winning numerous Emmys\, Golden Globes\, and People’s Choice awards\, was named the greatest television show of all time in 2009 by TV Guide\, and in 2012 was identified as the best sitcom ever in a 60 Minutes/Vanity Fair poll. \nHis latest Emmy-nominated Netflix projects include Jerry Before Seinfeld and 23 Hours to Kill\, along with the highly acclaimed web series\, Comedians in Cars Getting Coffee. Seinfeld has also starred in\, written\, and produced movies (Comedian\, Bee Movie)\, directed and produced a Broadway hit (Colin Quinn: Long Story Short)\, and wrote three best-selling books (Is this Anything?\, The Comedians in Cars Getting Coffee Book\, and Seinlanguage) and a children’s book (Halloween). He stars in the Emmy-nominated comedy film\, Unfrosted\, which he directed\, co-wrote\, and produced. Seinfeld continues to perform both nationally and internationally.
URL:https://mychq.org/event/jerry-seinfeld-lucille-ball-comedy-festival/
LOCATION:Northwest Arena\, 319 W 3rd St.\, Jamestown\, NY\, 14701\, United States
CATEGORIES:Comedy
ATTACH;FMTTYPE=image/jpeg:https://mychq.org/wp-content/uploads/2026/04/660305636_1386867013477138_4876755393210337972_n.jpg
ORGANIZER;CN="National Comedy Center":MAILTO:info@comedycenter.org
END:VEVENT
BEGIN:VEVENT
DTSTART;TZID=America/New_York:20260808T190000
DTEND;TZID=America/New_York:20260808T220000
DTSTAMP:20260425T213611
CREATED:20260406T160446Z
LAST-MODIFIED:20260406T160446Z
UID:10027724-1786215600-1786226400@mychq.org
SUMMARY:Bert Kreischer @ Lucille Ball Comedy Festival
DESCRIPTION:The National Comedy Center presents Bert Kreischer during the annual Lucille Ball Comedy Festival in Jamestown\, NY. \nVisit ComedyCenter.org for more info! \nBert Kreischer’s career has evolved from Rolling Stone’s infamous “Number One Partier in the Nation” to one of the top-grossing stand-up comedians in the world—and a powerhouse entrepreneur\, actor\, producer\, content creator\, and entertainment brand. Named by Forbes as “one of the best storytellers of his generation\,” Kreischer has parlayed his signature comedyand authenticity into a dynamic media empire. \nHis sixth Netflix special\, Lucky\, filmed in his hometown of Tampa\, FL\, sold out all six shows within 24 hours of the on-sale and premiered in Netflix’s Top 10 Most Watched TV Shows inMarch 2025. \nThrough Berty Boy Productions\, Kreischer oversees hit podcasts and series including Bertcast\, Something’s Burning\, and 2 Bears\, 1 Cave (with Tom Segura)\, commanding over 16 million fans and 4 billion impressions. He also founded the Fully Loaded Comedy Festival\, a touring juggernaut that’s expanded to stadiums\, arenas\, and sold-out cruises. \nIn 2024\, Kreischer and Segura launched Por Osos Vodka\, an award-winning\, rapidly expanding spirits brand. Kreischer also starred in and produced Sony Pictures’ The Machine—a feature film adaptation of his legendary stand-up story—which broke into Netflix’s Global Top 10 Films upon release in 2023. His Netflix scripted comedy series Free Bert debuted in January 2026\, andquickly broke into Netflix’s U.S. and global Top 10. The show drew millions of viewers in its first weeks\, ranking among the platform’s most-watched series worldwide. \nToday\, Bert is on his Permission To Party World Tour and continues to blend comedy\, business\, and culture into one of the most recognizable personal brands in entertainment today.
URL:https://mychq.org/event/bert-kreischer-lucille-ball-comedy-festival/
LOCATION:Northwest Arena\, 319 W 3rd St.\, Jamestown\, NY\, 14701\, United States
CATEGORIES:Comedy
ATTACH;FMTTYPE=image/jpeg:https://mychq.org/wp-content/uploads/2026/04/660514954_1386849473478892_1059168255098670827_n.jpg
ORGANIZER;CN="National Comedy Center":MAILTO:info@comedycenter.org
END:VEVENT
BEGIN:VEVENT
DTSTART;TZID=America/New_York:20260809T170000
DTEND;TZID=America/New_York:20260809T200000
DTSTAMP:20260425T213611
CREATED:20260406T160527Z
LAST-MODIFIED:20260406T160527Z
UID:10027725-1786294800-1786305600@mychq.org
SUMMARY:Seth Meyers @ Lucille Ball Comedy Festival
DESCRIPTION:The National Comedy Center presents Seth Meyers during the annual Lucille Ball Comedy Festival in Jamestown\, NY. \nVisit ComedyCenter.org for more info! \nSeth Meyers is an Emmy Award-winning writer\, New York Times bestselling author and host of NBC’s Late Night with Seth Meyers since 2014. Meyers began his TV career with Saturday Night Live in 2001 where he was a cast member for thirteen seasons. He served as head writer for nine seasons and “Weekend Update” anchor for eight. He has released two critically acclaimed stand-up specials to date\, Lobby Baby (Netflix) and Seth Meyers: Dad Man Walking (HBO Max.) In all\, Meyers has garnered 33 Emmy nominations for his work in television. \nIn addition to his onscreen success\, Meyers is a New York Times bestselling author\, having published his first picture book\, I’m Not Scared\, You’re Scared\, in 2022. He currently co-hosts two podcasts\, Family Trips with the Meyers Brothers\, alongside his brother Josh Meyers\, and The Lonely Island and Seth Meyers Podcast\, with Andy Samberg\, Akiva Schaffer and Jorma Taccone.
URL:https://mychq.org/event/seth-meyers-lucille-ball-comedy-festival/
LOCATION:Northwest Arena\, 319 W 3rd St.\, Jamestown\, NY\, 14701\, United States
CATEGORIES:Comedy
ATTACH;FMTTYPE=image/jpeg:https://mychq.org/wp-content/uploads/2026/04/662412175_1386808000149706_1610915688698934378_n.jpg
ORGANIZER;CN="National Comedy Center":MAILTO:info@comedycenter.org
END:VEVENT
END:VCALENDAR