BEGIN:VCALENDAR
VERSION:2.0
PRODID:-//My CHQ - ECPv6.15.20//NONSGML v1.0//EN
CALSCALE:GREGORIAN
METHOD:PUBLISH
X-WR-CALNAME:My CHQ
X-ORIGINAL-URL:https://mychq.org
X-WR-CALDESC:Events for My CHQ
REFRESH-INTERVAL;VALUE=DURATION:PT1H
X-Robots-Tag:noindex
X-PUBLISHED-TTL:PT1H
BEGIN:VTIMEZONE
TZID:America/New_York
BEGIN:DAYLIGHT
TZOFFSETFROM:-0500
TZOFFSETTO:-0400
TZNAME:EDT
DTSTART:20240310T070000
END:DAYLIGHT
BEGIN:STANDARD
TZOFFSETFROM:-0400
TZOFFSETTO:-0500
TZNAME:EST
DTSTART:20241103T060000
END:STANDARD
BEGIN:DAYLIGHT
TZOFFSETFROM:-0500
TZOFFSETTO:-0400
TZNAME:EDT
DTSTART:20250309T070000
END:DAYLIGHT
BEGIN:STANDARD
TZOFFSETFROM:-0400
TZOFFSETTO:-0500
TZNAME:EST
DTSTART:20251102T060000
END:STANDARD
BEGIN:DAYLIGHT
TZOFFSETFROM:-0500
TZOFFSETTO:-0400
TZNAME:EDT
DTSTART:20260308T070000
END:DAYLIGHT
BEGIN:STANDARD
TZOFFSETFROM:-0400
TZOFFSETTO:-0500
TZNAME:EST
DTSTART:20261101T060000
END:STANDARD
END:VTIMEZONE
BEGIN:VEVENT
DTSTART;TZID=America/New_York:20251127T100000
DTEND;TZID=America/New_York:20251127T104500
DTSTAMP:20260423T002338
CREATED:20250908T160012Z
LAST-MODIFIED:20250908T160012Z
UID:10021128-1764237600-1764240300@mychq.org
SUMMARY:Thanksgiving Day Service
DESCRIPTION:Eucharist means Thanksgiving! What better way to celebrate Thanksgiving than by giving thanks to God? Join us for a holiday themed homily and Communion Service on Thanksgiving Day at 10am.
URL:https://mychq.org/event/thanksgiving-day-service/
LOCATION:St. Luke’s Episcopal Church\, 410 N Main St\, Jamestown\, 14701\, United States
CATEGORIES:Church & Religion
ATTACH;FMTTYPE=image/jpeg:https://mychq.org/wp-content/uploads/2025/09/528728657_1193228619506705_505957237847109741_n.jpg
ORGANIZER;CN="St. Luke's Episcopal Church":MAILTO:stlukes@stlukesjamestown.org
END:VEVENT
BEGIN:VEVENT
DTSTART;TZID=America/New_York:20251029T100000
DTEND;TZID=America/New_York:20251029T110000
DTSTAMP:20260423T002338
CREATED:20251024T235821Z
LAST-MODIFIED:20251024T235821Z
UID:10022725-1761732000-1761735600@mychq.org
SUMMARY:Auragraphs and Inspired Art - Willa White & Richard Stuttle
DESCRIPTION:AURAGRAPHS AND INSPIRED ART 10-29-2025 “Wednesdays with Willa” podcast show with Willa’s special guest Richard Stuttle\, spirit artist medium and author. Richard shares about his process. \nhttps://www.richardstuttle.com/ \nJoin Willa on Wednesday mornings at 10:00 a.m. Eastern Time for her spiritual discussions with GREAT GUESTS and TOPICS regarding Spiritualism\, Mediumship\, Healing\, Faith\, Family\, and more! You can also watch the archived Videos of past shows on her facebook page and YouTube Channel. \nWebsite: www.willawhite.comFacebook page: / willawhitemediumYou-Tube channel: / @willawhite \nReverend Willa White is a registered Lily Dale medium (since 2003)\, a spiritual development and mediumship teacher\, and the host of the popular podcast show ‘Wednesdays with Willa’ (now in Year NINE of episodes)
URL:https://mychq.org/event/auragraphs-and-inspired-art-willa-white-richard-stuttle/
LOCATION:Lily Dale Assembly\, Inc.\, 5 Melrose Park\, Lily Dale\, 14752\, United States
CATEGORIES:Church & Religion
ATTACH;FMTTYPE=image/jpeg:https://mychq.org/wp-content/uploads/2025/10/568916895_1263933002430821_8456480084706114100_n.jpg
ORGANIZER;CN="Lily Dale Assembly%2C Inc.":MAILTO:socialmedia@lilydaleassembly.org
END:VEVENT
BEGIN:VEVENT
DTSTART;TZID=America/New_York:20251019T120000
DTEND;TZID=America/New_York:20251019T150000
DTSTAMP:20260423T002338
CREATED:20250929T132319Z
LAST-MODIFIED:20250929T132319Z
UID:10022062-1760875200-1760886000@mychq.org
SUMMARY:Coffee\, Treats & Sweet Messages from Spirit
DESCRIPTION:Join us for free coffee and treats at the Lily Dale FireHall. We will also offer $10.00 ~ 10 minute Mini Readings by Mediums. Buy your tickets for the readings at the Firehall upon arrival. Doors open at noon.
URL:https://mychq.org/event/coffee-treats-sweet-messages-from-spirit/
LOCATION:Church of the Living Spirit\, 1 Liberty St\, Lily Dale\, 14752\, United States
CATEGORIES:Church & Religion
ATTACH;FMTTYPE=image/jpeg:https://mychq.org/wp-content/uploads/2025/09/540445826_1181030447382898_1147607286906512511_n.jpg
ORGANIZER;CN="Lily Dale Assembly%2C Inc.":MAILTO:socialmedia@lilydaleassembly.org
END:VEVENT
BEGIN:VEVENT
DTSTART;TZID=America/New_York:20251012T130000
DTEND;TZID=America/New_York:20251012T150000
DTSTAMP:20260423T002338
CREATED:20250930T152721Z
LAST-MODIFIED:20250930T152721Z
UID:10022229-1760274000-1760281200@mychq.org
SUMMARY:Creating Prayer-Affirmation Beads
DESCRIPTION:Sign up today!
URL:https://mychq.org/event/creating-prayer-affirmation-beads-2/
LOCATION:Sacred Grounds Coffee House\, 6 Cleveland Ave.\, Lily Dale\, NY\, 14752\, United States
CATEGORIES:Church & Religion
ATTACH;FMTTYPE=image/jpeg:https://mychq.org/wp-content/uploads/2025/09/555578586_1511873186435643_5672279256821186460_n.jpg
ORGANIZER;CN="Sacred Grounds Coffee House":MAILTO:sacredgroundsld@gmail.com
END:VEVENT
BEGIN:VEVENT
DTSTART;TZID=America/New_York:20250913T100000
DTEND;TZID=America/New_York:20250913T120000
DTSTAMP:20260423T002338
CREATED:20250908T155601Z
LAST-MODIFIED:20250908T155601Z
UID:10021125-1757757600-1757764800@mychq.org
SUMMARY:Church of the Wild: Panama Rocks
DESCRIPTION:The next Church of the Wild is on Saturday\, September 13 at 10am at Panama Rocks. We’ll meet at 9:30am at St. Luke’s to carpool. Please RSVP to the Church Administrator at 716-483-6405 or nicole.gustafson@stlukesjamestown.org.
URL:https://mychq.org/event/church-of-the-wild-panama-rocks/
LOCATION:Panama Rocks Scenic Park\, 11 Rock Hill Rd\, Panama\, 14767\, United States
CATEGORIES:Church & Religion
ATTACH;FMTTYPE=image/jpeg:https://mychq.org/wp-content/uploads/2025/09/539361661_1211064904389743_3683835950031476272_n.jpg
ORGANIZER;CN="St. Luke's Episcopal Church":MAILTO:stlukes@stlukesjamestown.org
END:VEVENT
BEGIN:VEVENT
DTSTART;TZID=America/New_York:20250908T183000
DTEND;TZID=America/New_York:20250908T200000
DTSTAMP:20260423T002338
CREATED:20250705T205947Z
LAST-MODIFIED:20250705T205947Z
UID:10019269-1757356200-1757361600@mychq.org
SUMMARY:Worship in the Park!
DESCRIPTION:Join Breathe Life WNY at Ryckman Park for Worship in the Park!
URL:https://mychq.org/event/worship-in-the-park/2025-09-08/
LOCATION:Ryckman Park\, Green St\, Brocton\, 14716\, United States
CATEGORIES:Church & Religion
ATTACH;FMTTYPE=image/jpeg:https://mychq.org/wp-content/uploads/2025/07/515614532_732075845854173_7036989144984018470_n.jpg
ORGANIZER;CN="Breathe Life of WNY":MAILTO:contact@breathelifewny.org
END:VEVENT
BEGIN:VEVENT
DTSTART;TZID=America/New_York:20250713T120000
DTEND;TZID=America/New_York:20250713T160000
DTSTAMP:20260423T002338
CREATED:20250630T163242Z
LAST-MODIFIED:20250630T163242Z
UID:10018999-1752408000-1752422400@mychq.org
SUMMARY:Church Picnic @ Busti Church of God
DESCRIPTION:Hello Summer!
URL:https://mychq.org/event/church-picnic-busti-church-of-god/
LOCATION:Busti Church of God\, 996 Forest Ave.\, Busti\, NY\, 14701\, United States
CATEGORIES:Church & Religion
ATTACH;FMTTYPE=image/jpeg:https://mychq.org/wp-content/uploads/2025/06/511201628_1126917069477268_2031415670562897584_n.jpg
ORGANIZER;CN="Busti Church of God":MAILTO:info@busticog.org
END:VEVENT
END:VCALENDAR