BEGIN:VCALENDAR
VERSION:2.0
PRODID:-//My CHQ - ECPv6.15.20//NONSGML v1.0//EN
CALSCALE:GREGORIAN
METHOD:PUBLISH
X-ORIGINAL-URL:https://mychq.org
X-WR-CALDESC:Events for My CHQ
REFRESH-INTERVAL;VALUE=DURATION:PT1H
X-Robots-Tag:noindex
X-PUBLISHED-TTL:PT1H
BEGIN:VTIMEZONE
TZID:America/New_York
BEGIN:DAYLIGHT
TZOFFSETFROM:-0500
TZOFFSETTO:-0400
TZNAME:EDT
DTSTART:20240310T070000
END:DAYLIGHT
BEGIN:STANDARD
TZOFFSETFROM:-0400
TZOFFSETTO:-0500
TZNAME:EST
DTSTART:20241103T060000
END:STANDARD
BEGIN:DAYLIGHT
TZOFFSETFROM:-0500
TZOFFSETTO:-0400
TZNAME:EDT
DTSTART:20250309T070000
END:DAYLIGHT
BEGIN:STANDARD
TZOFFSETFROM:-0400
TZOFFSETTO:-0500
TZNAME:EST
DTSTART:20251102T060000
END:STANDARD
BEGIN:DAYLIGHT
TZOFFSETFROM:-0500
TZOFFSETTO:-0400
TZNAME:EDT
DTSTART:20260308T070000
END:DAYLIGHT
BEGIN:STANDARD
TZOFFSETFROM:-0400
TZOFFSETTO:-0500
TZNAME:EST
DTSTART:20261101T060000
END:STANDARD
END:VTIMEZONE
BEGIN:VEVENT
DTSTART;TZID=America/New_York:20250815T090000
DTEND;TZID=America/New_York:20250815T160000
DTSTAMP:20260421T123941
CREATED:20250509T005345Z
LAST-MODIFIED:20250509T005345Z
UID:10016947-1755248400-1755273600@mychq.org
SUMMARY:UWCHQ Day of Caring 2025
DESCRIPTION:Join United Way of Chautauqua County in making a difference during our inaugural 𝐃𝐀𝐘 𝐎𝐅 𝐂𝐀𝐑𝐈𝐍𝐆! \n𝐒𝐀𝐕𝐄 𝐓𝐇𝐄 𝐃𝐀𝐓𝐄𝐅𝐫𝐢𝐝𝐚𝐲\, 𝐀𝐮𝐠𝐮𝐬𝐭 𝟏𝟓This community-wide initiative connects volunteers and resources with local agencies and schools needing support. \nInterested in volunteering? Save this info and check back here on June 1st which is when we will update this Facebook event with participating sites and volunteer projects! \nAGENCY REGISTRATIONRegister your agency by clicking the link below:https://docs.google.com/…/1FAIpQLSdN5YGcfgou…/viewform \nFor questions\, contact Eric Rinaldo by emailing erinaldo@uwayscc.org or calling 716-483-1561.
URL:https://mychq.org/event/uwchq-day-of-caring-2025/
LOCATION:Multiple Venues (See Event Description)
CATEGORIES:Chairities
ATTACH;FMTTYPE=image/jpeg:https://mychq.org/wp-content/uploads/2025/05/495240470_1096068802554277_1667905776659616273_n.jpg
ORGANIZER;CN="United Way of Northern Chautauqua County":MAILTO:info@unitedwayncc.org
END:VEVENT
END:VCALENDAR