BEGIN:VCALENDAR
VERSION:2.0
PRODID:-//My CHQ - ECPv6.15.20//NONSGML v1.0//EN
CALSCALE:GREGORIAN
METHOD:PUBLISH
X-ORIGINAL-URL:https://mychq.org
X-WR-CALDESC:Events for My CHQ
REFRESH-INTERVAL;VALUE=DURATION:PT1H
X-Robots-Tag:noindex
X-PUBLISHED-TTL:PT1H
BEGIN:VTIMEZONE
TZID:America/New_York
BEGIN:DAYLIGHT
TZOFFSETFROM:-0500
TZOFFSETTO:-0400
TZNAME:EDT
DTSTART:20250309T070000
END:DAYLIGHT
BEGIN:STANDARD
TZOFFSETFROM:-0400
TZOFFSETTO:-0500
TZNAME:EST
DTSTART:20251102T060000
END:STANDARD
BEGIN:DAYLIGHT
TZOFFSETFROM:-0500
TZOFFSETTO:-0400
TZNAME:EDT
DTSTART:20260308T070000
END:DAYLIGHT
BEGIN:STANDARD
TZOFFSETFROM:-0400
TZOFFSETTO:-0500
TZNAME:EST
DTSTART:20261101T060000
END:STANDARD
BEGIN:DAYLIGHT
TZOFFSETFROM:-0500
TZOFFSETTO:-0400
TZNAME:EDT
DTSTART:20270314T070000
END:DAYLIGHT
BEGIN:STANDARD
TZOFFSETFROM:-0400
TZOFFSETTO:-0500
TZNAME:EST
DTSTART:20271107T060000
END:STANDARD
END:VTIMEZONE
BEGIN:VEVENT
DTSTART;TZID=America/New_York:20260621T090000
DTEND;TZID=America/New_York:20260621T150000
DTSTAMP:20260423T105100
CREATED:20260204T190237Z
LAST-MODIFIED:20260204T190237Z
UID:10024724-1782032400-1782054000@mychq.org
SUMMARY:3rd Annual Fathers Day Charity Car & Bike Show
DESCRIPTION:Mark Your Calendar Father’s Day Sunday June 21st\, 2026Liberty Vineyards & Winery2861 Route – 20\, Sheridan\, New YorkShow To Benefit Chautauqua County Rural Ministry & The Lakeshore Humane Society. \nDash Plaques First 100 Cars20 ClassesTrophiesSpecial AwardsChicken BBQ50/50 RaffleBasket RaffleLive Music
URL:https://mychq.org/event/3rd-annual-fathers-day-charity-car-bike-show/
LOCATION:Liberty Vineyards & Winery\, 2861 Route 20\, Sheridan\, 14048\, United States
CATEGORIES:Car Show
ATTACH;FMTTYPE=image/jpeg:https://mychq.org/wp-content/uploads/2026/02/615059414_122253822476176395_5853792523697566852_n.jpg
END:VEVENT
END:VCALENDAR