BEGIN:VCALENDAR
VERSION:2.0
PRODID:-//My CHQ - ECPv6.15.20//NONSGML v1.0//EN
CALSCALE:GREGORIAN
METHOD:PUBLISH
X-WR-CALNAME:My CHQ
X-ORIGINAL-URL:https://mychq.org
X-WR-CALDESC:Events for My CHQ
REFRESH-INTERVAL;VALUE=DURATION:PT1H
X-Robots-Tag:noindex
X-PUBLISHED-TTL:PT1H
BEGIN:VTIMEZONE
TZID:America/New_York
BEGIN:DAYLIGHT
TZOFFSETFROM:-0500
TZOFFSETTO:-0400
TZNAME:EDT
DTSTART:20250309T070000
END:DAYLIGHT
BEGIN:STANDARD
TZOFFSETFROM:-0400
TZOFFSETTO:-0500
TZNAME:EST
DTSTART:20251102T060000
END:STANDARD
BEGIN:DAYLIGHT
TZOFFSETFROM:-0500
TZOFFSETTO:-0400
TZNAME:EDT
DTSTART:20260308T070000
END:DAYLIGHT
BEGIN:STANDARD
TZOFFSETFROM:-0400
TZOFFSETTO:-0500
TZNAME:EST
DTSTART:20261101T060000
END:STANDARD
BEGIN:DAYLIGHT
TZOFFSETFROM:-0500
TZOFFSETTO:-0400
TZNAME:EDT
DTSTART:20270314T070000
END:DAYLIGHT
BEGIN:STANDARD
TZOFFSETFROM:-0400
TZOFFSETTO:-0500
TZNAME:EST
DTSTART:20271107T060000
END:STANDARD
END:VTIMEZONE
BEGIN:VEVENT
DTSTART;TZID=America/New_York:20260620T100000
DTEND;TZID=America/New_York:20260620T160000
DTSTAMP:20260421T063554
CREATED:20251113T212812Z
LAST-MODIFIED:20251113T212812Z
UID:10023020-1781949600-1781971200@mychq.org
SUMMARY:Hoods Up | Lakewood Car Show
DESCRIPTION:$10 registration for cars\, free to the community!
URL:https://mychq.org/event/hoods-up-lakewood-car-show/
LOCATION:Village of Lakewood\, Lakewood\, 14750\, United States
CATEGORIES:Car Show
ATTACH;FMTTYPE=image/jpeg:https://mychq.org/wp-content/uploads/2025/11/583487231_25361500880153172_2135133244344939305_n.jpg
ORGANIZER;CN="Lakewood Community Development Corp.":MAILTO:hello@lcdcny.org
END:VEVENT
END:VCALENDAR