BEGIN:VCALENDAR
VERSION:2.0
PRODID:-//My CHQ - ECPv6.15.20//NONSGML v1.0//EN
CALSCALE:GREGORIAN
METHOD:PUBLISH
X-ORIGINAL-URL:https://mychq.org
X-WR-CALDESC:Events for My CHQ
REFRESH-INTERVAL;VALUE=DURATION:PT1H
X-Robots-Tag:noindex
X-PUBLISHED-TTL:PT1H
BEGIN:VTIMEZONE
TZID:America/New_York
BEGIN:DAYLIGHT
TZOFFSETFROM:-0500
TZOFFSETTO:-0400
TZNAME:EDT
DTSTART:20250309T070000
END:DAYLIGHT
BEGIN:STANDARD
TZOFFSETFROM:-0400
TZOFFSETTO:-0500
TZNAME:EST
DTSTART:20251102T060000
END:STANDARD
BEGIN:DAYLIGHT
TZOFFSETFROM:-0500
TZOFFSETTO:-0400
TZNAME:EDT
DTSTART:20260308T070000
END:DAYLIGHT
BEGIN:STANDARD
TZOFFSETFROM:-0400
TZOFFSETTO:-0500
TZNAME:EST
DTSTART:20261101T060000
END:STANDARD
BEGIN:DAYLIGHT
TZOFFSETFROM:-0500
TZOFFSETTO:-0400
TZNAME:EDT
DTSTART:20270314T070000
END:DAYLIGHT
BEGIN:STANDARD
TZOFFSETFROM:-0400
TZOFFSETTO:-0500
TZNAME:EST
DTSTART:20271107T060000
END:STANDARD
END:VTIMEZONE
BEGIN:VEVENT
DTSTART;TZID=America/New_York:20260718T080000
DTEND;TZID=America/New_York:20260718T170000
DTSTAMP:20260423T075211
CREATED:20250820T173850Z
LAST-MODIFIED:20260305T204936Z
UID:10020810-1784361600-1784394000@mychq.org
SUMMARY:The Battle of Los Contrincantes Are Back Car & Bike Show
DESCRIPTION:Registration $25- you will be able to compete in all categories. \nGeneral Admission- Spectators over the age of 13-$5 \nParking\, if not competing-$10 \nNeveritas-$5 Coolers-$5 \n No Music allowed \n No Bottles/No se permite Botellas \n No Refunds \nLos Contrincantes Car Club Inc Are Back Car & BikeShow \n\n\nSaturday July 18\, 2026 \nGates Open At 8AM \n4351 NY-60\, Gerry\, NY 14740
URL:https://mychq.org/event/the-battle-of-los-contrincantes-are-back-car-bike-show/
LOCATION:Gerry Rodeo\, 4351 NY-60\, Gerry\, 14740\, United States
CATEGORIES:Car Show
ATTACH;FMTTYPE=image/jpeg:https://mychq.org/wp-content/uploads/2025/08/627049683_1304312788401468_6731468992597497173_n.jpg
ORGANIZER;CN="Los Contrincantes Car Club":MAILTO:LosContrincantesCarClub@yahoo.com
END:VEVENT
BEGIN:VEVENT
DTSTART;TZID=America/New_York:20260718T100000
DTEND;TZID=America/New_York:20260718T140000
DTSTAMP:20260423T075211
CREATED:20260420T145846Z
LAST-MODIFIED:20260420T145846Z
UID:10028242-1784368800-1784383200@mychq.org
SUMMARY:The Great Midsummer Fly-in/Drive-In
DESCRIPTION:We’re hosting an event where pilots will judge the cars\, and classic car aficionados will judge the planes. Our competition will feature categories such as oldest plane and car\, newest plane and car\, most aesthetically pleasing plane and car\, and the least visually appealing plane and car. If you know someone who pilots an unconventional aircraft\, we’d love for them to join us. Lots of awards to hand out for planes and cars plus take a flight with Great Lakes Flight Center or take a super cool flight in Whiskey 7. \nPlane/Flying clubs that are specific to the airplanes your group flies (Cessna\, Vans Aircraft\, Mooney\, Piper J-3\, etc) we have awards for you as well. Let’s see how many can show up at the event. The club with the most attending will receive an award.
URL:https://mychq.org/event/the-great-midsummer-fly-in-drive-in/
LOCATION:Jamestown Airport\, 3163 Airport Dr\, Jamestown\, 14701\, United States
CATEGORIES:Car Show
ATTACH;FMTTYPE=image/jpeg:https://mychq.org/wp-content/uploads/2026/04/Midsummer-fly-in-drive-in.jpg
END:VEVENT
BEGIN:VEVENT
DTSTART;TZID=America/New_York:20260725T090000
DTEND;TZID=America/New_York:20260725T143000
DTSTAMP:20260423T075211
CREATED:20260313T202547Z
LAST-MODIFIED:20260313T202547Z
UID:10027271-1784970000-1784989800@mychq.org
SUMMARY:Hot Rods & Cool Bikes Show
DESCRIPTION:Mark your calendars! Our highly anticipated Hot Rods & Cool Bikes Show is happening on July 25\, 2026! \n Vehicle Registration: 9 AM – 11 AM $10\, proceeds go to Community Helping Hands Show Time: 9 AM – 2:30 PM \nFREE to the public… \n All Vehicles Welcome! Bring your hot rods\, classic cars\, custom bikes\, and anything with wheels! \nCustom-Made Trophies for the category winners. \n Live Music by ION SKY 50/50 Raffle\, proceeds go to Empire Animal Rescue Food Truck & More! \nDon’t miss out on a day full of horsepower\, music\, and fun! Tag your friends and spread the word! 
URL:https://mychq.org/event/hot-rods-cool-bikes-show/
LOCATION:Falconer Power Sports\, 1951 E Main St\, Falconer\, 14733\, United States
CATEGORIES:Car Show
ATTACH;FMTTYPE=image/jpeg:https://mychq.org/wp-content/uploads/2026/03/650209174_1390857463058474_7154986869745153414_n.jpg
ORGANIZER;CN="Falconer Power Sports":MAILTO:matt@falconerpowersports.com
END:VEVENT
END:VCALENDAR