BEGIN:VCALENDAR
VERSION:2.0
PRODID:-//Chautauqua County Events, Local Businesses &amp; Resources | My CHQ - ECPv6.15.20//NONSGML v1.0//EN
CALSCALE:GREGORIAN
METHOD:PUBLISH
X-WR-CALNAME:Chautauqua County Events, Local Businesses &amp; Resources | My CHQ
X-ORIGINAL-URL:https://mychq.org
X-WR-CALDESC:Events for Chautauqua County Events, Local Businesses &amp; Resources | My CHQ
REFRESH-INTERVAL;VALUE=DURATION:PT1H
X-Robots-Tag:noindex
X-PUBLISHED-TTL:PT1H
BEGIN:VTIMEZONE
TZID:America/New_York
BEGIN:DAYLIGHT
TZOFFSETFROM:-0500
TZOFFSETTO:-0400
TZNAME:EDT
DTSTART:20250309T070000
END:DAYLIGHT
BEGIN:STANDARD
TZOFFSETFROM:-0400
TZOFFSETTO:-0500
TZNAME:EST
DTSTART:20251102T060000
END:STANDARD
BEGIN:DAYLIGHT
TZOFFSETFROM:-0500
TZOFFSETTO:-0400
TZNAME:EDT
DTSTART:20260308T070000
END:DAYLIGHT
BEGIN:STANDARD
TZOFFSETFROM:-0400
TZOFFSETTO:-0500
TZNAME:EST
DTSTART:20261101T060000
END:STANDARD
BEGIN:DAYLIGHT
TZOFFSETFROM:-0500
TZOFFSETTO:-0400
TZNAME:EDT
DTSTART:20270314T070000
END:DAYLIGHT
BEGIN:STANDARD
TZOFFSETFROM:-0400
TZOFFSETTO:-0500
TZNAME:EST
DTSTART:20271107T060000
END:STANDARD
END:VTIMEZONE
BEGIN:VEVENT
DTSTART;TZID=America/New_York:20260426T130000
DTEND;TZID=America/New_York:20260426T160000
DTSTAMP:20260423T164442
CREATED:20260413T204419Z
LAST-MODIFIED:20260413T204431Z
UID:10028079-1777208400-1777219200@mychq.org
SUMMARY:FORGE Men's Retreat
DESCRIPTION:Something powerful is coming. \n\nA space where men can show up\, be real\, and not have to carry it all alone.\nFORGE Men’s Retreats are on the way—laid-back\, real\, and built for connection and mental health.\n\n\nJoin us at Camp Gross for Round 1!\n\n\nhttps://www.zeffy.com/en-US/ticketing/forge-round–01\n\n\nMade possible in partnership with Northern Chautauqua Community Foundation\n\nA HUGE thanks to these local guys– speaking up and talking about men’s mental health!
URL:https://mychq.org/event/forge-mens-retreat/
LOCATION:Camp Gross\, 8175 NY-60\, Cassadaga\, 14718\, United States
CATEGORIES:Camps
ATTACH;FMTTYPE=image/png:https://mychq.org/wp-content/uploads/2026/04/Forge-Mens-Retreat.png
ORGANIZER;CN="Together We Bloom":MAILTO:bpostlelcsw@peaceofmindscny.com
END:VEVENT
END:VCALENDAR