BEGIN:VCALENDAR
VERSION:2.0
PRODID:-//Chautauqua County Events, Local Businesses &amp; Resources | My CHQ - ECPv6.15.20//NONSGML v1.0//EN
CALSCALE:GREGORIAN
METHOD:PUBLISH
X-ORIGINAL-URL:https://mychq.org
X-WR-CALDESC:Events for Chautauqua County Events, Local Businesses &amp; Resources | My CHQ
REFRESH-INTERVAL;VALUE=DURATION:PT1H
X-Robots-Tag:noindex
X-PUBLISHED-TTL:PT1H
BEGIN:VTIMEZONE
TZID:America/New_York
BEGIN:DAYLIGHT
TZOFFSETFROM:-0500
TZOFFSETTO:-0400
TZNAME:EDT
DTSTART:20240310T070000
END:DAYLIGHT
BEGIN:STANDARD
TZOFFSETFROM:-0400
TZOFFSETTO:-0500
TZNAME:EST
DTSTART:20241103T060000
END:STANDARD
BEGIN:DAYLIGHT
TZOFFSETFROM:-0500
TZOFFSETTO:-0400
TZNAME:EDT
DTSTART:20250309T070000
END:DAYLIGHT
BEGIN:STANDARD
TZOFFSETFROM:-0400
TZOFFSETTO:-0500
TZNAME:EST
DTSTART:20251102T060000
END:STANDARD
BEGIN:DAYLIGHT
TZOFFSETFROM:-0500
TZOFFSETTO:-0400
TZNAME:EDT
DTSTART:20260308T070000
END:DAYLIGHT
BEGIN:STANDARD
TZOFFSETFROM:-0400
TZOFFSETTO:-0500
TZNAME:EST
DTSTART:20261101T060000
END:STANDARD
END:VTIMEZONE
BEGIN:VEVENT
DTSTART;TZID=America/New_York:20250927T120000
DTEND;TZID=America/New_York:20250927T140000
DTSTAMP:20260424T173924
CREATED:20250912T175658Z
LAST-MODIFIED:20250912T175658Z
UID:10021545-1758974400-1758981600@mychq.org
SUMMARY:FREE Rabies Vaccination Clinics
DESCRIPTION:FREE Rabies Vaccination Clinics! \n\n\nSaturday\, September 13th | 10:00 AM – 12:00 PM\nChautauqua County Humane Society\n2825 Strunk Road\, Jamestown\nThursday\, September 18th | 5:00 PM – 7:00 PM\nTown of Ripley Highway Department\n50 Ross Street\, Ripley\nTuesday\, September 23rd | 5:00 PM – 7:00 PM\nTown of French Creek Highway Department\n10106 Ravlin Hill Road\, Clymer\nSaturday\, September 27th | 12:00 PM – 2:00 PM\nSinclairville Volunteer Fire Company\n30 Main Street\, Sinclairville\n\n Pre-registration is required.\n Open to dogs\, cats\, and domesticated ferrets\, 3 months and older.\nProtect your pets and community!\n\nLearn more & register:  \nhttps://chqgov.com/environmental-health/rabies
URL:https://mychq.org/event/free-rabies-vaccination-clinics/2025-09-27/
LOCATION:Multiple Venues (See Event Description)
CATEGORIES:Animals & Pets
ATTACH;FMTTYPE=image/jpeg:https://mychq.org/wp-content/uploads/2025/09/541976490_1210468344455727_4115815377035738840_n.jpg
ORGANIZER;CN="Chautauqua County Health Department":MAILTO:cchealth@chqgov.com
END:VEVENT
BEGIN:VEVENT
DTSTART;TZID=America/New_York:20250920T110000
DTEND;TZID=America/New_York:20250920T150000
DTSTAMP:20260424T173924
CREATED:20250724T151523Z
LAST-MODIFIED:20250724T151523Z
UID:10019904-1758366000-1758380400@mychq.org
SUMMARY:CCHS Rescue Effect Fee Waived Adoption Day
DESCRIPTION:JAMESTOWN\, N.Y. (July 22\, 2025) The Chautauqua County Humane Society has announced that it will join animal shelters and rescues across the country to participate in the ASPCA’s Rescue Effect campaign to raise awareness about the importance of pet adoption and place more animals into loving homes. During this effort\, CCHS will offer fee waived adoptions on August 9th and 23rd and September 6th and 20th. \nMost shelters across the country are full with nearly six million dogs and cats entering shelters and rescues in 2024\, and animals\, especially dogs\, are often staying longer in care before being adopted. Choosing to adopt helps the animal you take home and supports many more by freeing up space and resources. Animal shelters have pets of all sizes\, ages and an array of wonderful personalities\, and if you aren’t able to adopt\, temporarily fostering also helps free up space for other animals in need. \nThe Chautauqua County Humane Society is grateful to the ASPCA for awarding us the Rescue Effect Grant which will be used to prepare our dogs and cats for adoption as well as to offer four different days of fee-waived adoptions to the public. This program was instituted by the ASPCA to help participating shelters adopt out more dogs and cats during the fee-waived adoption events in order to free up space to be able to bring in more animals in need\, hence the “Rescue Effect.” \nLaunching in August and continuing through October\, The Rescue Effect is the ASPCA’s national campaign dedicated to helping organizations increase adoptions and engage the public. This year\, the ASPCA is providing $2 million in grants to cover adoption fees and support operations at many participating shelters and rescue groups across the country with some holding fee-waived adoption events. \nFor more information about the Chautauqua County Humane Society\, visit chqhumane.org\, or learn more about the ASPCA’s Rescue Effect campaign at ASPCA.org/TheRescueEffect. \nThe Chautauqua County Humane Society is a 501c3 not for profit organization serving Chautauqua County since 1905. The Mission of the Chautauqua County Humane Society is to empower the community to improve the lives of animals.
URL:https://mychq.org/event/cchs-rescue-effect-fee-waived-adoption-day/2025-09-20/
LOCATION:Chautauqua County Humane Society\, 2825 Strunk Rd\, Jamestown\, 14701\, United States
CATEGORIES:Animals & Pets
ATTACH;FMTTYPE=image/jpeg:https://mychq.org/wp-content/uploads/2025/07/518366389_1063107185933131_76419909300461181_n.jpg
ORGANIZER;CN="Chautauqua County Humane Society":MAILTO:bpapalia@chqhumane.org
END:VEVENT
BEGIN:VEVENT
DTSTART;TZID=America/New_York:20250912T180000
DTEND;TZID=America/New_York:20250912T203000
DTSTAMP:20260424T173924
CREATED:20250904T182255Z
LAST-MODIFIED:20250904T182255Z
UID:10021101-1757700000-1757709000@mychq.org
SUMMARY:J.U.M.P.™ Night (Agility Fun Run)
DESCRIPTION:Join us for our 3rd J.U.M.P.™ Run and summer fun at The K9 Complex! For just $5 per run (90 seconds)\, you and your dog can take the course at your own pace — run clean\, train in the ring\, or just enjoy some joyful practice with friends. Runs will be manually timed and casually managed. Participants should either currently be taking classes or have a minimum novice level experience. If you and your dog have not yet trained on obstacles (teeter\, frame\, dog walk)\, you can run the alternate numbered course without contacts for the safety of the dog. \nWe will do a course walkthrough at 6pm and 7pm. Dogs will run according to their jump height and will depend on participants. \nA portion of the evening’s proceeds will be donated to support the Small Town Shelter in Sherman\, NY. We believe in giving back to our community\, and we’re proud to spotlight the important work they do! \n* Dogs must be under control at all times and remain on-leash when not working* One dog in the ring at a time — please wait for the team ahead to exit* Toy and treat rewards are welcome in the ring (no food on contacts)* No reactive or aggressive dogs\, please* Potty your dog before entering the ring and clean up after your pet* Please bring water and shade for your dog as needed \nJ.U.M.P.™ Runs at The K9 Complex are fun\, low-pressure mock agility trials designed to give you and your dog real ring experience without the stress of formal competition. Whether you’re just getting started or polishing some skills for your next trial\, J.U.M.P.™ Runs help you train with purpose and compete with confidence. \n Who Are J.U.M.P.™ Runs For?• Dogs preparing for their first trial• Experienced teams building confidence• Handlers testing new skills in an outdoor trial-like setting• Dogs who need ring exposure in a supportive environmentThis is a great way to transition between your class\, practice and competition. \n What to Expect• A real course set up in our full-size outdoor agility ring• Dogs run one at a time in a safe\, fenced ring• Toys are allowed if you choose the “training in the ring” option• Treats can be used provided they do not crumble or are dropped on contacts or on the ground \n Frequently Asked QuestionsQ: What does J.U.M.P.™ stand for?A: Joyful. Meaningful. Useful. Practice.Q: Are these judged events?A: No. These are for practice only — no official placements or scores are recorded.Q: Can I train in the ring?A: Absolutely. You can bring toys\, repeat sequences\, or pause to reward. It’s your time to use meaningfully.Q: Is there a walk-through?A: Yes! We will be doing a walk-through at 6pm and at 7pm before dogs begin running.Q: How long is each run?A: Each team gets a maximum of 90 seconds per run. Plenty of time for training a few trouble spots or running the full course.Q: What’s the cost?A: $5 per run.Q: What should I bring?• A crate or place for your dog to relax between runs• Chair or something to sit on for you• Water\, treats\, and toy rewards• Bug spray and sun screen or a hat (shade is limited)• Shoes with good traction• Your best handling attitude!Q: What if I’m really new?A: That’s what we’re here for. These events are training opportunities — zero judgment.
URL:https://mychq.org/event/j-u-m-p-night-agility-fun-run/
LOCATION:The K9 Complex\, 123 Prospect St\, Sherman\, 14781\, United States
CATEGORIES:Animals & Pets
ATTACH;FMTTYPE=image/jpeg:https://mychq.org/wp-content/uploads/2025/09/517852865_122126302262855714_5446668104374421353_n.jpg
ORGANIZER;CN="The K9 Complex":MAILTO:thek9complex@gmail.com
END:VEVENT
BEGIN:VEVENT
DTSTART;TZID=America/New_York:20250829T183000
DTEND;TZID=America/New_York:20250829T193000
DTSTAMP:20260424T173924
CREATED:20250731T151840Z
LAST-MODIFIED:20250731T151840Z
UID:10020363-1756492200-1756495800@mychq.org
SUMMARY:End of August FLASH CLASSES
DESCRIPTION:END OF SUMMER FLASH CLASS \nGrab your Best Friend and come to the end of August Classes!!! \nBehavior class for ages 6 Months and Older. We will be keeping class to the needs of the students. When you fill out your class form mark what you want to go over and I’ll be sure to get to it. This way everyone will benefit. ￼ \nThis class is a chance to get you and your dog on leash in a park area with onsite behavioral teaching and encouragement￼. We will work on drills while passing other dogs on leash. I will also be introducing light (on leash) agility.This is for both the new learner and anyone that just wants the opportunity to keep their dog active and well trained on a leash in all situations. \n(Note) if you think your dog has any aggression please message me directly 1st. Most cases with aggression need a one on one appointment before entering a class atmosphere. \nStarting Friday Aug 15th$20 per class!Pick the classes you can make it to!The more you can make\, the more you and your dog will get out of class. But if you can’t do it all\, it’s OKAY. Each class will be individual and will not be built upon.￼I will need 3 people in class for it to be held. \nI plan on these classes filling up fast so don’t wait. Fill out the form on the website asap. \nClasses Friday August 15th\, Monday 8/18\, Friday 8/22\, Monday 8/25\, Friday 8/29 \nWhen: 6:30pm -7:30pm each night. Rain date/s will be re-scheduled into Sept. \nWhere: Ellery Park \nMessage for more detailsComment belowOr check out our website goldenacres-dogs.com
URL:https://mychq.org/event/end-of-august-flash-classes/2025-08-29/
LOCATION:Ellery Town Park\, 2892 Greenhurst Ave\, Bemus Point\, NY\, 14712\, United States
CATEGORIES:Animals & Pets
ATTACH;FMTTYPE=image/jpeg:https://mychq.org/wp-content/uploads/2025/07/518246294_1582488429758740_8430776546331120367_n.jpg
ORGANIZER;CN="Golden Acres":MAILTO:goldenacresdogs@gmail.com
END:VEVENT
BEGIN:VEVENT
DTSTART;TZID=America/New_York:20250802T100000
DTEND;TZID=America/New_York:20250802T150000
DTSTAMP:20260424T173924
CREATED:20250714T152613Z
LAST-MODIFIED:20250714T152613Z
UID:10019691-1754128800-1754146800@mychq.org
SUMMARY:Tractor Supply Purina Days Event
DESCRIPTION:Join us for an on site adoption event!! We will have so many adorable kittens available for adoption!Please apply ahead of time on our website for same day adoptions!  \nNot looking to adopt? That’s ok\, come out and say hi!
URL:https://mychq.org/event/tractor-supply-purina-days-event/
LOCATION:Tractor Supply – Lakewood\, 201 E Fairmount Ave\, Lakewood\, 14750\, United States
CATEGORIES:Animals & Pets
ATTACH;FMTTYPE=image/jpeg:https://mychq.org/wp-content/uploads/2025/07/517709350_715059031450513_2494826855349722387_n.jpg
ORGANIZER;CN="Finn's Furever Feline Rescue":MAILTO:Finnsfureverfelinerescue@yahoo.com
END:VEVENT
BEGIN:VEVENT
DTSTART;TZID=America/New_York:20250727T120000
DTEND;TZID=America/New_York:20250727T170000
DTSTAMP:20260424T173924
CREATED:20250714T152351Z
LAST-MODIFIED:20250714T152351Z
UID:10019690-1753617600-1753635600@mychq.org
SUMMARY:Adoption Event - PetSmart Charities NAW
DESCRIPTION: It’s PetSmart Charities National Adoption Week again\, July 21 – 27\, 2025 !As usual\, we’ll be holding an ADOPTION EVENT that weekend\, JULY 26 & 27\, from noon to 5 pm at the Lakewood Petsmart (zip code 14750) . \nWhile we always have kitties at the adoption center\, we will have some additional friends with us . Yes\, same-day adoptions are available\, provided we have enough information to approve . We highly encourage anyone looking to adopt to apply ahead of time to expedite. Adoption information & application are on our website  https://lakewoodkittenrescue.com/ \n All of our feline friends are spayed/ neutered\, developmentally vaccinated\, combo tested\, and microchipped prior to adoption.Please remember\, adoption is one of the greatest gifts – and a lifetime commitment to another being.
URL:https://mychq.org/event/adoption-event-petsmart-charities-naw/2025-07-27/
LOCATION:PetSmart Lakewood\, 279 E Fairmount Ave\, Lakewood\, 14750\, United States
CATEGORIES:Animals & Pets
ATTACH;FMTTYPE=image/jpeg:https://mychq.org/wp-content/uploads/2025/07/517826911_762529333114097_705436566247119062_n.jpg
ORGANIZER;CN="Lakewood Kitten Rescue":MAILTO:lakewoodrescue@yahoo.com
END:VEVENT
BEGIN:VEVENT
DTSTART;TZID=America/New_York:20250727T090000
DTEND;TZID=America/New_York:20250727T190000
DTSTAMP:20260424T173924
CREATED:20250714T152824Z
LAST-MODIFIED:20250714T152824Z
UID:10019698-1753606800-1753642800@mychq.org
SUMMARY:PetSmart National Adoption Week | Dunkirk
DESCRIPTION:Join us during this summer’s National Adoption Week at PetSmart in Dunkirk!Lots of adorable kittens to chose from!! On-site adoptions! Apply ahead to be pre-approved!
URL:https://mychq.org/event/petsmart-national-adoption-week-dunkirk/2025-07-27/
LOCATION:PetSmart Dunkirk\, 3957 Vineyard Dr\, Dunkirk\, 14048\, United States
CATEGORIES:Animals & Pets
ATTACH;FMTTYPE=image/jpeg:https://mychq.org/wp-content/uploads/2025/07/515267130_709545142001902_5310799354460480778_n.jpg
ORGANIZER;CN="Finn's Furever Feline Rescue":MAILTO:Finnsfureverfelinerescue@yahoo.com
END:VEVENT
BEGIN:VEVENT
DTSTART;TZID=America/New_York:20250719T130000
DTEND;TZID=America/New_York:20250719T150000
DTSTAMP:20260424T173924
CREATED:20250708T150403Z
LAST-MODIFIED:20250708T150403Z
UID:10019456-1752930000-1752937200@mychq.org
SUMMARY:Free Rabies Immunization Clinics @ Carroll Town Hall
DESCRIPTION:The Town of Carroll and the Chautauqua County Health Department are hosting a rabies clinic on Saturday\, July 19th\, from 1-3 PM at the Carroll Town Hall\, located at 5 W Main Street in Frewsburg. \n\n\nReserve your spot at https://chautauquacountyny.gov/environmental-health/rabies
URL:https://mychq.org/event/free-rabies-immunization-clinics-carroll-town-hall/
LOCATION:Carroll Town Hall\, 5 W. Main St\, Frewsburg\, 14738\, United States
CATEGORIES:Animals & Pets
ATTACH;FMTTYPE=image/jpeg:https://mychq.org/wp-content/uploads/2025/07/515495872_1051053747138475_4405652176945141662_n.jpg
ORGANIZER;CN="Chautauqua County Humane Society":MAILTO:bpapalia@chqhumane.org
END:VEVENT
BEGIN:VEVENT
DTSTART;TZID=America/New_York:20250719T120000
DTEND;TZID=America/New_York:20250719T210000
DTSTAMP:20260424T173924
CREATED:20250127T215309Z
LAST-MODIFIED:20250606T190925Z
UID:10013299-1752926400-1752958800@mychq.org
SUMMARY:Dog Days of Summer!
DESCRIPTION:Paws up\, Lakewood! It’s time for the Dog Days of Summer at Southern Tier Lakewood! Bring your four-legged besties to the taproom for a tail-waggin’ good time filled with cold brews\, belly rubs\, puppy love\, and Live Music! \nEnjoy tunes from White Bronco (12PM – 3PM) & Bad Habit (6PM – 9PM)! \nWe’re donating a portion of all sales (4PM – 7PM) to the local Chautaqua Humane Society\, so every pint poured helps a pup in need. \nCome\, sit\, stay—and support a paw-some cause!
URL:https://mychq.org/event/dog-days-of-summer/
LOCATION:Southern Tier Brewing Company – The Empty Pint\, 2072 Stoneman Cir.\, Lakewood\, NY\, 14750\, United States
CATEGORIES:Animals & Pets
ATTACH;FMTTYPE=image/jpeg:https://mychq.org/wp-content/uploads/2025/01/504866529_1157889346350816_293304489565532924_n.jpg
ORGANIZER;CN="Chautauqua County Humane Society":MAILTO:bpapalia@chqhumane.org
END:VEVENT
END:VCALENDAR