BEGIN:VCALENDAR
VERSION:2.0
PRODID:-//My CHQ - ECPv6.15.20//NONSGML v1.0//EN
CALSCALE:GREGORIAN
METHOD:PUBLISH
X-WR-CALNAME:My CHQ
X-ORIGINAL-URL:https://mychq.org
X-WR-CALDESC:Events for My CHQ
REFRESH-INTERVAL;VALUE=DURATION:PT1H
X-Robots-Tag:noindex
X-PUBLISHED-TTL:PT1H
BEGIN:VTIMEZONE
TZID:America/New_York
BEGIN:DAYLIGHT
TZOFFSETFROM:-0500
TZOFFSETTO:-0400
TZNAME:EDT
DTSTART:20250309T070000
END:DAYLIGHT
BEGIN:STANDARD
TZOFFSETFROM:-0400
TZOFFSETTO:-0500
TZNAME:EST
DTSTART:20251102T060000
END:STANDARD
BEGIN:DAYLIGHT
TZOFFSETFROM:-0500
TZOFFSETTO:-0400
TZNAME:EDT
DTSTART:20260308T070000
END:DAYLIGHT
BEGIN:STANDARD
TZOFFSETFROM:-0400
TZOFFSETTO:-0500
TZNAME:EST
DTSTART:20261101T060000
END:STANDARD
BEGIN:DAYLIGHT
TZOFFSETFROM:-0500
TZOFFSETTO:-0400
TZNAME:EDT
DTSTART:20270314T070000
END:DAYLIGHT
BEGIN:STANDARD
TZOFFSETFROM:-0400
TZOFFSETTO:-0500
TZNAME:EST
DTSTART:20271107T060000
END:STANDARD
END:VTIMEZONE
BEGIN:VEVENT
DTSTART;TZID=America/New_York:20260426T100000
DTEND;TZID=America/New_York:20260426T140000
DTSTAMP:20260423T031247
CREATED:20260325T151821Z
LAST-MODIFIED:20260325T151821Z
UID:10027500-1777197600-1777212000@mychq.org
SUMMARY:Round 4! Sing-Along Brunch @ Bemus Point Golf Club @ Tap House
DESCRIPTION:Oops… we did it again! \n\nOur first two Sing-Along Brunches? SOLD OUT. April 12? Almost gone.\nLooks like Bemus Point is READY to sing. \nSo we added one more date\, and we are not holding back.\nSing-Along Brunch with DJ Felix is back on April 26 at the Bemus Point Golf Club & Tap House\, and this one is going to be a blast.\nHere’s what your $40 gets you:\n Brunch Buffet\n Welcome Mimosa\n Your own Party Mic\n DJ Felix keeping the energy all morning long\nFull bar available. Good people guaranteed.\n Tickets are limited and these go FAST. Don’t be the friend who waited too long.\nGrab your spot right now \n https://www.eventbrite.com/…/sing-along-brunch-at-the…\n Sunday\, April 26 | 10AM-2PM\n 72 Main Street\, Bemus Point\, NY\n\nTag your gal pals below. You know who needs to be there.
URL:https://mychq.org/event/round-4-sing-along-brunch-bemus-point-golf-club-tap-house/
LOCATION:Bemus Point Golf Club & Tap House\, 72 Main St.\, Bemus Point\, NY\, 14712\, United States
CATEGORIES:Adults Only & Parties
ATTACH;FMTTYPE=image/jpeg:https://mychq.org/wp-content/uploads/2026/03/655674499_1784460922999947_4588979492232529290_n.jpg
ORGANIZER;CN="Bemus Point Golf Club & Tap House":MAILTO:bpgctaphouse@gmail.com
END:VEVENT
BEGIN:VEVENT
DTSTART;TZID=America/New_York:20260430T190000
DTEND;TZID=America/New_York:20260430T210000
DTSTAMP:20260423T031247
CREATED:20260320T011222Z
LAST-MODIFIED:20260320T011222Z
UID:10027395-1777575600-1777582800@mychq.org
SUMMARY:Board Game Night @ Raven & Thorn
DESCRIPTION:Last Thursday of Every Month
URL:https://mychq.org/event/board-game-night-raven-thorn/2026-04-30/
LOCATION:Raven & Thorn\, 26 Water St\, Fredonia\, 14063\, United States
CATEGORIES:Adults Only & Parties
ATTACH;FMTTYPE=image/jpeg:https://mychq.org/wp-content/uploads/2026/03/653050579_122167292264825340_1506454683484724796_n.jpg
ORGANIZER;CN="Raven & Thorn":MAILTO:contact@ravenandthorn.com
END:VEVENT
END:VCALENDAR