BEGIN:VCALENDAR
VERSION:2.0
PRODID:-//My CHQ - ECPv6.15.20//NONSGML v1.0//EN
CALSCALE:GREGORIAN
METHOD:PUBLISH
X-WR-CALNAME:My CHQ
X-ORIGINAL-URL:https://mychq.org
X-WR-CALDESC:Events for My CHQ
REFRESH-INTERVAL;VALUE=DURATION:PT1H
X-Robots-Tag:noindex
X-PUBLISHED-TTL:PT1H
BEGIN:VTIMEZONE
TZID:America/New_York
BEGIN:DAYLIGHT
TZOFFSETFROM:-0500
TZOFFSETTO:-0400
TZNAME:EDT
DTSTART:20250309T070000
END:DAYLIGHT
BEGIN:STANDARD
TZOFFSETFROM:-0400
TZOFFSETTO:-0500
TZNAME:EST
DTSTART:20251102T060000
END:STANDARD
BEGIN:DAYLIGHT
TZOFFSETFROM:-0500
TZOFFSETTO:-0400
TZNAME:EDT
DTSTART:20260308T070000
END:DAYLIGHT
BEGIN:STANDARD
TZOFFSETFROM:-0400
TZOFFSETTO:-0500
TZNAME:EST
DTSTART:20261101T060000
END:STANDARD
BEGIN:DAYLIGHT
TZOFFSETFROM:-0500
TZOFFSETTO:-0400
TZNAME:EDT
DTSTART:20270314T070000
END:DAYLIGHT
BEGIN:STANDARD
TZOFFSETFROM:-0400
TZOFFSETTO:-0500
TZNAME:EST
DTSTART:20271107T060000
END:STANDARD
END:VTIMEZONE
BEGIN:VEVENT
DTSTART;TZID=America/New_York:20260510T130000
DTEND;TZID=America/New_York:20260510T153000
DTSTAMP:20260423T062027
CREATED:20260415T181158Z
LAST-MODIFIED:20260415T181158Z
UID:10028173-1778418000-1778427000@mychq.org
SUMMARY:Mother’s Day Boozy Bingo @ Busti Tap House
DESCRIPTION:Mother’s Day Boozy Bingo  \nSunday May 101–3:30 PMDoors open at 1 | Balls drop at 1:30 \n Drinks & prizes $20 entry includes bingo cards \nCome family friendly or make it a Mom’s Day Out and have the family meet you after for dinner. \n Busti Tap House \nTag your bingo crew
URL:https://mychq.org/event/mothers-day-boozy-bingo-busti-tap-house/
LOCATION:Busti Tap House\, 792 Busti-Sugar Grove Rd.\, Jamestown\, NY\, 14701\, United States
CATEGORIES:Adults Only & Parties
ATTACH;FMTTYPE=image/jpeg:https://mychq.org/wp-content/uploads/2026/04/671243999_1277717844457816_1180541522922947231_n.jpg
ORGANIZER;CN="Busti Tap House":MAILTO:Bustitaphouse@gmail.com
END:VEVENT
END:VCALENDAR