BEGIN:VCALENDAR
VERSION:2.0
PRODID:-//My CHQ - ECPv6.15.20//NONSGML v1.0//EN
CALSCALE:GREGORIAN
METHOD:PUBLISH
X-WR-CALNAME:My CHQ
X-ORIGINAL-URL:https://mychq.org
X-WR-CALDESC:Events for My CHQ
REFRESH-INTERVAL;VALUE=DURATION:PT1H
X-Robots-Tag:noindex
X-PUBLISHED-TTL:PT1H
BEGIN:VTIMEZONE
TZID:America/New_York
BEGIN:DAYLIGHT
TZOFFSETFROM:-0500
TZOFFSETTO:-0400
TZNAME:EDT
DTSTART:20250309T070000
END:DAYLIGHT
BEGIN:STANDARD
TZOFFSETFROM:-0400
TZOFFSETTO:-0500
TZNAME:EST
DTSTART:20251102T060000
END:STANDARD
BEGIN:DAYLIGHT
TZOFFSETFROM:-0500
TZOFFSETTO:-0400
TZNAME:EDT
DTSTART:20260308T070000
END:DAYLIGHT
BEGIN:STANDARD
TZOFFSETFROM:-0400
TZOFFSETTO:-0500
TZNAME:EST
DTSTART:20261101T060000
END:STANDARD
BEGIN:DAYLIGHT
TZOFFSETFROM:-0500
TZOFFSETTO:-0400
TZNAME:EDT
DTSTART:20270314T070000
END:DAYLIGHT
BEGIN:STANDARD
TZOFFSETFROM:-0400
TZOFFSETTO:-0500
TZNAME:EST
DTSTART:20271107T060000
END:STANDARD
END:VTIMEZONE
BEGIN:VEVENT
DTSTART;TZID=America/New_York:20260607T130000
DTEND;TZID=America/New_York:20260607T170000
DTSTAMP:20260423T045805
CREATED:20260318T180009Z
LAST-MODIFIED:20260318T180009Z
UID:10027318-1780837200-1780851600@mychq.org
SUMMARY:Mrs. Roper Romp... She's Back!
DESCRIPTION:This FUNdraiser is a co-ed 21+ pub crawl. Join the fun while supporting the Zonta mission! This rain or shine event was a blast last year and is sure to be again. Travel with all the Mrs. Ropers from the Ice Arena to three other walkable pubs (watch here for updates on where). Grab your caftan\, your $10.00 donation\, curl your hair\, grab your friends and have a blast!
URL:https://mychq.org/event/mrs-roper-romp-shes-back/
LOCATION:Northwest Arena\, 319 W 3rd St.\, Jamestown\, NY\, 14701\, United States
CATEGORIES:Adults Only & Parties
ATTACH;FMTTYPE=image/jpeg:https://mychq.org/wp-content/uploads/2026/03/654282522_921448633925163_785005561448002536_n.jpg
ORGANIZER;CN="Zonta Club of Jamestown":MAILTO:jamestown@zontadistrict4.org
END:VEVENT
BEGIN:VEVENT
DTSTART;TZID=America/New_York:20260612T203000
DTEND;TZID=America/New_York:20260612T235900
DTSTAMP:20260423T045805
CREATED:20260406T153042Z
LAST-MODIFIED:20260406T153151Z
UID:10027714-1781296200-1781308740@mychq.org
SUMMARY:Silent Disco Beach Party @ Sunset Bay
DESCRIPTION:A beachside silent disco with Caribbean\, Latin\, Afrobeats\, and throwback vibes under the Sunset Bay glow. \n Caribbean Silent Disco at Sunset Bay BeachGet ready for a night of sand\, sound\, and pure Caribbean energy. Sunset Bay Beach is turning into a glowing\, three‑channel silent disco with DJs spinning Latin\, Afrobeats\, Dancehall\, Hip‑Hop\, and Top Hits all night long.Come vibe under the sunset\, dance by the water\, and experience a beach party like nothing else in Western New York \n What to ExpectThree DJs. Three music channels. One massive beach party.Switch between channels\, find your rhythm\, and dance under the open sky with glowing wireless headphones.Expect contests\, giveaways\, beach games\, and high‑energy moments all night long — including a GIVEAWAY if attendance hits 150+ guests. So be sure to tell all your friends! \nThis is the summer kickoff you’ve been waiting for. \n Ticket TiersEarly Bird GA — $25 (Limited Time) \nGeneral Admission — $30 \nGroup GA (4+ people) — $28 per personDiscounted rate for groups of 4 or more. \nEarly Bird VIP — $35 (Limited Time\, Limited Spots!!) \nVIP — $45 (Limited Spots!) \n Contests\, Prizes & Giveaways \n Dress Code: Beach Chic / Island VibesCome dressed to glow and ready to move.full!
URL:https://mychq.org/event/silent-disco-beach-party-sunset-bay/
LOCATION:Cabana Sam’s Sunset Bay\, 1028 South Shore Drive\, Irving\, 14081\, United States
CATEGORIES:Adults Only & Parties
ATTACH;FMTTYPE=image/png:https://mychq.org/wp-content/uploads/2026/04/silent-disco.png
ORGANIZER;CN="Eventistry by T":MAILTO:eventistrybyt@gmail.com
END:VEVENT
BEGIN:VEVENT
DTSTART;TZID=America/New_York:20260625T190000
DTEND;TZID=America/New_York:20260625T210000
DTSTAMP:20260423T045805
CREATED:20260320T011222Z
LAST-MODIFIED:20260320T011222Z
UID:10027397-1782414000-1782421200@mychq.org
SUMMARY:Board Game Night @ Raven & Thorn
DESCRIPTION:Last Thursday of Every Month
URL:https://mychq.org/event/board-game-night-raven-thorn/2026-06-25/
LOCATION:Raven & Thorn\, 26 Water St\, Fredonia\, 14063\, United States
CATEGORIES:Adults Only & Parties
ATTACH;FMTTYPE=image/jpeg:https://mychq.org/wp-content/uploads/2026/03/653050579_122167292264825340_1506454683484724796_n.jpg
ORGANIZER;CN="Raven & Thorn":MAILTO:contact@ravenandthorn.com
END:VEVENT
END:VCALENDAR