BEGIN:VCALENDAR
VERSION:2.0
PRODID:-//Chautauqua County Events, Local Businesses &amp; Resources | My CHQ - ECPv6.15.20//NONSGML v1.0//EN
CALSCALE:GREGORIAN
METHOD:PUBLISH
X-WR-CALNAME:Chautauqua County Events, Local Businesses &amp; Resources | My CHQ
X-ORIGINAL-URL:https://mychq.org
X-WR-CALDESC:Events for Chautauqua County Events, Local Businesses &amp; Resources | My CHQ
REFRESH-INTERVAL;VALUE=DURATION:PT1H
X-Robots-Tag:noindex
X-PUBLISHED-TTL:PT1H
BEGIN:VTIMEZONE
TZID:America/New_York
BEGIN:DAYLIGHT
TZOFFSETFROM:-0500
TZOFFSETTO:-0400
TZNAME:EDT
DTSTART:20250309T070000
END:DAYLIGHT
BEGIN:STANDARD
TZOFFSETFROM:-0400
TZOFFSETTO:-0500
TZNAME:EST
DTSTART:20251102T060000
END:STANDARD
BEGIN:DAYLIGHT
TZOFFSETFROM:-0500
TZOFFSETTO:-0400
TZNAME:EDT
DTSTART:20260308T070000
END:DAYLIGHT
BEGIN:STANDARD
TZOFFSETFROM:-0400
TZOFFSETTO:-0500
TZNAME:EST
DTSTART:20261101T060000
END:STANDARD
BEGIN:DAYLIGHT
TZOFFSETFROM:-0500
TZOFFSETTO:-0400
TZNAME:EDT
DTSTART:20270314T070000
END:DAYLIGHT
BEGIN:STANDARD
TZOFFSETFROM:-0400
TZOFFSETTO:-0500
TZNAME:EST
DTSTART:20271107T060000
END:STANDARD
END:VTIMEZONE
BEGIN:VEVENT
DTSTART;TZID=America/New_York:20260630T104500
DTEND;TZID=America/New_York:20260630T124500
DTSTAMP:20260424T105042
CREATED:20260226T144320Z
LAST-MODIFIED:20260325T174434Z
UID:10026667-1782816300-1782823500@mychq.org
SUMMARY:Alyse Nelson - Chautauqua Lecture Series
DESCRIPTION:Alyse Nelson is president and CEO of Vital Voices Global Partnership. As the co-founder\, she has been with the organization for more than 28 years\, also serving as vice president and senior director of programs before assuming her current role in 2009. Under Nelson’s leadership\, Vital Voices has directly served nearly 50\,000 women leaders across 188 countries. Several of these leaders will join Nelson as part of a panel on Vital Voices’ work as part of Chautauqua’s opening week on “Icons and Instigators: Women Who Change the World.” \nLearn more with the event  below!https://www.chq.org/event/alyse-nelson/
URL:https://mychq.org/event/alyse-nelson-chautauqua-lecture-series/
LOCATION:Chautauqua Institution\, 1 Ames Ave\, Chautauqua\, 14722\, United States
CATEGORIES:Speaker & Conventions
ATTACH;FMTTYPE=image/jpeg:https://mychq.org/wp-content/uploads/2026/02/593223554_871364192212148_4514127434307596772_n.jpg
ORGANIZER;CN="Chautauqua Institution":MAILTO:ticketoffice@chq.org
END:VEVENT
BEGIN:VEVENT
DTSTART;TZID=America/New_York:20260630T200000
DTEND;TZID=America/New_York:20260630T223000
DTSTAMP:20260424T105042
CREATED:20260420T152044Z
LAST-MODIFIED:20260420T152044Z
UID:10028253-1782849600-1782858600@mychq.org
SUMMARY:Alicia Olatuja: "Dear Lisa"
DESCRIPTION:When St. Louis native vocalist\, composer\, educator Alicia Olatuja sings\, the world listens. Her aural artistry is a wondrous weave of jazz\, blues\, gospel\, classical\, pop and Afropop musical genres. Olatuja’s embrace of those sonic stylings have enabled her to work with a wide variety of musicians – from jazz superstars Chris Botti\, Christian McBride and Michael Olatuja\, to R&B and gospel legends Chaka Khan and BeBe Winans. \nLearn more with the event  belowhttps://www.chq.org/event/alicia-olatuja-dear-lisa/
URL:https://mychq.org/event/alicia-olatuja-dear-lisa/
LOCATION:Chautauqua Institution\, 1 Ames Ave\, Chautauqua\, 14722\, United States
CATEGORIES:Music & Entertainment
ATTACH;FMTTYPE=image/jpeg:https://mychq.org/wp-content/uploads/2026/04/Alicia-Olatuja.jpg
ORGANIZER;CN="Chautauqua Institution":MAILTO:ticketoffice@chq.org
END:VEVENT
END:VCALENDAR