BEGIN:VCALENDAR
VERSION:2.0
PRODID:-//Chautauqua County Events, Local Businesses &amp; Resources | My CHQ - ECPv6.15.20//NONSGML v1.0//EN
CALSCALE:GREGORIAN
METHOD:PUBLISH
X-ORIGINAL-URL:https://mychq.org
X-WR-CALDESC:Events for Chautauqua County Events, Local Businesses &amp; Resources | My CHQ
REFRESH-INTERVAL;VALUE=DURATION:PT1H
X-Robots-Tag:noindex
X-PUBLISHED-TTL:PT1H
BEGIN:VTIMEZONE
TZID:America/New_York
BEGIN:DAYLIGHT
TZOFFSETFROM:-0500
TZOFFSETTO:-0400
TZNAME:EDT
DTSTART:20250309T070000
END:DAYLIGHT
BEGIN:STANDARD
TZOFFSETFROM:-0400
TZOFFSETTO:-0500
TZNAME:EST
DTSTART:20251102T060000
END:STANDARD
BEGIN:DAYLIGHT
TZOFFSETFROM:-0500
TZOFFSETTO:-0400
TZNAME:EDT
DTSTART:20260308T070000
END:DAYLIGHT
BEGIN:STANDARD
TZOFFSETFROM:-0400
TZOFFSETTO:-0500
TZNAME:EST
DTSTART:20261101T060000
END:STANDARD
BEGIN:DAYLIGHT
TZOFFSETFROM:-0500
TZOFFSETTO:-0400
TZNAME:EDT
DTSTART:20270314T070000
END:DAYLIGHT
BEGIN:STANDARD
TZOFFSETFROM:-0400
TZOFFSETTO:-0500
TZNAME:EST
DTSTART:20271107T060000
END:STANDARD
END:VTIMEZONE
BEGIN:VEVENT
DTSTART;TZID=America/New_York:20260531T080000
DTEND;TZID=America/New_York:20260531T170000
DTSTAMP:20260424T123711
CREATED:20260401T135448Z
LAST-MODIFIED:20260401T135448Z
UID:10027686-1780214400-1780246800@mychq.org
SUMMARY:Heron Horse Trail Challenges 2026
DESCRIPTION:Saddle up… Heron Horse Trail Challenges are back for 2026  \n\nHERON HORSE VENTURES & Equine Trail Sports (ETS) are teaming up again to bring you a full season of Trail Challenges at The Heron.\nBeginner-friendly\, but still exciting for advanced riders—these courses are built for every level.\nEach event features:\n• Real-world trail obstacles designed to build trust\, communication & partnership\n• Judging focused on teamwork\, safety & horsemanship\n• Ribbons\, prizes & a supportive\, learning-focused atmosphere\n• A brand new obstacle set each time—no two challenges are ever the same\nEach Trail Challenge stands alone\, so you can join us for one\, two\, or all five events throughout the season!\n\nChallenge yourself. Build a connection. Grow with your horse. \nMore Information: https://www.equinetrailsports.com/events/10053
URL:https://mychq.org/event/heron-horse-trail-challenges-2026/2026-05-31/
LOCATION:Multiple Venues (See Event Description)
CATEGORIES:Outdoors & Nature
ATTACH;FMTTYPE=image/jpeg:https://mychq.org/wp-content/uploads/2026/04/661033666_1816431146287179_1212789266544784425_n.jpg
ORGANIZER;CN="Green Heron Farm & Events Center":MAILTO:info@theheron.org
END:VEVENT
BEGIN:VEVENT
DTSTART;TZID=America/New_York:20260531T150000
DTEND;TZID=America/New_York:20260531T180000
DTSTAMP:20260424T123711
CREATED:20260420T153556Z
LAST-MODIFIED:20260420T153556Z
UID:10028268-1780239600-1780250400@mychq.org
SUMMARY:The Byways LIVE @ The Empty Pint
DESCRIPTION:Join us in the taproom as we host live music at the Empty Pint! Stop by for a beer & a good time from 3PM – 6PM!
URL:https://mychq.org/event/the-byways-live-the-empty-pint/
LOCATION:Southern Tier Brewing Company – The Empty Pint\, 2072 Stoneman Cir.\, Lakewood\, NY\, 14750\, United States
CATEGORIES:Music & Entertainment
ATTACH;FMTTYPE=image/jpeg:https://mychq.org/wp-content/uploads/2026/04/Live-Music-at-the-Empty-Pint.jpg
END:VEVENT
BEGIN:VEVENT
DTSTART;TZID=America/New_York:20260531T150000
DTEND;TZID=America/New_York:20260531T180000
DTSTAMP:20260424T123711
CREATED:20260423T143129Z
LAST-MODIFIED:20260423T143129Z
UID:10028346-1780239600-1780250400@mychq.org
SUMMARY:Live Music @ Busti Tap House with Logan Alexander & Laura “The Landshark” Ferraro
DESCRIPTION:Get ready for an unforgettable afternoon of live music at Busti Tap House with Logan Alexander joined by Laura “The Landshark” Ferraro!  \n Sunday\, May 31\, 2026 3:00 PM – 6:00 PM Busti Tap House \nSoak up the deck vibes\, grab a drink\, and enjoy a fun-filled Sunday with yard games\, great food\, and live acoustic tunes. Whether you’re relaxing in the sun or hanging with friends\, this duo will bring the energy and the perfect soundtrack to your weekend. \n Cold drinks Delicious food Yard games Live music \nTag your crew\, hit “Going\,” and come enjoy a Sunday done right!
URL:https://mychq.org/event/live-music-busti-tap-house-with-logan-alexander-laura-the-landshark-ferraro/
LOCATION:Busti Tap House\, 792 Busti-Sugar Grove Rd.\, Jamestown\, NY\, 14701\, United States
CATEGORIES:Music & Entertainment
ATTACH;FMTTYPE=image/jpeg:https://mychq.org/wp-content/uploads/2026/04/675551991_1282945427268391_2619030853885254439_n.jpg
ORGANIZER;CN="Busti Tap House":MAILTO:Bustitaphouse@gmail.com
END:VEVENT
BEGIN:VEVENT
DTSTART;TZID=America/New_York:20260531T150000
DTEND;TZID=America/New_York:20260531T183000
DTSTAMP:20260424T123711
CREATED:20260406T152146Z
LAST-MODIFIED:20260406T152146Z
UID:10027710-1780239600-1780252200@mychq.org
SUMMARY:The Town Pants LIVE @ Wicked Warren's Jamestown
DESCRIPTION:Ladies and Gentlemen… rogues\, revelers\, wanderers of the wild! \nStep right up! The lights are blazing\, the ropes are swinging\, and the air crackles with Celtic fire! Sunday\, May 31st – THE TOWN PANTS take the stage\, high above the crowd\, with guitars that roar\, fiddles that soar\, and mandolins that dance through the smoke. From the first strum to the final stomp\, you’ll be swept into a whirlwind of laughter\, sweat\, and song. So grab your ticket\, raise your glass\, and join the spectacle * Because this is no ordinary show… This is The Town Pants LIVE! Doors open at 3pm\, Show starts at 4pm! \n$20 Adv. $25 Door
URL:https://mychq.org/event/the-town-pants-live-wicked-warrens-jamestown/
LOCATION:Wicked Warrens Jamestown\, Washington St.\, Jamestown\, 14701\, United States
CATEGORIES:Music & Entertainment
ATTACH;FMTTYPE=image/jpeg:https://mychq.org/wp-content/uploads/2026/04/662553000_1493906358786939_6854543185123423263_n.jpg
ORGANIZER;CN="Wicked Warrens Jamestown":MAILTO:info@wickedwarrens.com
END:VEVENT
END:VCALENDAR