BEGIN:VCALENDAR
VERSION:2.0
PRODID:-//My CHQ - ECPv6.15.20//NONSGML v1.0//EN
CALSCALE:GREGORIAN
METHOD:PUBLISH
X-WR-CALNAME:My CHQ
X-ORIGINAL-URL:https://mychq.org
X-WR-CALDESC:Events for My CHQ
REFRESH-INTERVAL;VALUE=DURATION:PT1H
X-Robots-Tag:noindex
X-PUBLISHED-TTL:PT1H
BEGIN:VTIMEZONE
TZID:America/New_York
BEGIN:DAYLIGHT
TZOFFSETFROM:-0500
TZOFFSETTO:-0400
TZNAME:EDT
DTSTART:20250309T070000
END:DAYLIGHT
BEGIN:STANDARD
TZOFFSETFROM:-0400
TZOFFSETTO:-0500
TZNAME:EST
DTSTART:20251102T060000
END:STANDARD
BEGIN:DAYLIGHT
TZOFFSETFROM:-0500
TZOFFSETTO:-0400
TZNAME:EDT
DTSTART:20260308T070000
END:DAYLIGHT
BEGIN:STANDARD
TZOFFSETFROM:-0400
TZOFFSETTO:-0500
TZNAME:EST
DTSTART:20261101T060000
END:STANDARD
BEGIN:DAYLIGHT
TZOFFSETFROM:-0500
TZOFFSETTO:-0400
TZNAME:EDT
DTSTART:20270314T070000
END:DAYLIGHT
BEGIN:STANDARD
TZOFFSETFROM:-0400
TZOFFSETTO:-0500
TZNAME:EST
DTSTART:20271107T060000
END:STANDARD
END:VTIMEZONE
BEGIN:VEVENT
DTSTART;TZID=America/New_York:20260422T090000
DTEND;TZID=America/New_York:20260422T170000
DTSTAMP:20260422T063455
CREATED:20260413T224540Z
LAST-MODIFIED:20260413T224540Z
UID:10028093-1776848400-1776877200@mychq.org
SUMMARY:Patron Appreciation Day
DESCRIPTION:Please join us to celebrate you!We appreciate all of our patrons for keeping us as a pilar to the Falconer Community. We want to show our gratitude with Treats and Raffles. You can Meet some of our Library Board Members and sign-up for a library card.
URL:https://mychq.org/event/patron-appreciation-day/
LOCATION:Falconer Public Library\, 101 W Main St\, Falconer\, 14733\, United States
CATEGORIES:Library
ATTACH;FMTTYPE=image/jpeg:https://mychq.org/wp-content/uploads/2026/04/669038350_1230582555933732_4671450442527612362_n.jpg
ORGANIZER;CN="Falconer Public Library":MAILTO:director@falconerlibrary.org
END:VEVENT
BEGIN:VEVENT
DTSTART;TZID=America/New_York:20260422T090000
DTEND;TZID=America/New_York:20260422T190000
DTSTAMP:20260422T063455
CREATED:20251230T180751Z
LAST-MODIFIED:20251230T180751Z
UID:10023923-1776848400-1776884400@mychq.org
SUMMARY:2026 Earth Day Tree Donation Event
DESCRIPTION:Join us on Earth Day for a Tree Donation Event. Inspire Good of WNY\, INC. will a have a select amount of native trees on hand to give out in honor of Earth Day. Trees are important to our community so make sure you save the date to pick up yours. \nMore details to come soon.
URL:https://mychq.org/event/2026-earth-day-tree-donation-event/
LOCATION:Village of Mayville\, Mayville\, 14757\, United States
CATEGORIES:Outdoors & Nature
ATTACH;FMTTYPE=image/jpeg:https://mychq.org/wp-content/uploads/2025/12/557853498_789633607152527_4213514771942142706_n.jpg
ORGANIZER;CN="Inspire Good of WNY":MAILTO:connectingyou716@gmail.com
END:VEVENT
BEGIN:VEVENT
DTSTART;TZID=America/New_York:20260422T100000
DTEND;TZID=America/New_York:20260422T104500
DTSTAMP:20260422T063455
CREATED:20250910T140852Z
LAST-MODIFIED:20250910T140852Z
UID:10021216-1776852000-1776854700@mychq.org
SUMMARY:Toddler Story Time
DESCRIPTION:Join us for another fun year of Toddler StoryTime\, starting this Wednesday\, September 10th! No need to sign up – just show up!
URL:https://mychq.org/event/toddler-story-time-2/2026-04-22/
LOCATION:Bemus Point Library\, 13 Main St\, Bemus Point\, 14712\, United States
CATEGORIES:Library
ATTACH;FMTTYPE=image/jpeg:https://mychq.org/wp-content/uploads/2025/09/545823098_1220162760151079_7930549272678232507_n.jpg
ORGANIZER;CN="Bemus Point Library":MAILTO:director@bemuspointlibrary.org
END:VEVENT
BEGIN:VEVENT
DTSTART;TZID=America/New_York:20260422T100000
DTEND;TZID=America/New_York:20260422T120000
DTSTAMP:20260422T063455
CREATED:20250904T153300Z
LAST-MODIFIED:20250904T153300Z
UID:10021069-1776852000-1776859200@mychq.org
SUMMARY:Knitting & Crochet Group
DESCRIPTION:Looking for a relaxing way to connect with others who love fiber arts? Join us every 4th Wednesday from 10 am – 12 pm for our Knitting & Crochet Group—a welcoming space where adults can work on personal projects\, share tips\, and enjoy great conversation. Bring your own yarn and tools\, settle in\, and stitch at your own pace while making new connections in a cozy\, creative setting. All skill levels are welcome!
URL:https://mychq.org/event/knitting-crochet-group-2/2026-04-22/
LOCATION:Lakewood Memorial Library\, 12 West Summit St\, Lakewood\, 14750\, United States
CATEGORIES:Library
ATTACH;FMTTYPE=image/jpeg:https://mychq.org/wp-content/uploads/2025/09/536276483_1198131219017571_2843641241653341189_n.jpg
ORGANIZER;CN="Lakewood Memorial Library":MAILTO:info@lakewoodlibrary.org
END:VEVENT
BEGIN:VEVENT
DTSTART;TZID=America/New_York:20260422T100000
DTEND;TZID=America/New_York:20260422T140000
DTSTAMP:20260422T063455
CREATED:20260414T153449Z
LAST-MODIFIED:20260414T153449Z
UID:10028108-1776852000-1776866400@mychq.org
SUMMARY:JOB FAIR & OPEN INTERVIEWS
DESCRIPTION: JOB FAIR & OPEN INTERVIEWS – JOIN US!  \nLooking for your next opportunity? Infinity Resources is hosting a Job Fair and Open Interviews at our Jamestown office — and we’re hiring for multiple manufacturing positions across the region! \n Wednesday\, April 22nd 10:00 AM – 2:00 PM Infinity Resources – Jamestown Office2 East 4th St.Jamestown\, NY 14701 \n Now Hiring for Positions in Jamestown\, Warren & Corry\, PA:• Press Operators• Packing/Assembly• Grinders• Laser Machine Operators• MIG/TIG Welders• Sheet Metal QC Tech• And more! \n Why Work with Infinity Resources?• Immediate Openings• Entry-Level & Experienced Positions Available• Training Provided• Weekly Paychecks• Competitive Wages• Free Transportation to Select Job Sites \n Call Today for More Info: (716) 708-6745 Apply Online: www.infinity.jobs \n Don’t miss your chance to start a new career — stop in\, interview\, and get working fast! Bring a friend and spread the word!
URL:https://mychq.org/event/job-fair-open-interviews/
LOCATION:Infinity Resources Jamestown\, 2 E 4th St\, Jamestown\, 14701\, United States
CATEGORIES:Job Search & Employment
ATTACH;FMTTYPE=image/jpeg:https://mychq.org/wp-content/uploads/2026/04/669300087_1490642196180886_8534177187777067137_n.jpg
END:VEVENT
BEGIN:VEVENT
DTSTART;TZID=America/New_York:20260422T103000
DTEND;TZID=America/New_York:20260422T110000
DTSTAMP:20260422T063455
CREATED:20260107T180826Z
LAST-MODIFIED:20260107T180826Z
UID:10023995-1776853800-1776855600@mychq.org
SUMMARY:Baby Talk @ Sinclairville Free Library
DESCRIPTION:Miss Jessica’s baby story time program\, “BABY TALK”!!! \nBabies enjoy some time playing with their peers in our Children’s Room. Babies will gain the building blocks to early literacy through talking\, singing\, reading and playing. \nFor ages birth to 2 years old. \nSongs\, Bounces\, Stories\, Read-Alongs and Play!!! \nRegistration is Currently CLOSED \nRegister to be added to our waiting listCall 716.962.5885 or visit https://sinclairvillelibrary.org/event-or-program…/
URL:https://mychq.org/event/baby-talk-sinclairville-free-library/2026-04-22/
LOCATION:Sinclairville Free Library\, 15 Main St\, Sinclairville\, 14782\, United States
CATEGORIES:Library
ATTACH;FMTTYPE=image/jpeg:https://mychq.org/wp-content/uploads/2026/01/611248436_1295306212639794_6076028806050716117_n.jpg
ORGANIZER;CN="Sinclairville Free Library":MAILTO:info@sinclairvillelibrary.org
END:VEVENT
BEGIN:VEVENT
DTSTART;TZID=America/New_York:20260422T110000
DTEND;TZID=America/New_York:20260422T140000
DTSTAMP:20260422T063455
CREATED:20260420T200127Z
LAST-MODIFIED:20260420T200127Z
UID:10028280-1776855600-1776866400@mychq.org
SUMMARY:2026 Earth Day Expo & Farmer's Market
DESCRIPTION:This Wednesday\, April 22\, We’ll be at Fredonia celebrating Earth Daywith other Earth-friendly organizations and people. Come on out to learn more about all of the incredible work happening in our region and how you can be a part of it.
URL:https://mychq.org/event/2026-earth-day-expo-farmers-market/
LOCATION:SUNY Fredonia | Williams Center\, 280 Central Ave.\, Fredonia\, NY\, 14063\, United States
CATEGORIES:Markets & Yard Sales
ATTACH;FMTTYPE=image/jpeg:https://mychq.org/wp-content/uploads/2026/04/672672817_1504163365073080_5468462017620807842_n.jpg
END:VEVENT
BEGIN:VEVENT
DTSTART;TZID=America/New_York:20260422T120000
DTEND;TZID=America/New_York:20260422T130000
DTSTAMP:20260422T063455
CREATED:20260406T155039Z
LAST-MODIFIED:20260406T155039Z
UID:10027717-1776859200-1776862800@mychq.org
SUMMARY:Lunch Hour Zoom with WNY Whole Body Health
DESCRIPTION:Have you ever wondered what exactly we do and how targeted nutrition can help you? \nJoin us for a free lunch hour zoom meet & greet to get to know our practitioners\, how we work with clients and how nutrition-based care can help uncover the root causes of fatigue\, hormone imbalance\, digestive issues\, stubborn weight\, inflammation\, and more. \nYou’ll learn how Nutrition Response Testing works\, how your body communicates its needs\, and how targeted whole-food nutrition can help restore balance naturally. \nThis event is perfect for anyone who is curious about natural health\, feels “off” but hasn’t found answers\, or simply wants to understand their body on a deeper level. \nCome explore how food can become your most powerful tool for healing – and what’s possible when your body is given exactly what it needs. \nThis is a free community workshop. All are welcome! DM / Call / Message with your name\, phone number and email to attend. Phone: (716) 665-5015 / Email: wnywbh@gmail.com Zoom links will be sent the day of the workshop.
URL:https://mychq.org/event/lunch-hour-zoom-with-wny-whole-body-health/
LOCATION:Online Event
CATEGORIES:Health & Care
ATTACH;FMTTYPE=image/jpeg:https://mychq.org/wp-content/uploads/2026/04/662539087_1428874442369740_886492779824445372_n.jpg
ORGANIZER;CN="WNY Whole Body Health":MAILTO:wnywbh@gmail.com
END:VEVENT
BEGIN:VEVENT
DTSTART;TZID=America/New_York:20260422T120000
DTEND;TZID=America/New_York:20260422T180000
DTSTAMP:20260422T063455
CREATED:20260326T200931Z
LAST-MODIFIED:20260326T200931Z
UID:10027581-1776859200-1776880800@mychq.org
SUMMARY:Wellness Wednesday @ Mystic Crossroads
DESCRIPTION: Wellness Wednesday Wash away stagnant energy\, realign your flow\, and step into your power! \nJoin us for an afternoon of mini energy sessions designed to refresh your spirit and restore balance. \nMini Sessions Offered throughout the day: Aura Cleansing — $5Gently clear and refresh your energetic field. \n Sound Bath — $20Relax deeply with soothing vibrational healing. \n Chakra Balancing — $20Realign your energy centers and bring harmony back to body and soul. \nCome for one or experience them all — your energy will thank you We can’t wait to see you there! \nNo appointments necessary! Walk-ins welcome! \n Every Wednesday 12 PM – 6 PM Mystic Crossroads17 S Main Street\, Cassadaga
URL:https://mychq.org/event/wellness-wednesday-mystic-crossroads/2026-04-22/
LOCATION:Mystic Crossroads\, 17 South Main St\, Cassadaga\, 14718\, United States
CATEGORIES:Health & Care
ATTACH;FMTTYPE=image/jpeg:https://mychq.org/wp-content/uploads/2026/03/651166282_1564781482314467_5840357249540959844_n.jpg
END:VEVENT
BEGIN:VEVENT
DTSTART;TZID=America/New_York:20260422T130000
DTEND;TZID=America/New_York:20260422T140000
DTSTAMP:20260422T063455
CREATED:20260107T180954Z
LAST-MODIFIED:20260107T180954Z
UID:10024047-1776862800-1776866400@mychq.org
SUMMARY:Story Hour @ Sinclairville Free Library
DESCRIPTION:Come and spend some time with Miss Jessica and all her little library friends. You never know when it will be a Play-Doh Day!!! \nChildren will gain the building blocks to early literacy through talking\, singing\, reading\, writing\, and playing. \nFor ages 2 years old (toddler) to preschool.Participate in stories\, songs & learning. Craft or activity for extended learning. \nEach month will feature a new letter to help our littles learn their letters \nRegistration is Required. \nhttps://sinclairvillelibrary.org/event-or-program…/
URL:https://mychq.org/event/story-hour-sinclairville-free-library/2026-04-22/
LOCATION:Sinclairville Free Library\, 15 Main St\, Sinclairville\, 14782\, United States
CATEGORIES:Library
ATTACH;FMTTYPE=image/jpeg:https://mychq.org/wp-content/uploads/2025/08/518402236_1175637027940047_5604358785897967825_n.jpg
ORGANIZER;CN="Sinclairville Free Library":MAILTO:info@sinclairvillelibrary.org
END:VEVENT
BEGIN:VEVENT
DTSTART;TZID=America/New_York:20260422T140000
DTEND;TZID=America/New_York:20260422T150000
DTSTAMP:20260422T063455
CREATED:20250724T155806Z
LAST-MODIFIED:20250724T155806Z
UID:10019982-1776866400-1776870000@mychq.org
SUMMARY:Psych 101 | Mental Health Association in Chautauqua County
DESCRIPTION:Join us every Wednesday in Jamestown!
URL:https://mychq.org/event/psych-101-mental-health-association-in-chautauqua-county/2026-04-22/
LOCATION:Mental Health Association in Chautauqua County\, 31 Water St Ste 7\, Jamestown\, 14701\, United States
CATEGORIES:Support Groups
ATTACH;FMTTYPE=image/jpeg:https://mychq.org/wp-content/uploads/2025/07/515438770_1444438203777148_6417905403390402714_n.jpg
ORGANIZER;CN="Mental Health Association in Chautauqua County":MAILTO:info@mhachautauqua.org
END:VEVENT
BEGIN:VEVENT
DTSTART;TZID=America/New_York:20260422T150000
DTEND;TZID=America/New_York:20260422T163000
DTSTAMP:20260422T063455
CREATED:20260223T170459Z
LAST-MODIFIED:20260223T170459Z
UID:10025564-1776870000-1776875400@mychq.org
SUMMARY:James Prendergast Library MakerSpace
DESCRIPTION:Makerspace is available for open play Monday & Saturday from 10:30-3:30 and Tuesday through Friday 3:00-4:30. Impromptu use may be available at other times; ask the staff member at the information desk if Makerspace can be opened. Children under 8 must be accompanied by an adult at all times in the Makerspace.
URL:https://mychq.org/event/james-prendergast-library-makerspace-2/2026-04-22/
LOCATION:James Prendergast Library\, 509 Cherry St.\, Jamestown\, 14701\, United States
CATEGORIES:Library
ATTACH;FMTTYPE=image/jpeg:https://mychq.org/wp-content/uploads/2026/02/622842660_1348808927287742_9045029354605477558_n.jpg
ORGANIZER;CN="James Prendergast Library":MAILTO:info@prendergastlibrary.org
END:VEVENT
BEGIN:VEVENT
DTSTART;TZID=America/New_York:20260422T150000
DTEND;TZID=America/New_York:20260422T190000
DTSTAMP:20260422T063455
CREATED:20260322T185227Z
LAST-MODIFIED:20260322T185227Z
UID:10027434-1776870000-1776884400@mychq.org
SUMMARY:Back-To-Earth Week
DESCRIPTION:Celebrate Earth Week with us during our Back-to-Earth Week\, happening April 21–25\, 2026  \n A full lineup of fun\, hands-on\, and feel-good events designed to bring our community together while taking a minute to pause and be present before summer chaos. \nKick things off Tuesday with Planet Earth Trivia – a lively night of trivia themed around nature\, sustainability\, animals\, and environmental pop culture. \nOn Wednesday\, join us for a Plant Swap Happy Hour! Bring a plant (or cutting) and trade with fellow plant lovers while enjoying a drink or bite to eat. \nThursday\, get creative at Paint a Pot Night\, where you’ll design your own terracotta pot with all supplies provided (plus plants available for purchase from a local business). \nThen wrap up the week on Friday & Saturday with Buy One\, Plant One! We’ll donate to plant a tree for every food or drink special purchased. Treat yourself and help us grow a forest  \nCome for one event or stay for them all. Let’s get back to earth together.
URL:https://mychq.org/event/back-to-earth-week/2026-04-22/
LOCATION:Brazil Lounge\, 10 East 4th St.\, Jamestown\, NY\, 14701\, United States
CATEGORIES:Outdoors & Nature
ATTACH;FMTTYPE=image/jpeg:https://mychq.org/wp-content/uploads/2026/03/655114260_1476185304506540_7588652332619627748_n.jpg
END:VEVENT
BEGIN:VEVENT
DTSTART;TZID=America/New_York:20260422T150000
DTEND;TZID=America/New_York:20260422T190000
DTSTAMP:20260422T063455
CREATED:20260420T150521Z
LAST-MODIFIED:20260420T150521Z
UID:10028243-1776870000-1776884400@mychq.org
SUMMARY:Plant Swap!
DESCRIPTION:Bring your plant(s) or cutting(s) to swap while enjoying our full Labyrinth and Brazil menus!
URL:https://mychq.org/event/plant-swap-2/
LOCATION:Brazil Lounge\, 10 East 4th St.\, Jamestown\, NY\, 14701\, United States
CATEGORIES:Markets & Yard Sales
ATTACH;FMTTYPE=image/jpeg:https://mychq.org/wp-content/uploads/2026/04/plant-swap.jpg
ORGANIZER;CN="Brazil Lounge":MAILTO:alex@brazil-jamestown.com
END:VEVENT
BEGIN:VEVENT
DTSTART;TZID=America/New_York:20260422T163000
DTEND;TZID=America/New_York:20260422T173000
DTSTAMP:20260422T063455
CREATED:20260413T224800Z
LAST-MODIFIED:20260413T224800Z
UID:10028095-1776875400-1776879000@mychq.org
SUMMARY:Seymour Library Alzheimer's Series - Chair Yoga with Isiss Pratz
DESCRIPTION:The Seymour library\, both locations\, will have monthly sessions for caregivers and those with Alzheimer’s. April’s session will feature chair yoga with Isiss Pratt\, Clinical Nutrition and Qi Gong practitioner at Cassadaga Library Branch\, on Wednesday\, April 22 at 4:30 PM.Please RSVP to: Info@stocktonlibraries.org. Like & share to spread the word! \nBio: Isiss Pratz\, and I am passionate about helping others heal themselves through natural approaches\, the way nature intended. I am an advanced practitioner of Nutrition Response Testing and also a certified Yoga and Qigong instructor. I like to assist people on a path to true health through nutrition and movement. In our class\, we will go through a gentle movement and stretching to open the body and calm the mind with different breathing techniques. I believe long-lasting health is only obtainable on our own\, not through any other being. So\, teaching others about the body and all the things it is capable of is crucial for self-healing! \nImage for those with devices to read to them: Picture of the chair yoga instructor Isiss Pratz.
URL:https://mychq.org/event/seymour-library-alzheimers-series-chair-yoga-with-isiss-pratz/
LOCATION:Cassadaga Library\, 18 Maple Ave\, Cassadaga\, 14718\, United States
CATEGORIES:Library
ATTACH;FMTTYPE=image/jpeg:https://mychq.org/wp-content/uploads/2026/04/657549854_1388304106658074_682305626591956309_n.jpg
ORGANIZER;CN="Stockton & Cassadaga Libraries":MAILTO:director@stocktonlibraries.org
END:VEVENT
BEGIN:VEVENT
DTSTART;TZID=America/New_York:20260422T170000
DTEND;TZID=America/New_York:20260422T190000
DTSTAMP:20260422T063455
CREATED:20260327T192424Z
LAST-MODIFIED:20260327T192424Z
UID:10027605-1776877200-1776884400@mychq.org
SUMMARY:Family Movie Night: The Spongebob Movie
DESCRIPTION:Join us for Family Movie Night as we watch The SpongeBob Movie: Search for SquarePants! Bring the whole family and enjoy a fun evening on Wednesday\, April 22 from 5:00–7:00 PM. Fresh popcorn and drinks will be provided—just come ready to relax and enjoy the show!
URL:https://mychq.org/event/family-movie-night-the-spongebob-movie/
LOCATION:Lakewood Memorial Library\, 12 West Summit St\, Lakewood\, 14750\, United States
CATEGORIES:Library
ATTACH;FMTTYPE=image/jpeg:https://mychq.org/wp-content/uploads/2026/03/657400343_1370047521825939_8633381121969364455_n.jpg
ORGANIZER;CN="Lakewood Memorial Library":MAILTO:info@lakewoodlibrary.org
END:VEVENT
BEGIN:VEVENT
DTSTART;TZID=America/New_York:20260422T173000
DTEND;TZID=America/New_York:20260422T183000
DTSTAMP:20260422T063455
CREATED:20260223T170838Z
LAST-MODIFIED:20260223T170838Z
UID:10026576-1776879000-1776882600@mychq.org
SUMMARY:Soothing Dual Sound Bath
DESCRIPTION:Lesbian Visibility Week is April 20–26  \n\n\nJoin Sacred Grounds Coffeehouse in Lily Dale\, NY for a Soothing Dual Sound Bath with Nancy Lombardo and Ashley Wilson on Wednesday\, April 22nd to celebrate lesbian and queer women’s visibility\, culture\, and community! \n\n\nWhere: Assembly Hall at 5:30pm \n\n\nSeating is limited! Please register with Sacred Grounds by April 20themail sacredgroundsld@gmail.com \nLearn more at: LesbianVisibility.org
URL:https://mychq.org/event/soothing-dual-sound-bath/
LOCATION:Lily Dale Assembly\, Inc.\, 5 Melrose Park\, Lily Dale\, 14752\, United States
CATEGORIES:LGBTQ+
ATTACH;FMTTYPE=image/jpeg:https://mychq.org/wp-content/uploads/2026/02/640915063_1630605501229077_2413478834713758455_n.jpg
ORGANIZER;CN="Sacred Grounds Coffee House":MAILTO:sacredgroundsld@gmail.com
END:VEVENT
BEGIN:VEVENT
DTSTART;TZID=America/New_York:20260422T173000
DTEND;TZID=America/New_York:20260422T183000
DTSTAMP:20260422T063455
CREATED:20260325T151129Z
LAST-MODIFIED:20260325T151129Z
UID:10027492-1776879000-1776882600@mychq.org
SUMMARY:Meet & Make #2 - Needle Felting
DESCRIPTION:Patrons 14 and older are invited to join us for free\, semimonthly specialty crafting programming. This month\, learn how to create 2D or 3D shapes using specialized barbed needles to mesh loose wool fibers! \nNo registration is required for this free program.
URL:https://mychq.org/event/meet-make-2-needle-felting/
LOCATION:James Prendergast Library\, 509 Cherry St.\, Jamestown\, 14701\, United States
CATEGORIES:Library
ATTACH;FMTTYPE=image/jpeg:https://mychq.org/wp-content/uploads/2026/03/657414251_1397215095780458_5910803390710991988_n.jpg
ORGANIZER;CN="James Prendergast Library":MAILTO:info@prendergastlibrary.org
END:VEVENT
BEGIN:VEVENT
DTSTART;TZID=America/New_York:20260422T173000
DTEND;TZID=America/New_York:20260422T193000
DTSTAMP:20260422T063455
CREATED:20260325T162138Z
LAST-MODIFIED:20260325T162138Z
UID:10027522-1776879000-1776886200@mychq.org
SUMMARY:Learn MahJong @ Ashville Library
DESCRIPTION:A new chance to learn MahJong is now open! We are offering a 4-Class Session starting in April (plan to attend all 4 classes). Dates and time are: April 22\, 29\, May 6 and May 13 from 5:30-7:30 pm Registration is required\, and there will be a cap on attendees\, so sign up now! You can call us\, email us\, FB or Insta Message us\, or come to the library and sign up in person! This is a free event!
URL:https://mychq.org/event/learn-mahjong-ashville-library/2026-04-22/
LOCATION:Ashville Library\, 2200 N Maple Ave\, Ashville\, 14710\, United States
CATEGORIES:Library
ATTACH;FMTTYPE=image/jpeg:https://mychq.org/wp-content/uploads/2026/03/655278997_1408512474639114_121494848819212682_n.jpg
ORGANIZER;CN="Ashville Library":MAILTO:director@ashvillelibrary.com
END:VEVENT
BEGIN:VEVENT
DTSTART;TZID=America/New_York:20260422T180000
DTEND;TZID=America/New_York:20260422T193000
DTSTAMP:20260422T063455
CREATED:20251218T161945Z
LAST-MODIFIED:20251218T161945Z
UID:10023651-1776880800-1776886200@mychq.org
SUMMARY:The Amazing Bubble Factory Live
DESCRIPTION:Buy Tickets:https://reglenna.com/events/amazing-bubble-factory \nThe Amazing Bubble Factory brings the amazing art of bubbles to life right in front of the audience’s eyes! A self proclaimed Bubbleologist\, Jamie’s brand of humor and showmanship both excites and entertains the crowd as he creates thousands of bubbles. Producing bubbles from the size of a pea to the size of a minivan\, The Amazing Bubble Factory makes a product that lightens the heart and brings everyone back to their childhood. \nSponsored by Northwest Bank.
URL:https://mychq.org/event/the-amazing-bubble-factory-live/
LOCATION:Reg Lenna Center For The Arts\, 116 E 3rd St.\, Jamestown\, NY\, 14701\, United States
CATEGORIES:Kids & Family
ATTACH;FMTTYPE=image/jpeg:https://mychq.org/wp-content/uploads/2025/12/597469780_1430858422045323_5135060511374825685_n.jpg
ORGANIZER;CN="Reg Lenna Center For The Arts":MAILTO:info@reglenna.com
END:VEVENT
BEGIN:VEVENT
DTSTART;TZID=America/New_York:20260422T180000
DTEND;TZID=America/New_York:20260422T193000
DTSTAMP:20260422T063455
CREATED:20260420T154225Z
LAST-MODIFIED:20260420T154225Z
UID:10028275-1776880800-1776886200@mychq.org
SUMMARY:Jamestown PRIDE Community Planning Meeting
DESCRIPTION:Community meeting and input session. We still need your help to plan out annuial Pride Festival 2026. Before after or during the meeting order food and beverages from the ‘Knights” kitchen. Get updates on all the events planned. See where you can volunteer. \nThis is also a great opportunity to connect with our local queer LGBTQIA+ community and all of our allies.
URL:https://mychq.org/event/jamestown-pride-community-planning-meeting/
LOCATION:Knights of the Enchanted Dreams\, 104 W 2nd St\, Jamestown\, 14701\, United States
CATEGORIES:LGBTQ+
ATTACH;FMTTYPE=image/jpeg:https://mychq.org/wp-content/uploads/2026/04/674197809_1299955288901191_5164784585526307237_n.jpg
ORGANIZER;CN="Jamestown Pride":MAILTO:info@JamestownPride.org
END:VEVENT
BEGIN:VEVENT
DTSTART;TZID=America/New_York:20260422T180000
DTEND;TZID=America/New_York:20260422T200000
DTSTAMP:20260422T063455
CREATED:20260331T163133Z
LAST-MODIFIED:20260331T163133Z
UID:10027635-1776880800-1776888000@mychq.org
SUMMARY:Paint & Sip Night with Artist Kristina Clark
DESCRIPTION: Paint & Sip Night with Artist Kristina Clark! Join us for a fun\, beginner-friendly 11×14 step-by-step painting class led by local artist Kristina Clark. \n Time: 6:00 PM Cost: $30 (cash to instructor at the event) Level: Beginner-friendly \n Make a night of it!Come early and grab a bite before class — enjoy select half-off appetizers at the bar and Happy Hour from 4–6 PM\, featuring half-off draft beer and $4 house wine. Please be ready to paint by 6:00pm! \n Reservations are required.To reserve your spot\, text your name\, number of people in your party\, venue name\, and phone number to Kristina Clark at 716-499-4226. \nCome sip\, paint\, and unwind with us at The Chop House on Main! \nYou Deserve It!
URL:https://mychq.org/event/paint-sip-night-with-artist-kristina-clark-4/
LOCATION:The Chop House on Main\, 2 E 2nd St\, Jamestown\, 14701\, United States
CATEGORIES:Arts & Antiques
ATTACH;FMTTYPE=image/jpeg:https://mychq.org/wp-content/uploads/2026/03/658198774_1596706569129891_6032894788121013020_n.jpg
ORGANIZER;CN="The Chop House on Main":MAILTO:Chophousemain@gmail.com
END:VEVENT
BEGIN:VEVENT
DTSTART;TZID=America/New_York:20260422T180000
DTEND;TZID=America/New_York:20260422T200000
DTSTAMP:20260422T063455
CREATED:20260406T162338Z
LAST-MODIFIED:20260406T162338Z
UID:10027730-1776880800-1776888000@mychq.org
SUMMARY:Pressed Flower Tabletop Lantern
DESCRIPTION:Get ready to create a glowing\, functional\, piece of art in this tabletop lantern class. With step-by-step support\, we will use dowel rods\, wax paper\, and real pressed flowers and greenery to make our glowing lanterns. All supplies included\, just bring your creativity! \n$15 plus tax \nREGISTER FOR A CLASS-• CALL KRISTEN AT (716) 661-4800 EXT. 20008 OR EMAIL KRISTEN.FARMER@RESOURCECENTER.ORG• PAYMENT PLUS TAX IS DUE AT CLASS (CARD AND CASH PAYMENT ACCEPTED)• CLASSES ARE TAUGHT BY SUSAN GUTIERREZ AT THE KEYBANK ART HOUSE AT EDGEWATER.• 712 WEST 8TH STREET JAMESTOWN\, NY 14701 (716) 661-1016 EXT. 30020• NO EXPERIENCE NECESSARY AND ALL SUPPLIES INCLUDED WITH CLASS FEE
URL:https://mychq.org/event/pressed-flower-tabletop-lantern/
LOCATION:Art House at Edgewater\, 712 W 8th St\, Jamestown\, 14701\, United States
CATEGORIES:Arts & Antiques
ATTACH;FMTTYPE=image/jpeg:https://mychq.org/wp-content/uploads/2026/01/615817679_122166127292874494_8574396798990807089_n.jpg
END:VEVENT
BEGIN:VEVENT
DTSTART;TZID=America/New_York:20260422T183000
DTEND;TZID=America/New_York:20260422T193000
DTSTAMP:20260422T063455
CREATED:20260406T163014Z
LAST-MODIFIED:20260406T163014Z
UID:10027735-1776882600-1776886200@mychq.org
SUMMARY:Hatha-Vinyasa Yoga (All Ages)
DESCRIPTION:This mindful Hatha-Vinyasa Yoga class with Sukanya offers a harmonious blend of flowing sequences and held poses. Each session begins with breathwork and warm-ups\, progresses through sun salutations and vinyasa flows\, and concludes with cooling stretches and a restful Savasana. With an emphasis on alignment for joint safety\, prop use\, balance\, and strength\, this class is designed to promote relaxation and mindful movement. Open to all levels! \nFor multiple classes\, we offer a variety of “Class Pass” options. To purchase\, visit:https://www.zeffy.com/…/ea35ef3e-2fba-4aa4-b00e…
URL:https://mychq.org/event/hatha-vinyasa-yoga-all-ages/2026-04-22/
LOCATION:Sukanya Burman Dance\, 106 E. 2nd St.\, Jamestown\, 14701\, United States
CATEGORIES:Health & Care
ATTACH;FMTTYPE=image/jpeg:https://mychq.org/wp-content/uploads/2026/04/659025328_1507010081428174_55661898415456957_n.jpg
ORGANIZER;CN="Sukanya Burman Dance":MAILTO:info@sukanyaburman.com
END:VEVENT
END:VCALENDAR