BEGIN:VCALENDAR
VERSION:2.0
PRODID:-//My CHQ - ECPv6.15.20//NONSGML v1.0//EN
CALSCALE:GREGORIAN
METHOD:PUBLISH
X-WR-CALNAME:My CHQ
X-ORIGINAL-URL:https://mychq.org
X-WR-CALDESC:Events for My CHQ
REFRESH-INTERVAL;VALUE=DURATION:PT1H
X-Robots-Tag:noindex
X-PUBLISHED-TTL:PT1H
BEGIN:VTIMEZONE
TZID:America/New_York
BEGIN:DAYLIGHT
TZOFFSETFROM:-0500
TZOFFSETTO:-0400
TZNAME:EDT
DTSTART:20250309T070000
END:DAYLIGHT
BEGIN:STANDARD
TZOFFSETFROM:-0400
TZOFFSETTO:-0500
TZNAME:EST
DTSTART:20251102T060000
END:STANDARD
BEGIN:DAYLIGHT
TZOFFSETFROM:-0500
TZOFFSETTO:-0400
TZNAME:EDT
DTSTART:20260308T070000
END:DAYLIGHT
BEGIN:STANDARD
TZOFFSETFROM:-0400
TZOFFSETTO:-0500
TZNAME:EST
DTSTART:20261101T060000
END:STANDARD
BEGIN:DAYLIGHT
TZOFFSETFROM:-0500
TZOFFSETTO:-0400
TZNAME:EDT
DTSTART:20270314T070000
END:DAYLIGHT
BEGIN:STANDARD
TZOFFSETFROM:-0400
TZOFFSETTO:-0500
TZNAME:EST
DTSTART:20271107T060000
END:STANDARD
END:VTIMEZONE
BEGIN:VEVENT
DTSTART;TZID=America/New_York:20260421T080000
DTEND;TZID=America/New_York:20260421T093000
DTSTAMP:20260421T054537
CREATED:20260227T201918Z
LAST-MODIFIED:20260227T201918Z
UID:10026824-1776758400-1776763800@mychq.org
SUMMARY:CHQ Chamber’s State of the County
DESCRIPTION:Join us for the CHQ Chamber’s State of the County event\, a breakfast gathering where community and business leaders come together to hear directly from Chautauqua County’s Executive. This year’s address will highlight the county’s accomplishments\, opportunities\, and priorities for the year ahead. \nFollowing the address\, there will be a moderated Q&A\, giving attendees the chance to ask questions and engage in meaningful discussion about the topics shared. \nEnjoy a morning of insight\, networking\, and conversation while staying informed about the direction of our county.
URL:https://mychq.org/event/chq-chambers-state-of-the-county/
LOCATION:Doubletree by Hilton\, 150 W 4th St\, Jamestown\, 14701\, United States
CATEGORIES:Speaker & Conventions
ATTACH;FMTTYPE=image/jpeg:https://mychq.org/wp-content/uploads/2026/02/644427978_1447215587433192_8697411843880777674_n.jpg
ORGANIZER;CN="CHQ Chamber":MAILTO:cswanson@chautauquachamber.org
END:VEVENT
BEGIN:VEVENT
DTSTART;TZID=America/New_York:20260421T100000
DTEND;TZID=America/New_York:20260421T120000
DTSTAMP:20260421T054537
CREATED:20260406T162258Z
LAST-MODIFIED:20260406T162258Z
UID:10027729-1776765600-1776772800@mychq.org
SUMMARY:Ceramic Bird Feeders
DESCRIPTION:This class will learn the basic techniques of hand building with clay to shape our bird feeders. We will discover different ways to add texture to the surf ace to make the bird feeders one-of-a kind. Roll up your sleeves and get ready to bring your imagination to life! \n$20 plus tax \nREGISTER FOR A CLASS-• CALL KRISTEN AT (716) 661-4800 EXT. 20008 OR EMAIL KRISTEN.FARMER@RESOURCECENTER.ORG• PAYMENT PLUS TAX IS DUE AT CLASS (CARD AND CASH PAYMENT ACCEPTED)• CLASSES ARE TAUGHT BY SUSAN GUTIERREZ AT THE KEYBANK ART HOUSE AT EDGEWATER.• 712 WEST 8TH STREET JAMESTOWN\, NY 14701 (716) 661-1016 EXT. 30020• NO EXPERIENCE NECESSARY AND ALL SUPPLIES INCLUDED WITH CLASS FEE
URL:https://mychq.org/event/ceramic-bird-feeders-2/
LOCATION:Art House at Edgewater\, 712 W 8th St\, Jamestown\, 14701\, United States
CATEGORIES:Arts & Antiques
ATTACH;FMTTYPE=image/jpeg:https://mychq.org/wp-content/uploads/2026/01/615817679_122166127292874494_8574396798990807089_n.jpg
END:VEVENT
BEGIN:VEVENT
DTSTART;TZID=America/New_York:20260421T103000
DTEND;TZID=America/New_York:20260421T110000
DTSTAMP:20260421T054537
CREATED:20260131T193214Z
LAST-MODIFIED:20260131T193214Z
UID:10024601-1776767400-1776769200@mychq.org
SUMMARY:Story Time @ The Lakewood Memorial Library
DESCRIPTION:We invite you and your little ones\, aged 2 to 5 years\, to Story Time\, where together we will explore new stories and themes every Tuesday and Friday at 10:30am. \nWe carefully curate a collection of age-appropriate tales that promises to transport children’s young minds to far-off lands and on extraordinary adventures. Through animated voices and interactive elements\, we aim to captivate even the most restless of imaginations. \nBeyond the joy of listening to stories\, these sessions offer many developmental benefits. By exposing your child to language-rich environments\, their vocabulary will expand\, language comprehension will improve\, and their cognitive abilities will flourish. \nThe social setting of story time encourages bonding with peers\, instilling early social skills and teaching valuable lessons in sharing and cooperation. \nAt the end of each session\, we welcome children to explore the fun offered in our children’s area from our diverse collection of children’s books to our interactive reading boat. So\, don’t miss out on this incredible experience for your child. Join us every Tuesday and Friday at 10:30am in the library gallery\, and together\, let’s sow the seeds of a lifelong love for literature and reading.
URL:https://mychq.org/event/story-time-the-lakewood-memorial-library/2026-04-21/
LOCATION:Lakewood Memorial Library\, 12 West Summit St\, Lakewood\, 14750\, United States
CATEGORIES:Library
ATTACH;FMTTYPE=image/jpeg:https://mychq.org/wp-content/uploads/2026/01/624349085_1323202073177151_5376087426269714149_n.jpg
ORGANIZER;CN="Lakewood Memorial Library":MAILTO:info@lakewoodlibrary.org
END:VEVENT
BEGIN:VEVENT
DTSTART;TZID=America/New_York:20260421T123000
DTEND;TZID=America/New_York:20260421T163000
DTSTAMP:20260421T054537
CREATED:20260413T205526Z
LAST-MODIFIED:20260413T205526Z
UID:10028086-1776774600-1776789000@mychq.org
SUMMARY:Dunkirk Community Cleanup Day 2026
DESCRIPTION:Come join Revitalize Dunkirk\, in collaboration with National Fuel’s Days of Doing\, as we clean up various areas of the city. Gloves\, trash bags\, and refreshments will be provided to all volunteers! We’ll be targeting the downtown\, parks\, and beaches. Rain date is April 23rd. \nIf you’re unable to join us\, we encourage you to make time that week to beautify your neighborhood in some way. Go on a walk and pick up trash along the way\, plant some flowers\, get creative! Every bit helps.
URL:https://mychq.org/event/dunkirk-community-cleanup-day-2026/
LOCATION:Dunkirk City Pier\, 8 Central Ave.\, Dunkirk\, 14048\, United States
CATEGORIES:Outdoors & Nature
ATTACH;FMTTYPE=image/jpeg:https://mychq.org/wp-content/uploads/2026/04/660925945_1371513581677420_8653836468619954522_n.jpg
ORGANIZER;CN="Revitalize Dunkirk":MAILTO:revitalizedunkirk@gmail.com
END:VEVENT
BEGIN:VEVENT
DTSTART;TZID=America/New_York:20260421T130000
DTEND;TZID=America/New_York:20260421T140000
DTSTAMP:20260421T054537
CREATED:20260206T193400Z
LAST-MODIFIED:20260206T193400Z
UID:10024770-1776776400-1776780000@mychq.org
SUMMARY:Cozy Crafters Club
DESCRIPTION:Meet\, greet\, and connect with fellow crafters in knitting\, crochet\, and embroidery. A patron led a weekly crafting club.
URL:https://mychq.org/event/cozy-crafters-club/2026-04-21/
LOCATION:Patterson Library\, 40 S Portage St\, Westfield\, 14787\, United States
CATEGORIES:Library
ATTACH;FMTTYPE=image/jpeg:https://mychq.org/wp-content/uploads/2026/02/622862954_1341724984660440_2106518228564197383_n.jpg
ORGANIZER;CN="Patterson Library":MAILTO:director@pattersonlib.org
END:VEVENT
BEGIN:VEVENT
DTSTART;TZID=America/New_York:20260421T130000
DTEND;TZID=America/New_York:20260421T140000
DTSTAMP:20260421T054537
CREATED:20260310T170628Z
LAST-MODIFIED:20260310T170628Z
UID:10027160-1776776400-1776780000@mychq.org
SUMMARY:Recognition Luncheon
DESCRIPTION:Join us as we recognize the achievements of our participants and staff. Free food and giveaways. All are welcome. Find us in the rear of the Gateway Center\, by the river.
URL:https://mychq.org/event/recognition-luncheon/2026-04-21/
LOCATION:Mental Health Association in Chautauqua County\, 31 Water St Ste 7\, Jamestown\, 14701\, United States
CATEGORIES:Food & Drink
ATTACH;FMTTYPE=image/jpeg:https://mychq.org/wp-content/uploads/2026/03/622458706_1612045667016400_515413147703868417_n.jpg
ORGANIZER;CN="Mental Health Association in Chautauqua County":MAILTO:info@mhachautauqua.org
END:VEVENT
BEGIN:VEVENT
DTSTART;TZID=America/New_York:20260421T130000
DTEND;TZID=America/New_York:20260421T160000
DTSTAMP:20260421T054537
CREATED:20260313T200415Z
LAST-MODIFIED:20260313T200415Z
UID:10027259-1776776400-1776787200@mychq.org
SUMMARY:AARP Safe Driving Course
DESCRIPTION:REFRESH YOUR DRIVING SKILLS WITH THE AARP SMART DRIVER COURSE Tuesday & Wednesday April 21 & 22 from 1-4pm.Registration required\, class size limited. Call to register: 716-287-2945. Must be able to attend both days. Payment in cash due on day of class.
URL:https://mychq.org/event/aarp-safe-driving-course/
LOCATION:Ellington Farman Library\, 760 Thornton Road PO Box 26\, Ellington\, 14723\, United States
CATEGORIES:Library
ATTACH;FMTTYPE=image/jpeg:https://mychq.org/wp-content/uploads/2026/03/650754677_1215366027471826_4240127482842290666_n.jpg
ORGANIZER;CN="Ellington Farman Library":MAILTO:info@ellingtonlibrary.org
END:VEVENT
BEGIN:VEVENT
DTSTART;TZID=America/New_York:20260421T150000
DTEND;TZID=America/New_York:20260421T160000
DTSTAMP:20260421T054537
CREATED:20260322T212751Z
LAST-MODIFIED:20260322T212751Z
UID:10027467-1776783600-1776787200@mychq.org
SUMMARY:Cooking with Chef Jim @ Patterson Library
DESCRIPTION:Cooking with Chef Jim of Wanderlust in Westfield is wonderful cooking demonstration with Chef Jim Powers. Each month on the third Tuesday of every month at 3pm Jim will demonstrate how to cook various dishes from around the world. March features Ireland\, followed by Chinese\, French\, and German.
URL:https://mychq.org/event/cooking-with-chef-jim-patterson-library/2026-04-21/
LOCATION:Patterson Library\, 40 S Portage St\, Westfield\, 14787\, United States
CATEGORIES:Library
ATTACH;FMTTYPE=image/jpeg:https://mychq.org/wp-content/uploads/2026/03/650967061_1378603687639236_4151528588121803454_n.jpg
ORGANIZER;CN="Patterson Library":MAILTO:director@pattersonlib.org
END:VEVENT
BEGIN:VEVENT
DTSTART;TZID=America/New_York:20260421T150000
DTEND;TZID=America/New_York:20260421T163000
DTSTAMP:20260421T054537
CREATED:20260223T170459Z
LAST-MODIFIED:20260223T170459Z
UID:10025563-1776783600-1776789000@mychq.org
SUMMARY:James Prendergast Library MakerSpace
DESCRIPTION:Makerspace is available for open play Monday & Saturday from 10:30-3:30 and Tuesday through Friday 3:00-4:30. Impromptu use may be available at other times; ask the staff member at the information desk if Makerspace can be opened. Children under 8 must be accompanied by an adult at all times in the Makerspace.
URL:https://mychq.org/event/james-prendergast-library-makerspace-2/2026-04-21/
LOCATION:James Prendergast Library\, 509 Cherry St.\, Jamestown\, 14701\, United States
CATEGORIES:Library
ATTACH;FMTTYPE=image/jpeg:https://mychq.org/wp-content/uploads/2026/02/622842660_1348808927287742_9045029354605477558_n.jpg
ORGANIZER;CN="James Prendergast Library":MAILTO:info@prendergastlibrary.org
END:VEVENT
BEGIN:VEVENT
DTSTART;TZID=America/New_York:20260421T160000
DTEND;TZID=America/New_York:20260421T170000
DTSTAMP:20260421T054537
CREATED:20250904T152947Z
LAST-MODIFIED:20250904T152947Z
UID:10021059-1776787200-1776790800@mychq.org
SUMMARY:LEGO Club
DESCRIPTION:Calling all LEGO lovers! Join us for our LEGO Club on the 1st and 3rd Tuesdays of each month! It’s the perfect place to let your imagination run wild as we create all kinds of fun LEGO creations together. Plus\, we’ll be decorating our very own LEGO wall with all your awesome builds! Perfect for ages 6-12\, come build with us!
URL:https://mychq.org/event/lego-club-3/2026-04-21/
LOCATION:Lakewood Memorial Library\, 12 West Summit St\, Lakewood\, 14750\, United States
CATEGORIES:Library
ATTACH;FMTTYPE=image/jpeg:https://mychq.org/wp-content/uploads/2025/09/535908355_1198126952351331_7328372705339178899_n.jpg
ORGANIZER;CN="Lakewood Memorial Library":MAILTO:info@lakewoodlibrary.org
END:VEVENT
BEGIN:VEVENT
DTSTART;TZID=America/New_York:20260421T170000
DTEND;TZID=America/New_York:20260421T200000
DTSTAMP:20260421T054537
CREATED:20260330T135652Z
LAST-MODIFIED:20260330T135652Z
UID:10027607-1776790800-1776801600@mychq.org
SUMMARY:Guppy's Fundraiser for Chautauqua Youth Symphony
DESCRIPTION:Giving Back—Almost 20 Years Strong  \n\nFor nearly 20 years\, we’ve been proud to support our local community—everything from schools and benefits to special events. And this one is especially close to our hearts. \nJoin us on April 21st as we host a fundraiser for the Chautauqua Youth Symphony (CYS)! Chautauqua Youth Symphony\nWe’ll be donating a portion of all sales—both dine-in and takeout—to support this incredible organization. But even more special\, we invite you to come in\, sit back\, and enjoy the beautiful music performed by these talented students. \nCYS is a tuition-free program that gives young musicians the opportunity to grow\, perform\, and even access instruments when needed—opening doors for so many in our community.\nLed by the passionate\, inspiring Bryan Eckenrode\, this group is truly something special.\n Come support.\n Come listen.\n Come be part of something meaningful.\n\nWe hope you’ll join us on April 21st to celebrate and support this amazing group!
URL:https://mychq.org/event/guppys-fundraiser-for-chautauqua-youth-symphony/
LOCATION:Guppy’s Restaurant & Tavern\, 4663 NY-430\, Bemus Point\, 14712\, United States
CATEGORIES:Fundraising
ATTACH;FMTTYPE=image/jpeg:https://mychq.org/wp-content/uploads/2026/03/658124761_1556167923178177_7411256002779085031_n.jpg
END:VEVENT
BEGIN:VEVENT
DTSTART;TZID=America/New_York:20260421T180000
DTEND;TZID=America/New_York:20260421T190000
DTSTAMP:20260421T054537
CREATED:20260420T151218Z
LAST-MODIFIED:20260420T151218Z
UID:10028247-1776794400-1776798000@mychq.org
SUMMARY:Business Spotlight - The Herb Mill & Greenhouse
DESCRIPTION:Join us for our annual Business Spotlight series program highlighting Becky Smith from The Herb Mill & Greenhouse. Many of you may know they are located at 228 Church St\, Niobe\, NY and have an old feed mill on the property that has been restored. \nThe Herb Mill & Greenhouse is known for their medicinal herbs\, but they also have culinary herbs\, flowers\, dried herbs\, herbal products\, planters & pots\, and many other items. They also provide classes on the use of medicinal herbs and Reiki sessions by appointment. \nWe can’t wait to hear more about their business! \nThis is not a dinner program\, but light refreshments will be provided.
URL:https://mychq.org/event/business-spotlight-the-herb-mill-greenhouse/
LOCATION:Harmony Historical Society\, 1943 Open Meadows Rd\, Ashville\, 14710\, United States
CATEGORIES:Markets & Yard Sales
ATTACH;FMTTYPE=image/jpeg:https://mychq.org/wp-content/uploads/2026/04/the-herb-mill.jpg
END:VEVENT
BEGIN:VEVENT
DTSTART;TZID=America/New_York:20260421T180000
DTEND;TZID=America/New_York:20260421T193000
DTSTAMP:20260421T054537
CREATED:20260331T165802Z
LAST-MODIFIED:20260331T165802Z
UID:10027653-1776794400-1776799800@mychq.org
SUMMARY:Family BINGO Night @ Anderson Lee Library
DESCRIPTION:A bluey themed bingo night with prizes and snacks!
URL:https://mychq.org/event/family-bingo-night-anderson-lee-library/
LOCATION:Anderson Lee Library\, 43 Main St.\, Silver Creek\, 14136\, United States
CATEGORIES:Library
ATTACH;FMTTYPE=image/jpeg:https://mychq.org/wp-content/uploads/2026/03/657312172_1334123335415842_2967982898582956242_n.jpg
ORGANIZER;CN="Anderson Lee Library":MAILTO:director@andersonleelibrary.org
END:VEVENT
BEGIN:VEVENT
DTSTART;TZID=America/New_York:20260421T180000
DTEND;TZID=America/New_York:20260421T200000
DTSTAMP:20260421T054537
CREATED:20260223T174944Z
LAST-MODIFIED:20260223T175024Z
UID:10026598-1776794400-1776801600@mychq.org
SUMMARY:Global Perspectives Book Club - Questions for Ada
DESCRIPTION:Book: Questions for AdaAuthor: Ijeoma UmebinyuoGenre: Poetry \nDescription:The artistry of Questions for Ada defies words\, embodying the pain\, the passion\, and the power of love rising from the depths of our souls. Ijeoma Umebinyuo’s poetry is a flower that will blossom in the spirit of every reader as she shares her heart with raw candor. From lyrical lushness to smoky sensuality to raw truths\, this tome of transforming verse is the book every woman wants to write but can’t until the broken mirrors of their lives have healed. In this gifted author’s own words-“I am too full of life to be half-loved.” A bold celebration of womanhood. \nAbout the AuthorIjeoma Umebinyuo was born and raised Nigeria. Her writings have been translated to Portuguese\, Turkish\, Russian and French. She shares her heart with raw candor. There is an intimacy about her writings\, an unapologetic presentation of truths and her unconventional ways of telling a full story even in her shortest of poems. \nLink to purchase book locally through Good Neighbor Bookstore: https://goodneighborbooks.com/book/9781505984347 \nLink to RSVP via Microsoft Forms:https://forms.office.com/r/MA925MmrSG \nWe will be meeting on Tuesday\, April 21\, 2026 at 6pm in the Fenn Library at St. Luke’s Church (in the undercroft\, behind the Johnson Stage). PLEASE NOTE TIME CHANGE. \nNext meeting: Tuesday\, June 23\, 2026 at 6pm
URL:https://mychq.org/event/cultural-celebration-of-nowruz/
LOCATION:St. Luke’s Episcopal Church\, 410 N Main St\, Jamestown\, 14701\, United States
CATEGORIES:Books & Reading
ATTACH;FMTTYPE=image/jpeg:https://mychq.org/wp-content/uploads/2026/02/635108927_894149910034603_8065077190622684448_n.jpg
END:VEVENT
BEGIN:VEVENT
DTSTART;TZID=America/New_York:20260421T183000
DTEND;TZID=America/New_York:20260421T200000
DTSTAMP:20260421T054537
CREATED:20260313T201516Z
LAST-MODIFIED:20260313T201516Z
UID:10027264-1776796200-1776801600@mychq.org
SUMMARY:Earth Day Kickoff Film Screening of "The Big Year"
DESCRIPTION:Join us for a special Earth Day celebration at the Robert H. Jackson Center on April 21 at 6:30 PM for a screening of the beloved birding comedy The Big Year. \nGather with fellow nature lovers for a fun\, feel-good film that captures the joy of birding and the thrill of spring migration. We’ll also share a preview of upcoming community events as we head into one of the most exciting seasons of the year outdoors. \nCelebrate Earth Day with community\, conservation\, and a little friendly birding competition. Purchase tickets online for a $10 suggested donation or at the door. \nWe hope to see you there!  \n—- \nThe venue offers accessible parking\, ramps\, and an elevator leading to the theater\, which seats up to 180 people. Theater chairs are 20.5″ wide\, and there is space for wheelchairs and guests who wish to bring their own chairs. Listening devices are also available. Should you have any questions or needs you wish you discuss in advance of attending this event\, please contact Justina: justina@chautauquawatershed.org
URL:https://mychq.org/event/earth-day-kickoff-film-screening-of-the-big-year/
LOCATION:Robert H. Jackson Center\, 305 E. 4th St.\, Jamestown\, NY\, 14701\, United States
CATEGORIES:Movie
ATTACH;FMTTYPE=image/jpeg:https://mychq.org/wp-content/uploads/2026/03/649502304_1472862011536549_4612149106719826841_n.jpg
ORGANIZER;CN="Chautauqua Watershed Conservancy":MAILTO:info@chautauquawatershed.org
END:VEVENT
BEGIN:VEVENT
DTSTART;TZID=America/New_York:20260421T190000
DTEND;TZID=America/New_York:20260421T203000
DTSTAMP:20260421T054537
CREATED:20260322T185227Z
LAST-MODIFIED:20260322T185227Z
UID:10027433-1776798000-1776803400@mychq.org
SUMMARY:Back-To-Earth Week
DESCRIPTION:Celebrate Earth Week with us during our Back-to-Earth Week\, happening April 21–25\, 2026  \n A full lineup of fun\, hands-on\, and feel-good events designed to bring our community together while taking a minute to pause and be present before summer chaos. \nKick things off Tuesday with Planet Earth Trivia – a lively night of trivia themed around nature\, sustainability\, animals\, and environmental pop culture. \nOn Wednesday\, join us for a Plant Swap Happy Hour! Bring a plant (or cutting) and trade with fellow plant lovers while enjoying a drink or bite to eat. \nThursday\, get creative at Paint a Pot Night\, where you’ll design your own terracotta pot with all supplies provided (plus plants available for purchase from a local business). \nThen wrap up the week on Friday & Saturday with Buy One\, Plant One! We’ll donate to plant a tree for every food or drink special purchased. Treat yourself and help us grow a forest  \nCome for one event or stay for them all. Let’s get back to earth together.
URL:https://mychq.org/event/back-to-earth-week/2026-04-21/
LOCATION:Brazil Lounge\, 10 East 4th St.\, Jamestown\, NY\, 14701\, United States
CATEGORIES:Outdoors & Nature
ATTACH;FMTTYPE=image/jpeg:https://mychq.org/wp-content/uploads/2026/03/655114260_1476185304506540_7588652332619627748_n.jpg
END:VEVENT
BEGIN:VEVENT
DTSTART;TZID=America/New_York:20260421T190000
DTEND;TZID=America/New_York:20260421T210000
DTSTAMP:20260421T054537
CREATED:20250708T200024Z
LAST-MODIFIED:20250708T200024Z
UID:10019490-1776798000-1776805200@mychq.org
SUMMARY:Lake Shore Center for the Arts Free Classic Movie Night
DESCRIPTION:JUNE 2025 THROUGH MAY 2026 FREE MOVIES\n3rd Tuesday of every month at 7 PM in the theater-FREE!\nJune THE LADY VANISHES 1938 starring Margaret Lockwood and Michael Redgrave-Directed by Alfred Hitchcock\nJuly SHADOW OF DOUBT 1943 starring Joseph Cotton and Teresa Wright -Directed by Alfred Hitchcock\nAugust YOUNG AND INNOCENT 1937 starring Nova Pilebeam\, Derrick De Marney and Percy Marmont-Directed by Alfred Hitchcock\nSeptember THE PARADINE CASE 1947 starring Gregory Peck and Ann Todd=Directed by Alfred Hitchcock\nOctober SABOTAGE 1936 starring Oskar Holmolka and Sylvia Sidney-directed by Alfred Hitchcock\nNovember SPELLBOUND 1941 starring Gregory Peck and Ingram Bergman-directed by Alfred Hitchcock\nDecember NOTORIOUS 1946 starring Cary Grant and Ingrid Bergmen-directed by Alfred Hitchcock\nJanuary THE MAN WHO KNEW TOO MUCH 1934 starring Peter Lorre and Edna Best\nFebruary THE LADY VANISHES 1938 starring Michael Redgrave and Margaret Lockwood-directed by Alfred Hitchcock\nMarch REAR WINDOW 1954 starring James Stewart and Grace Kelly-directed by Alfred Hitchcock\nApril VERTIGO 1958 starring James Stewart and Kim Novak-directed by Alfred Hitchcock\nMay SECRET AGENT 1936 starring Peter Lorre and Madeline Carroll directed by Alfred Hitchcock
URL:https://mychq.org/event/lake-shore-center-for-the-arts-free-classic-movie-night/2026-04-21/
LOCATION:Lake Shore Center For The Arts\, 49 S Portage St\, Westfield\, 14787\, United States
CATEGORIES:Movie
ATTACH;FMTTYPE=image/jpeg:https://mychq.org/wp-content/uploads/2025/04/updated-logo-n-popcorn-2.jpg
END:VEVENT
BEGIN:VEVENT
DTSTART;TZID=America/New_York:20260421T190000
DTEND;TZID=America/New_York:20260421T210000
DTSTAMP:20260421T054537
CREATED:20260326T202224Z
LAST-MODIFIED:20260326T202224Z
UID:10027591-1776798000-1776805200@mychq.org
SUMMARY:Lecture: George Washington's Connections to Chautauqua County
DESCRIPTION:Chautauqua County Historian Norman Carlson will talk about George Washington’s connections to Chautauqua County. How close did he come? Chautauqua County on maps he used and maps he drew. On the route for his most extensive military offensive in the Revolutionary War. Part of plans for national transportation improvements. Local response to his death. Incorporated into a new religion created less than 10 miles from Chautauqua County. Local people who knew him. And he did NOT sleep here. \nThe 2026 Fenton History Center Lecture Series features evening lectures between April and October. This event is free and open to the public. Lectures are held in the dining room at the Gov. Reuben Fenton mansion. They are also streamed via Facebook. Donations are appreciated to support the Fenton History Center’s mission to preserve local history and provide educational opportunities. \nThank you to our sponsor: Rodgers Land Surveying.
URL:https://mychq.org/event/lecture-george-washingtons-connections-to-chautauqua-county/
LOCATION:Fenton History Center\, 67 Washington St\, Jamestown\, 14701\, United States
CATEGORIES:Government & History
ATTACH;FMTTYPE=image/jpeg:https://mychq.org/wp-content/uploads/2026/03/656242106_1375634864605033_7502374257380255518_n.jpg
ORGANIZER;CN="Fenton History Center":MAILTO:info@fentonhistorycenter.org
END:VEVENT
END:VCALENDAR